BEGIN:VCALENDAR
VERSION:2.0
PRODID:-//UM//UM*Events//EN
CALSCALE:GREGORIAN
BEGIN:VTIMEZONE
TZID:America/Detroit
TZURL:http://tzurl.org/zoneinfo/America/Detroit
X-LIC-LOCATION:America/Detroit
BEGIN:DAYLIGHT
TZOFFSETFROM:-0500
TZOFFSETTO:-0400
TZNAME:EDT
DTSTART:20070311T020000
RRULE:FREQ=YEARLY;BYMONTH=3;BYDAY=2SU
END:DAYLIGHT
BEGIN:STANDARD
TZOFFSETFROM:-0400
TZOFFSETTO:-0500
TZNAME:EST
DTSTART:20071104T020000
RRULE:FREQ=YEARLY;BYMONTH=11;BYDAY=1SU
END:STANDARD
END:VTIMEZONE
BEGIN:VEVENT
DTSTAMP:20241022T092205
DTSTART;TZID=America/Detroit:20241031T193000
DTEND;TZID=America/Detroit:20241031T213000
SUMMARY:Film Screening:Halaloween: A Muslim Horror Film Festival –  *Three* (UAE\, 2024) Screening & US Premiere
DESCRIPTION:This screening is ONLY in person at the State Theatre in Ann Arbor. Reserve your free tickets here: https://bit.ly/ThreeOct31\n   \n   Welcome to Halaloween: A Muslim Horror Film Festival 2024!\n   \n   What is Halaloween? Halaloween screens horror films from across the globe that were made by\, for\, or about Muslims\, to understand: “What scares Muslim audiences? Are horror movies halal?”\n   \nThis year’s 2024 film festival will be in-person and online\, screening one film a week for the first half of October and culminating in one in-person event with the Palestine Fiction Council on October 16 and two in-person screenings at the State Theatre on Thursday\, October 24 and 31 at 7:30 PM. \n\n   The festival is free in person and online–but make sure to reserve tickets! Some films may not be available in certain countries. Films will be unlocked online each week of October\, and viewers will have the week to watch each film.\n   \n   We are inclusive of everyone's film needs: from new horror fans who close their eyes through most scary movies to those who love the gore–we've got films for everyone! Check the Halaloween Horror Rating in the description of each film for its scariness rating.\n   \n   The 2024 Halaloween Lineup:\n   \nOctober 10: Short films | Palestine | Morocco | Jordan | Azerbaijan\nOctober 16: Special Event: Jinn & Legends: Stories from Palestine^\nOctober 17: Warda | 2014 | Egypt\nOctober 24: In Flames | 2023 | Pakistan***\nOctober 31: Three | 2024 | UAE***\n   \n^This will be an in-person event in Ann Arbor\n*** These screenings will be in person at the State Theatre\n   \n   Reserve your tickets/seats: https://watch.eventive.org/halaloween  \n   __________________\n   \n   THIS WEEK’S FEATURE: *THREE* (2024)\n   \n   Join us for the US Premiere of the Emirati horror film *Three* (2024) on October 31st\, 7:30 PM at the State Theatre. A Q&A with the director\, Nayla Al Khaja\, and writer\, Ben Williams will follow the screening.\n   \n   \n   Reserve your free tickets now: https://watch.eventive.org/halaloween\, and check out the rest of the month’s Halaloween Horror selection!\n   \n   \n   *Three* | 2024 | 93 mins | UAE\n   Directed by: Nayla Al Khaja\n   \n   Description: A boy in Dubai is going through a mental health crisis\, prompting his mother to seek help from local and foreign sources. One unlikely man must set aside his scientific thinking in an intense ritual. Directed by the UAE’s first woman director.\n   \n   Halaloween Horror Rating: 3/5 | Rating explanation: Medium to very scary\, with some jump scares. Includes jinn\, exorcism\, possession\, black magic\, children bullying with physical violence\, and some minimal body horror.\n   \n   Religious content: Sheikhs and mullahs\, Islamic religious exorcism including Qur’an\, Islamic prayer\, jinn.\n\n   __________________\n\n*Halaloween: A Muslim Horror Film Festival *is brought to you by the Global Islamic Studies Center at the University of Michigan and co-sponsored by the Middle East Studies Department\, the Center for Middle Eastern and North African Studies\, the African Studies Center\,  American Culture\, Arab and Muslim American Studies\, the Center for South Asian Studies\, the Digital Islamic Studies Center\, Center for Russian\, East European\, and Eurasian Studies\, the International Institute\, the Department of Afroamerican and African Studies\, the Department of Film\, Television\, and Media\, the Institute for Research on Women & Gender\, and the University of Michigan Library. This event is free and open to all.  To watch the remaining Halaloween films\, visit http://watch.eventive.org/halaloween.\n   \n   For more events from the Global Islamic Studies Center at the University of Michigan\, please visit ii.umich.edu/islamicstudies.\n   \n   Join our Email newsletter: https://myumi.ch/nbW83\n   Islamic Studies Minor: https://myumi.ch/R5YnQ\n   Email islamicstudies@umich.edu\n   Masters Program: https://myumi.ch/v2gVP\n   Email MIRS-info@umich.edu\n   \n   Stay updated on our upcoming events by following our socials here:\n   Facebook: UmichGISC – https://www.facebook.com/UmichGISC/\n   Twitter: @umichgisc – https://twitter.com/umichGISC\n   If you have any questions\, feel free to reach out to islamicstudies@umich.edu.\n  \nIf there is anything we can do to make this event accessible to you\, please contact islamicstudies@umich.edu. Please be aware that advance notice is necessary as some accommodations may require more time for the university to arrange.
UID:126671-21857510@events.umich.edu
URL:https://events.umich.edu/event/126671
CLASS:PUBLIC
STATUS:CONFIRMED
CATEGORIES:Film,Global Islamic Studies,Halaloween,Halloween,In Person
LOCATION:Off Campus Location
CONTACT:
END:VEVENT
BEGIN:VEVENT
DTSTAMP:20241018T181710
DTSTART;TZID=America/Detroit:20241031T193000
DTEND;TZID=America/Detroit:20241031T210000
SUMMARY:Performance:Horszowski Trio
DESCRIPTION:As part of a residency hosted by the Department of Chamber Music\, the Horszowski Trio performs a guest recital. The ensemble members are:\nJesse Mills\, violin\nOle Akahosi\, cello\nRieko Aizawa\, piano\n\nPROGRAM\nHaydn\, Trio in E Minor\nSchönberg\, Six Little Piano Pieces\nBolcom\, Introduzione e Rondo: Haydn Go Seek \nMendelssohn\, Piano Trio No. 2 in C minor \n\nGiving performances that are “lithe\, persuasive” (*The New York Times*)\, “eloquent and enthralling” (*The Boston Globe*)\, and described as “the most compelling American group to come on the scene” (*The New Yorker*)\, the Horszowski Trio has quickly become a vital force in the international chamber music world. Since their debut performance in New York City in 2011\, they have toured extensively throughout North America\, Europe\, the Far East\, and India\, traversing the extensive oeuvre of traditional piano trio repertoire and introducing audiences to new music that they have commissioned and premiered. \n\nIn 2023\, the \"Horszowski Trio Prize\" was created at the Fischoff National Competition to award the piano chamber groups in both Senior and Junior divisions every year.
UID:128058-21860119@events.umich.edu
URL:https://events.umich.edu/event/128058
CLASS:PUBLIC
STATUS:CONFIRMED
CATEGORIES:Free,Music,North Campus
LOCATION:Earl V. Moore Building - Britton Recital Hall
CONTACT:
END:VEVENT
BEGIN:VEVENT
DTSTAMP:20240801T113905
DTSTART;TZID=America/Detroit:20241031T200000
SUMMARY:Performance:Anna Tivel
DESCRIPTION:\"Anna Tivel\, we will never cease to tell you\, is one of the finest songwriters of her generation.\" –Americana UK\n\nLiving Thing\, the newest full-length album from Oregon-based songwriter Anna Tivel\, is an arcing dive into the existential. Written through the tumultuous eyes of 2020 and recorded in Eau Claire\, WI in profound collaboration with long-time friend and producer Shane Leonard\, these are songs of struggle and aliveness expressed with great joy. \n\n“I wrote feverishly in the strange chaos of that year\, suddenly out of work and attempting to understand the shifting human fabric\, the depth of desperation\, and the overwhelming tenacity of spirit. The resulting songs felt rhythmic and vital\, with more melody and soaring chorus than I’ve explored in the past. There was no way and no means to gather a full band\, and I brought the songs to Shane’s doorstep knowing and fully trusting the skill and exuberance of his creative imagination. Shane stripped everything down to the studs and we rebuilt it together\, just the two of us for a month in his garage studio\, Shane dreaming up each sonic layer while I chased the lyrics to one last double chorus.”
UID:123677-21851353@events.umich.edu
URL:https://events.umich.edu/event/123677
CLASS:PUBLIC
STATUS:CONFIRMED
CATEGORIES:Ark,Mutotix
LOCATION:ARK Reserved
CONTACT:
END:VEVENT
END:VCALENDAR