BEGIN:VCALENDAR
VERSION:2.0
PRODID:-//UM//UM*Events//EN
CALSCALE:GREGORIAN
BEGIN:VTIMEZONE
TZID:America/Detroit
TZURL:http://tzurl.org/zoneinfo/America/Detroit
X-LIC-LOCATION:America/Detroit
BEGIN:DAYLIGHT
TZOFFSETFROM:-0500
TZOFFSETTO:-0400
TZNAME:EDT
DTSTART:20070311T020000
RRULE:FREQ=YEARLY;BYMONTH=3;BYDAY=2SU
END:DAYLIGHT
BEGIN:STANDARD
TZOFFSETFROM:-0400
TZOFFSETTO:-0500
TZNAME:EST
DTSTART:20071104T020000
RRULE:FREQ=YEARLY;BYMONTH=11;BYDAY=1SU
END:STANDARD
END:VTIMEZONE
BEGIN:VEVENT
DTSTAMP:20241007T181711
DTSTART;TZID=America/Detroit:20241031T200000
DTEND;TZID=America/Detroit:20241031T213000
SUMMARY:Performance:Ye Mee Kim\, organ
DESCRIPTION:Graduate student Ye Mee Kim performs a recital.
UID:127505-21859238@events.umich.edu
URL:https://events.umich.edu/event/127505
CLASS:PUBLIC
STATUS:CONFIRMED
CATEGORIES:Free,Music
LOCATION:Hill Auditorium
CONTACT:
END:VEVENT
BEGIN:VEVENT
DTSTAMP:20241215T120008
DTSTART;TZID=America/Detroit:20241101T000000
DTEND;TZID=America/Detroit:20241101T235959
SUMMARY:Meeting:Check Out the P4P Public Calendar Here
DESCRIPTION:bit.ly/p4pumcalendar
UID:127131-21858490@events.umich.edu
URL:https://events.umich.edu/event/127131
CLASS:PUBLIC
STATUS:CONFIRMED
CATEGORIES:
LOCATION:Online
CONTACT:
END:VEVENT
BEGIN:VEVENT
DTSTAMP:20241103T180013
DTSTART;TZID=America/Detroit:20241101T040000
DTEND;TZID=America/Detroit:20241101T235959
SUMMARY:Other:2024 Brown Tournament
DESCRIPTION:Come compete with us in Sparring and Poomsae at Brown University!
UID:126972-21858198@events.umich.edu
URL:https://events.umich.edu/event/126972
CLASS:PUBLIC
STATUS:CONFIRMED
CATEGORIES:
LOCATION:Brown University
CONTACT:
END:VEVENT
END:VCALENDAR