BEGIN:VCALENDAR
VERSION:2.0
PRODID:-//UM//UM*Events//EN
CALSCALE:GREGORIAN
BEGIN:VTIMEZONE
TZID:America/Detroit
TZURL:http://tzurl.org/zoneinfo/America/Detroit
X-LIC-LOCATION:America/Detroit
BEGIN:DAYLIGHT
TZOFFSETFROM:-0500
TZOFFSETTO:-0400
TZNAME:EDT
DTSTART:20070311T020000
RRULE:FREQ=YEARLY;BYMONTH=3;BYDAY=2SU
END:DAYLIGHT
BEGIN:STANDARD
TZOFFSETFROM:-0400
TZOFFSETTO:-0500
TZNAME:EST
DTSTART:20071104T020000
RRULE:FREQ=YEARLY;BYMONTH=11;BYDAY=1SU
END:STANDARD
END:VTIMEZONE
BEGIN:VEVENT
DTSTAMP:20240610T105645
DTSTART;TZID=America/Detroit:20241121T200000
SUMMARY:Performance:Chris DuPont // Spencer LaJoye
DESCRIPTION:Chris DuPont is a proud Michigan-native tunesmith\, endlessly reimagining the indie/folk paradigm. With an unmistakable ethereal tenor\, diverse fingerstyle guitar work\, and a taste for the cinematic\, DuPont steers the classic eloquence and lyricism of 70’s Americana into the iridescent haze of indie pop.  His songs are dreamy tapestries that ask questions about love\, permanence\, grief\, lineage\, and the frailty of human memory.\n\nSpencer LaJoye makes queer indie folk music for everyone. With a coy smile\, a wink to the back row\, and carefree expertise\, they spin their crystalline vocals through a loop pedal while strumming the weathered acoustic guitar they acquired for leading worship in high school. LaJoye is an East Coast singer/songwriter with Midwest roots\, a classically-trained violinist with a proclivity for Broadway vocals\, and a student of Americana music with a theology degree hanging in their studio. \n\nhttps://www.chrisdupontmusic.com/\nhttps://www.spencerlajoye.com/
UID:122016-21847993@events.umich.edu
URL:https://events.umich.edu/event/122016
CLASS:PUBLIC
STATUS:CONFIRMED
CATEGORIES:Concert,Music,Mutotix,Ark
LOCATION:Off Campus Location
CONTACT:
END:VEVENT
BEGIN:VEVENT
DTSTAMP:20241119T181648
DTSTART;TZID=America/Detroit:20241121T200000
DTEND;TZID=America/Detroit:20241121T213000
SUMMARY:Performance:Emily Brownlee\, oboe
DESCRIPTION:Graduate student Emily Brownlee performs a recital.
UID:128584-21861332@events.umich.edu
URL:https://events.umich.edu/event/128584
CLASS:PUBLIC
STATUS:CONFIRMED
CATEGORIES:Free,Music,North Campus
LOCATION:Walgreen Drama Center - Stamps Auditorium
CONTACT:
END:VEVENT
BEGIN:VEVENT
DTSTAMP:20241114T163739
DTSTART;TZID=America/Detroit:20241121T200000
DTEND;TZID=America/Detroit:20241121T220000
SUMMARY:Lecture / Discussion:Exploring the 19th Century Solar System
DESCRIPTION:Explore the exciting mysteries and discoveries of the 19th Century Solar System and see Saturn through a 168-year-old telescope!\n\n‌\n\nWhat were these dozens of new planets? How did they figure out the scale of the Solar System? How did Detroit Observatory astronomer’s use some of the most powerful telescopes in the world to discover asteroids and comets? Join us for unique presentations\, hands-on activities\, and telescope observing to discover the 19th century solar system and see how far we’ve come today!\n\n‌\n\nProgram begins at 8PM and is less than 2 hours. Telescope observing is weather dependent. Registration is FREE!
UID:129122-21862166@events.umich.edu
URL:https://events.umich.edu/event/129122
CLASS:PUBLIC
STATUS:CONFIRMED
CATEGORIES:Telescopes,telescope viewing,Telescope Observation,Science,observing,free,educational,Education,astronomy,Astronomers
LOCATION:Detroit Observatory
CONTACT:
END:VEVENT
END:VCALENDAR