BEGIN:VCALENDAR
VERSION:2.0
PRODID:-//UM//UM*Events//EN
CALSCALE:GREGORIAN
BEGIN:VTIMEZONE
TZID:America/Detroit
TZURL:http://tzurl.org/zoneinfo/America/Detroit
X-LIC-LOCATION:America/Detroit
BEGIN:DAYLIGHT
TZOFFSETFROM:-0500
TZOFFSETTO:-0400
TZNAME:EDT
DTSTART:20070311T020000
RRULE:FREQ=YEARLY;BYMONTH=3;BYDAY=2SU
END:DAYLIGHT
BEGIN:STANDARD
TZOFFSETFROM:-0400
TZOFFSETTO:-0500
TZNAME:EST
DTSTART:20071104T020000
RRULE:FREQ=YEARLY;BYMONTH=11;BYDAY=1SU
END:STANDARD
END:VTIMEZONE
BEGIN:VEVENT
DTSTAMP:20241106T123144
DTSTART;TZID=America/Detroit:20241022T160000
DTEND;TZID=America/Detroit:20241022T163000
SUMMARY:Careers / Jobs:Get to Know Boosterthon: A School Fundraising Company
DESCRIPTION:If you love the idea of impacting students\, working with an amazing team\, thriving in a high-energy environment\, and having fun\, Boosterthon is the company for you! In this virtual event\, we will explore more of what we do here at Boosterthon as well as talk through career opportunities with us!  WHO WE ARE: Booster is a vibrant\, mission-driven organization grounded in the belief that positivity and purpose are essential to creating a workplace where everyone can thrive. We are committed to fostering a culture where our team members feel empowered to achieve their full potential and make a positiveimpact on the world. Guided by our six virtues: Gratitude\, Wisdom\, Care\, Courage\, Grit\, and Celebration\, we believe in cultivating leaders who change the world. We are a fun and exciting place to work\, where every day brings new opportunities to make a difference! At Booster\, we empowerschools across the nation through innovative and engaging fundraising services. We serve elementary\, middle\, and high schools nationwide\, offering a range of services from Fun Runs to a comprehensive school fundraisingplatform. We've proudly helped over 7\,500 schools profit more than $600 million in much-needed funds. Our mission is to raise $1 billion for schools by 2027\, and we're excited about every step we take toward this goal.  WHAT TO EXPECT: During this information session\, you will hear more about what Booster does as a company and you'll get the chance to make a personal connection with each of Booster's recruiters! We'll explore what Booster's company culture looks like and what career growth opportunities there are within the company. We hope to see you there!  - Check out our Career Page to learn more and APPLY: https://www.choosebooster.com/careers
UID:125012-21854212@events.umich.edu
URL:https://events.umich.edu/event/125012
CLASS:PUBLIC
STATUS:CONFIRMED
CATEGORIES:
LOCATION:
CONTACT:
END:VEVENT
BEGIN:VEVENT
DTSTAMP:20240618T134749
DTSTART;TZID=America/Detroit:20241022T160000
DTEND;TZID=America/Detroit:20241022T173000
SUMMARY:Workshop / Seminar:How to get involved in research as an undergraduate (and what to do if you can't find a position this year)
DESCRIPTION:Getting involved in research is a great way to build your skills and get the “behind the scenes” look into the science that you later learn about in your textbooks and classes. If you’re thinking of going to graduate or medical school\, ideally you want to be starting in a lab by your sophomore year and in most cases no later than your junior year. But how do you find and apply for a position? And what do you do if there’s a pandemic and no positions are available? We’ll go over tips for both these situations.\n\nRSVP for Zoom Link: https://myumi.ch/VMZ1N
UID:108562-21819966@events.umich.edu
URL:https://events.umich.edu/event/108562
CLASS:PUBLIC
STATUS:CONFIRMED
CATEGORIES:Biopsychology\, Cognition\, And Neuroscience (Bcn),Undergraduate Students,Research,Psychology
LOCATION:Off Campus Location
CONTACT:
END:VEVENT
BEGIN:VEVENT
DTSTAMP:20241106T123153
DTSTART;TZID=America/Detroit:20241022T160000
DTEND;TZID=America/Detroit:20241022T170000
SUMMARY:Careers / Jobs:Level up with Mayo Clinic: Nurse Internship & Residency Program
DESCRIPTION:Nursing students looking to expand their knowledge and critical thinking skills are invited to learn about a variety of internship and residency opportunities offered at Mayo Clinic. The future of your career is in your hands. Make the most of it.
UID:126170-21856621@events.umich.edu
URL:https://events.umich.edu/event/126170
CLASS:PUBLIC
STATUS:CONFIRMED
CATEGORIES:
LOCATION:
CONTACT:
END:VEVENT
END:VCALENDAR