BEGIN:VCALENDAR
VERSION:2.0
PRODID:-//UM//UM*Events//EN
CALSCALE:GREGORIAN
BEGIN:VTIMEZONE
TZID:America/Detroit
TZURL:http://tzurl.org/zoneinfo/America/Detroit
X-LIC-LOCATION:America/Detroit
BEGIN:DAYLIGHT
TZOFFSETFROM:-0500
TZOFFSETTO:-0400
TZNAME:EDT
DTSTART:20070311T020000
RRULE:FREQ=YEARLY;BYMONTH=3;BYDAY=2SU
END:DAYLIGHT
BEGIN:STANDARD
TZOFFSETFROM:-0400
TZOFFSETTO:-0500
TZNAME:EST
DTSTART:20071104T020000
RRULE:FREQ=YEARLY;BYMONTH=11;BYDAY=1SU
END:STANDARD
END:VTIMEZONE
BEGIN:VEVENT
DTSTAMP:20241113T000026
DTSTART;TZID=America/Detroit:20241113T170000
DTEND;TZID=America/Detroit:20241113T180000
SUMMARY:Social / Informal Gathering:Weekly Wednesday Night Study Sessions
DESCRIPTION:Come Join us every Wednesday evening from 5-10pm at the Literature Science and Arts Building in the Transfer Student Center for a group study session. The space is dedicated during these hours for student veterans so feel free to drop in anytime during these hours. 
UID:129043-21862079@events.umich.edu
URL:https://events.umich.edu/event/129043
CLASS:PUBLIC
STATUS:CONFIRMED
CATEGORIES:
LOCATION:Literature Science and Arts Building
CONTACT:
END:VEVENT
BEGIN:VEVENT
DTSTAMP:20241104T163622
DTSTART;TZID=America/Detroit:20241113T173000
DTEND;TZID=America/Detroit:20241113T190000
SUMMARY:Lecture / Discussion:BINDx Meeting
DESCRIPTION:Please join us for our final BIndx Meeting of the semester! UM-ChemE Alum\, Lauren Sinclair\, will be joining us. She is the Principal Program Lead of Service & Hospitality at Chick-fil-A Corporate. She has also worked in consulting at McKinsey & Co. Join us for dinner and a great conversation with our guest speaker.\n\nThe Black Industrial Engineers (BIndx\, pronounced BIND-ex) group is composed of IOE students and faculty who come together informally for meaningful conversations and fellowship to promote learning\, mentoring\, and networking. The BIndx program was initiated to promote a learning space where students feel comfortable engaging with faculty. BIndx meetings occur as informal monthly discussions to help form relationships between faculty and minoritized students.  BIndx hosts a diverse group of guest speakers throughout the semester with a specific focus to facilitate conversations\, build connections\, and empower self-reflection.\n\nRSVP here if you plan to attend by Wednesday\, November 6 at 4pm: https://docs.google.com/forms/d/e/1FAIpQLScif8bdN3oCBd6zcdy8ui7tnfuuUubgurfEffN65QeE05R1HQ/viewform\n\nDinner will be served ONLY to those who RSVP. \nDue to capacity constraints\, this event is limited to 40 people.
UID:128695-21861521@events.umich.edu
URL:https://events.umich.edu/event/128695
CLASS:PUBLIC
STATUS:CONFIRMED
CATEGORIES:Food,Industrial And Operations Engineering,Ioe Alumni,Michigan Engineering,Networking,Undergraduate Students
LOCATION:Industrial and Operations Engineering Building - 2717
CONTACT:
END:VEVENT
BEGIN:VEVENT
DTSTAMP:20241105T144127
DTSTART;TZID=America/Detroit:20241113T173000
DTEND;TZID=America/Detroit:20241113T190000
SUMMARY:Community Service:BLI Community Meeting - Love & Gratitude
DESCRIPTION:At this meeting\, the BLI will be spreading love by making cards and sending them to Letters of Love to be distributed to children in hospitals. We will be emphasizing the importance of gratitude and giving back. Any undergraduate student at the University of Michigan is welcome to attend!
UID:128782-21861617@events.umich.edu
URL:https://events.umich.edu/event/128782
CLASS:PUBLIC
STATUS:CONFIRMED
CATEGORIES:Art,Collaborative,Community Service,Discussion,Health & Wellness,Inclusion,Interdisciplinary
LOCATION:Weiser Hall - 10th Floor Open Space
CONTACT:
END:VEVENT
END:VCALENDAR