BEGIN:VCALENDAR
VERSION:2.0
PRODID:-//UM//UM*Events//EN
CALSCALE:GREGORIAN
BEGIN:VTIMEZONE
TZID:America/Detroit
TZURL:http://tzurl.org/zoneinfo/America/Detroit
X-LIC-LOCATION:America/Detroit
BEGIN:DAYLIGHT
TZOFFSETFROM:-0500
TZOFFSETTO:-0400
TZNAME:EDT
DTSTART:20070311T020000
RRULE:FREQ=YEARLY;BYMONTH=3;BYDAY=2SU
END:DAYLIGHT
BEGIN:STANDARD
TZOFFSETFROM:-0400
TZOFFSETTO:-0500
TZNAME:EST
DTSTART:20071104T020000
RRULE:FREQ=YEARLY;BYMONTH=11;BYDAY=1SU
END:STANDARD
END:VTIMEZONE
BEGIN:VEVENT
DTSTAMP:20241001T144929
DTSTART;TZID=America/Detroit:20241101T080000
DTEND;TZID=America/Detroit:20241101T170000
SUMMARY:Exhibition:WCEE Exhibition. Verses from a Nation in Transition. Ukraine in Photographs by Joseph Sywenkyj
DESCRIPTION:Joseph Sywenkyj is the 2024-25 Weiser Center for Europe and Eurasia’s Distinguished Fellow\,  and a Knight-Wallace Fellow at the University of Michigan. An award-winning American photographer of Ukrainian descent\, Sywenkyj has lived and worked in Ukraine for the last two decades. He has worked throughout Europe and Central Asia for numerous publications and is a frequent contributor to *The Wall Street Journal*. His photographs have been exhibited in galleries and museums\, including the United Nations Visitor’s Lobby in New York and the Taras Shevchenko National Museum in Kyiv.\n\nIf there is anything we can do to make this event accessible to you\, please contact us. Please be aware that advance notice is necessary as some accommodations may require more time for the university to arrange.
UID:123647-21851271@events.umich.edu
URL:https://events.umich.edu/event/123647
CLASS:PUBLIC
STATUS:CONFIRMED
CATEGORIES:Photo Exhibit,europe,Ukraine,Photography
LOCATION:Weiser Hall - International Institute Gallery, 547 Weiser Hall
CONTACT:
END:VEVENT
BEGIN:VEVENT
DTSTAMP:20240830T104618
DTSTART;TZID=America/Detroit:20241101T090000
DTEND;TZID=America/Detroit:20241101T163000
SUMMARY:Exhibition:Guardians: Spirits of Protection
DESCRIPTION:This fall\, the Residential College Art Gallery proudly presents Guardians: Spirits of Protection\, an exhibition of evocative figurative sculptures by renowned artist Ann Savageau. The exhibition will be on display from August 26 to November 2\, 2024.\n\nWe invite the university community and the general public to explore this moving collection that delves into themes of loss\, grief\, healing\, and protection. The seventeen life-size figures\, crafted from found objects and beach flotsam\, are a poignant response to the tragedies in Savageau’s life\, including the loss of her three children. Through this deeply personal and powerful work\, Savageau reimagines discarded materials as symbols of new life and resilience\, reflecting the healing power of art.\n\nAnn Savageau will be in residence in Ann Arbor and the Residential College from September 16-20 and October 20-25\, 2024. During her stay\, you are warmly invited to join us for a special artist reception on October 23\, from 4:30 to 6:00 pm in the Gallery. Prior to the reception\, there will be an artist's talk in the Keene Theater at 3:30 pm\, where Savageau will share insights into her creative process and the inspiration behind Guardians.\n\nAnn Savageau\, a former Studio Art instructor at the Residential College from 1978 to 2002\, is not only an artist but also an activist and educator. Her contributions to the Prison Creative Arts Project\, where she taught a weekly art workshop at Jackson Prison for four years\, showcase her commitment to using art as a tool for social change.\n\nDon't miss this opportunity to witness the transformative impact of Savageau's work and engage with her during her residency. We look forward to seeing you at the RC Art Gallery.\n\nImportant Dates:\n\nExhibition: August 26 – November 2\, 2024\nArtist's Talk: October 23\, 2024\, at 3:30 pm\, RC Keene Theater\nArtist Reception: October 23\, 2024\, from 4:30 – 6:00 pm\, RC Art Gallery
UID:125338-21854825@events.umich.edu
URL:https://events.umich.edu/event/125338
CLASS:PUBLIC
STATUS:CONFIRMED
CATEGORIES:arts,artists and curators,artists,Art,Community Engagement,Community,Arts Initiative,arts at michigan
LOCATION:East Quadrangle - RC Art Gallery
CONTACT:
END:VEVENT
BEGIN:VEVENT
DTSTAMP:20241205T123531
DTSTART;TZID=America/Detroit:20241101T090000
DTEND;TZID=America/Detroit:20241101T100000
SUMMARY:Exercise / Fitness:Lifetime Fitness for Senior Adults
DESCRIPTION:Lifetime Fitness classes are offered at Briarwood Mall in the JCPenney wing. No experience necessary. Classes are specifically designed for older adults\, however\, everyone is welcome. Classes are held Monday-Saturday from 9-10am. LTF classes at Briarwood are free\, but please consider making a tax-deductible donation.
UID:128463-21860902@events.umich.edu
URL:https://events.umich.edu/event/128463
CLASS:PUBLIC
STATUS:CONFIRMED
CATEGORIES:fitness classes,yoga
LOCATION:Off Campus Location - JCPenney Wing
CONTACT:
END:VEVENT
END:VCALENDAR