BEGIN:VCALENDAR
VERSION:2.0
PRODID:-//UM//UM*Events//EN
CALSCALE:GREGORIAN
BEGIN:VTIMEZONE
TZID:America/Detroit
TZURL:http://tzurl.org/zoneinfo/America/Detroit
X-LIC-LOCATION:America/Detroit
BEGIN:DAYLIGHT
TZOFFSETFROM:-0500
TZOFFSETTO:-0400
TZNAME:EDT
DTSTART:20070311T020000
RRULE:FREQ=YEARLY;BYMONTH=3;BYDAY=2SU
END:DAYLIGHT
BEGIN:STANDARD
TZOFFSETFROM:-0400
TZOFFSETTO:-0500
TZNAME:EST
DTSTART:20071104T020000
RRULE:FREQ=YEARLY;BYMONTH=11;BYDAY=1SU
END:STANDARD
END:VTIMEZONE
BEGIN:VEVENT
DTSTAMP:20240814T093222
DTSTART;TZID=America/Detroit:20241101T090000
DTEND;TZID=America/Detroit:20241101T170000
SUMMARY:Exhibition:Susan Moran Exhibition
DESCRIPTION:Susan Moran’s work is inspired by the natural world and our place in it.  She collects and arranges images\, builds and subtracts\, and uses processes that suit the concepts and gives the pieces a reason for existing as textiles.  Simultaneously she strives to make the medium  influence the  outcome in such a way that cloth and image meld together. Moran uses  silkscreen\, shibori\, and stitching to embed images from her daily walks into the fabric. it's important that the work builds slowly\, involving meditative processes that connect her to the cloth and the source of the design.\n\nGallery hours:  Monday-Friday\, 9 am to 5pm or by appointment serrag@med.umich.edu
UID:124224-21852726@events.umich.edu
URL:https://events.umich.edu/event/124224
CLASS:PUBLIC
STATUS:CONFIRMED
CATEGORIES:Alumni,Art,Culture,Detroit,Exhibition,Free,Graduate Students,North Campus,Visual Arts
LOCATION:North Campus Research Complex Building 18 - Rotunda Gallery
CONTACT:
END:VEVENT
BEGIN:VEVENT
DTSTAMP:20240731T001525
DTSTART;TZID=America/Detroit:20241101T093000
DTEND;TZID=America/Detroit:20241101T120000
SUMMARY:Workshop / Seminar:MORE (FACULTY): Getting Your Mentoring Relationship Off to a Good Start
DESCRIPTION:This workshop helps enhance the mentoring relationship between the student and faculty mentor by facilitating the development of shared expectations. Mentors and mentees work independently in separate sessions to identify their own objectives and styles\, and consider strategies for dealing with possible challenges. Then\, student-faculty pairs work together to develop a written mentoring plan as a means of codifying some of the most important elements (needs\, goals\, mutual expectations) of a two-way mentoring relationship. Over 82 percent of Rackham doctoral students who have written mentoring plans report those plans to be useful.\nFaculty who have attended a MORE workshop in the previous academic year should feel free to join the workshop only for the student-faculty work together (the last hour of the workshop). Registration is still required of both the faculty and the student.\n\nPart I\, Faculty-Only and Student-Only Sessions\, 9:30 to 11:00 a.m.\nPart II\, Faculty and Student Joint Session\, 11:10 a.m. to 12:00 p.m.\nPart III\, Optional Additional One-on-One Time\, 12:00 to 1:00 p.m.\n\nSeparate registration for students is available at: https://sessions.studentlife.umich.edu/p/track/11990.\nRegistration is required at https://myumi.ch/g16qb.\nWe want to ensure full and equitable participation in our events. If an accommodation would promote your full participation in this event\, please follow the registration link to indicate your accommodation requirements. Please let us know as soon as possible in order to have adequate time\, preferably one week\, to arrange for your requested accommodations or an effective alternative.
UID:123699-21851374@events.umich.edu
URL:https://events.umich.edu/event/123699
CLASS:PUBLIC
STATUS:CONFIRMED
CATEGORIES:Graduate Students
LOCATION:Off Campus Location
CONTACT:
END:VEVENT
BEGIN:VEVENT
DTSTAMP:20240731T001525
DTSTART;TZID=America/Detroit:20241101T093000
DTEND;TZID=America/Detroit:20241101T120000
SUMMARY:Workshop / Seminar:MORE (STUDENT): Getting Your Mentoring Relationship Off to a Good Start
DESCRIPTION:This workshop helps enhance the mentoring relationship between the student and faculty mentor by facilitating the development of shared expectations. Mentors and mentees work independently in separate sessions to identify their own objectives and styles\, and consider strategies for dealing with possible challenges. Then\, student-faculty pairs work together to develop a written mentoring plan as a means of codifying some of the most important elements (needs\, goals\, mutual expectations) of a two-way mentoring relationship. Over 82 percent of Rackham doctoral students who have written mentoring plans report those plans to be useful.\nFaculty who have attended a MORE workshop in the previous academic year should feel free to join the workshop only for the student-faculty work together (the last hour of the workshop). Registration is still required of both the faculty and the student.\nPart I: Parallel Sessions\, 9:30 to 11:00 a.m.\n\nFaculty-Only Session\nStudent-Only Session\n\nPart II: Joint Session\, 11:10 a.m. to 12:00 p.m.\n\nFaculty and Student Joint Session\n\nPart III: Additional One-on-One Mentoring Time\, 12:00 to 1:00 p.m.\n\nFaculty and Student Joint Session\n\nSeparate registration for faculty is available at: https://sessions.studentlife.umich.edu/track/event/16679.\nRegistration is required at https://myumi.ch/4j4ME.\nWe want to ensure full and equitable participation in our events. If an accommodation would promote your full participation in this event\, please follow the registration link to indicate your accommodation requirements. Please let us know as soon as possible in order to have adequate time\, preferably one week\, to arrange for your requested accommodations or an effective alternative.
UID:123700-21851375@events.umich.edu
URL:https://events.umich.edu/event/123700
CLASS:PUBLIC
STATUS:CONFIRMED
CATEGORIES:Graduate Students
LOCATION:Off Campus Location
CONTACT:
END:VEVENT
END:VCALENDAR