BEGIN:VCALENDAR
VERSION:2.0
PRODID:-//UM//UM*Events//EN
CALSCALE:GREGORIAN
BEGIN:VTIMEZONE
TZID:America/Detroit
TZURL:http://tzurl.org/zoneinfo/America/Detroit
X-LIC-LOCATION:America/Detroit
BEGIN:DAYLIGHT
TZOFFSETFROM:-0500
TZOFFSETTO:-0400
TZNAME:EDT
DTSTART:20070311T020000
RRULE:FREQ=YEARLY;BYMONTH=3;BYDAY=2SU
END:DAYLIGHT
BEGIN:STANDARD
TZOFFSETFROM:-0400
TZOFFSETTO:-0500
TZNAME:EST
DTSTART:20071104T020000
RRULE:FREQ=YEARLY;BYMONTH=11;BYDAY=1SU
END:STANDARD
END:VTIMEZONE
BEGIN:VEVENT
DTSTAMP:20240130T121550
DTSTART;TZID=America/Detroit:20241101T100000
DTEND;TZID=America/Detroit:20241101T200000
SUMMARY:Exhibition:A Gathering
DESCRIPTION:Welcome. Make Yourself At Home.\n \nA Gathering brings together the newest works of art to enter UMMA’s collection — many on display here for the first time. \n \nAs a free\, public museum\, UMMA staff takes care of art for the benefit of the community and society at large. The works on view in this exhibition\, all brought into the Museum between 2019 and the present\, shows how institutions like UMMA are becoming more permeable to societal challenges\, and more nimble in responding to them in service to all in their communities. In this exhibition you will find works that reflect on how global migrations\, race\, gender\, and ecological change shape the way we engage with the world and inform our visions for the future.\n \nThis collection of artistic engagements with issues give us tools to envision who we want to be as individuals\, as a museum\, and as a society\, connected to one another across space and experience.\n \nSo gather here to take in these latest works of art brought here for you. Gather here to be engulfed in their forms and meanings\, to discuss their takes\, to learn\, to disagree. Gather to relax\, make a friend\, drink a coffee\, finish the daily Wordle. Gather to feel full\, to be moved and inspired by all the possible imaginations of what is yet to come.\n \nCurated by Félix Zamora Gómez Irving Stenn\, Jr. Fellow in Public Humanities & Museum Pedagogy\n\nLead support for this exhibition is provided by Lizzie and Jonathan Tisch\, the Richard and Rosann Noel Endowment\, and the University of Michigan Office of the Provost.\n 
UID:107870-21817952@events.umich.edu
URL:https://events.umich.edu/event/107870
CLASS:PUBLIC
STATUS:CONFIRMED
CATEGORIES:Art,UMMA,Staff,Museum,Humanities,Exhibition,Free
LOCATION:Museum of Art - Lizzie and Jonathan Tisch Apse
CONTACT:
END:VEVENT
BEGIN:VEVENT
DTSTAMP:20241028T145132
DTSTART;TZID=America/Detroit:20241101T100000
SUMMARY:Social / Informal Gathering:Fragel Friday
DESCRIPTION:Winter is coming\, but don’t let it chill your vibe! Bundle up and come enjoy some scrumptious fragels with us! Join the connect@michiganengineering program this Friday\, November 1st at 10 AM on the Grove. \n\nThis is the last Fragel Friday of the fall\, but don’t worry—we’ll be back in the spring...\n\nSwing by and treat yourself before they disappear (limited quantities)! \n\nP.S. Are you going to miss us? You don't have to...look out for Month of Gratitude next Wednesday\, November 6th and relax before final exams at De-Stress Fest on December 10th.
UID:128424-21860801@events.umich.edu
URL:https://events.umich.edu/event/128424
CLASS:PUBLIC
STATUS:CONFIRMED
CATEGORIES:Undergraduate Students,Undergraduate,Outdoors,North Campus,Michigan Engineering,In Person,Graduate Students,Graduate,Free,Food,Engineering,Community Engagement,College Of Engineering,Breakfast
LOCATION:The Grove
CONTACT:
END:VEVENT
BEGIN:VEVENT
DTSTAMP:20241022T095723
DTSTART;TZID=America/Detroit:20241101T100000
DTEND;TZID=America/Detroit:20241101T160000
SUMMARY:Exhibition:GalleryDAAS Exhibition: \"Hip Hop @ 50\"
DESCRIPTION:It's back! Brought to you by the Department of Afroamerican and African Studies (DAAS)\, GalleryDAAS celebrates the 50th anniversary of hip hop with “Hip Hop @ 50\,” an exhibition highlighting this constantly evolving phenomenon. Explore various aspects of hip hop culture\, including definitions\, dates\, divas\, the Detroit scene\, and a special tribute to J Dilla (James Dewitt Yancey)\, a prolific producer. Through examining the five pillars of hip hop — rapping\, break dancing\, DJing\, graffiti and historical knowledge — it becomes evident that what began as a musical genre has impacted society\, fashion\, language\, entertainment and even politics. Visitors will also be treated to a GREAT playlist! The gallery is open Monday–Friday from 10 a.m. to 4 p.m.
UID:122094-21860333@events.umich.edu
URL:https://events.umich.edu/event/122094
CLASS:PUBLIC
STATUS:CONFIRMED
CATEGORIES:african and afroamerican studies,african and african american studies,AEM Featured
LOCATION:Haven Hall - G648
CONTACT:
END:VEVENT
END:VCALENDAR