BEGIN:VCALENDAR
VERSION:2.0
PRODID:-//UM//UM*Events//EN
CALSCALE:GREGORIAN
BEGIN:VTIMEZONE
TZID:America/Detroit
TZURL:http://tzurl.org/zoneinfo/America/Detroit
X-LIC-LOCATION:America/Detroit
BEGIN:DAYLIGHT
TZOFFSETFROM:-0500
TZOFFSETTO:-0400
TZNAME:EDT
DTSTART:20070311T020000
RRULE:FREQ=YEARLY;BYMONTH=3;BYDAY=2SU
END:DAYLIGHT
BEGIN:STANDARD
TZOFFSETFROM:-0400
TZOFFSETTO:-0500
TZNAME:EST
DTSTART:20071104T020000
RRULE:FREQ=YEARLY;BYMONTH=11;BYDAY=1SU
END:STANDARD
END:VTIMEZONE
BEGIN:VEVENT
DTSTAMP:20241120T050736
DTSTART;TZID=America/Detroit:20241122T093000
DTEND;TZID=America/Detroit:20241122T153000
SUMMARY:Other:Blood Battle 2024
DESCRIPTION:We are neck and neck with Ohio State in the 2024 Blood Battle--donate now and help us beat that school to the south. More importantly\, we are facing a critical national blood shortage and every donation can impact up to three lives!\n\nAt all drives\, presenting donors will receive a free Blood Battle t-shirt\, a coupon for Washtenaw Dairy while supplies last\, and can enter into a raffle for prizes. Plus those who participate in Abbott’s \"We Give Blood\" competition receive a free one-month subscription to B1G+ and are entered to win a trip to the Big 10 championship football game in December.
UID:129325-21862455@events.umich.edu
URL:https://events.umich.edu/event/129325
CLASS:PUBLIC
STATUS:CONFIRMED
CATEGORIES:blood,competition,Free,Health & Wellness,Nursing,Pharmacy,Pre Med,Pre-Health,Public Health,service,Staff,Student Org,student organization,Undergraduate,Undergraduate Students,Volunteer,Wellness
LOCATION:Coliseum
CONTACT:
END:VEVENT
BEGIN:VEVENT
DTSTAMP:20241114T085008
DTSTART;TZID=America/Detroit:20241122T093000
DTEND;TZID=America/Detroit:20241122T103000
SUMMARY:Lecture / Discussion:Department of Astronomy 2024-2025 DEI Series Presents:
DESCRIPTION:\"The Role of Peer Mentoring in Astronomy: LUMA as an Example\"\n\nPeer mentoring offers a unique and impactful approach to professional development\, fostering supportive relationships among individuals at similar career stages. Unlike traditional hierarchical mentoring\, which pairs a senior mentor with a junior mentee\, peer mentoring reduces power dynamics and creates a more egalitarian environment. This approach can be especially beneficial in academic and research settings\, where social and cultural factors may influence traditional mentoring dynamics.\n\nIn this talk\, I will explore the impact of peer mentoring in Astronomy\, highlighting the League of Underrepresented Minoritized Astronomers (LUMA) as an example. LUMA is an international peer-mentoring program specifically designed for URM women in astronomy\, physics\, and planetary science\, including graduate students\, postdoctoral researchers\, research scientists\, and faculty. I will outline LUMA’s mission\, structure\, and key programming\, underscoring why such peer-based initiatives are essential for fostering inclusivity and professional growth within underrepresented communities.
UID:129104-21862155@events.umich.edu
URL:https://events.umich.edu/event/129104
CLASS:PUBLIC
STATUS:CONFIRMED
CATEGORIES:astronomy,astrophysics
LOCATION:West Hall - 411
CONTACT:
END:VEVENT
BEGIN:VEVENT
DTSTAMP:20241207T063129
DTSTART;TZID=America/Detroit:20241122T093000
DTEND;TZID=America/Detroit:20241122T113000
SUMMARY:Careers / Jobs:EXCEL: CV / Cover Letter Workshop (DMA Strings Seminar)
DESCRIPTION:Whether looking to tweak your current resume\, CV or cover letter or create a brand new document\, this workshop is an accessible\, deep dive on key content and format issues that can make it easy for employers to see your professional potential and experience.
UID:129296-21862422@events.umich.edu
URL:https://events.umich.edu/event/129296
CLASS:PUBLIC
STATUS:CONFIRMED
CATEGORIES:
LOCATION:Earl V. Moore Building, 3219, 1100 Baits Dr, Ann Arbor, MI 48109, USA
CONTACT:
END:VEVENT
END:VCALENDAR