BEGIN:VCALENDAR
VERSION:2.0
PRODID:-//UM//UM*Events//EN
CALSCALE:GREGORIAN
BEGIN:VTIMEZONE
TZID:America/Detroit
TZURL:http://tzurl.org/zoneinfo/America/Detroit
X-LIC-LOCATION:America/Detroit
BEGIN:DAYLIGHT
TZOFFSETFROM:-0500
TZOFFSETTO:-0400
TZNAME:EDT
DTSTART:20070311T020000
RRULE:FREQ=YEARLY;BYMONTH=3;BYDAY=2SU
END:DAYLIGHT
BEGIN:STANDARD
TZOFFSETFROM:-0400
TZOFFSETTO:-0500
TZNAME:EST
DTSTART:20071104T020000
RRULE:FREQ=YEARLY;BYMONTH=11;BYDAY=1SU
END:STANDARD
END:VTIMEZONE
BEGIN:VEVENT
DTSTAMP:20241030T091958
DTSTART;TZID=America/Detroit:20241101T110000
DTEND;TZID=America/Detroit:20241101T190000
SUMMARY:Exhibition:Beautiful Works of Art - Student Art Exhibition
DESCRIPTION:Join us in our 4th floor Atrium to view our next student art exhibition\, Beautiful Works of Art. This exhibition showcases favorite pieces of art from 5 undergraduate students from the Stamps School of Art & Design.  Each artist brings her unique style to the exhibit with works spanning painting\, illustration and multimedia. \n\nThe exhibition will be on display from October 31 - November 27.\n\nArtists include Cate Bennett\, Georgia Gutkin\, Chloe Kreindler\, Meggie Kennedy & Brianna Sorkin
UID:128511-21861038@events.umich.edu
URL:https://events.umich.edu/event/128511
CLASS:PUBLIC
STATUS:CONFIRMED
CATEGORIES:Art,Arts,Culture,Exhibition,Free,Palmercommons,Visual Arts
LOCATION:Palmer Commons - 4th Floor Atrium
CONTACT:
END:VEVENT
BEGIN:VEVENT
DTSTAMP:20241116T063125
DTSTART;TZID=America/Detroit:20241101T110000
SUMMARY:Careers / Jobs:CIC Student Working Group Meeting
DESCRIPTION:The CIC invites students of all academic backgrounds and varying research experience to join the CIC Student Working Group. Students around the world will join a community of young professionals and researchers interested in the future of COVID-19 and ongoing pandemic research.Learn more about the Working Group and register to attend by visiting our website: https://covidinfocommons.datascience.columbia.edu/content/student-working-group
UID:122051-21848049@events.umich.edu
URL:https://events.umich.edu/event/122051
CLASS:PUBLIC
STATUS:CONFIRMED
CATEGORIES:
LOCATION:
CONTACT:
END:VEVENT
BEGIN:VEVENT
DTSTAMP:20241116T123150
DTSTART;TZID=America/Detroit:20241101T110000
DTEND;TZID=America/Detroit:20241101T120000
SUMMARY:Careers / Jobs:Fisher Investments Presents: Black in Finance
DESCRIPTION:Are you exploring ways to launch your career in the financeindustry upon graduation? Do you have a desire to find a company that values diverse perspectives and encourages innovation and forward thinking? At Fisher Investments\, we believe that championing a diverse and inclusiveworkforce is critical to our mission to help more clients globally.Join our panel of Black leaders from across the firm for a meaningful conversation designed to empower those interested in launching their careers in finance. All while providing you insight into what makes Fisher Investments a welcoming and inclusive workplace. QUALIFICATIONS\nYou currently attend or received a degree froman accredited university.\nYou are actively seeking a future internship or career in finance.\nYou have an interest in learning more about Fisher Investments! \nPROGRAM DETAILSDate: Friday\, November 1\, 2024Time: 11:00AM PST/ 1:00PM CSTLocation: Event will be held via Zoom. The meeting link will be emailed uponregistration.
UID:127978-21859995@events.umich.edu
URL:https://events.umich.edu/event/127978
CLASS:PUBLIC
STATUS:CONFIRMED
CATEGORIES:
LOCATION:
CONTACT:
END:VEVENT
END:VCALENDAR