BEGIN:VCALENDAR
VERSION:2.0
PRODID:-//UM//UM*Events//EN
CALSCALE:GREGORIAN
BEGIN:VTIMEZONE
TZID:America/Detroit
TZURL:http://tzurl.org/zoneinfo/America/Detroit
X-LIC-LOCATION:America/Detroit
BEGIN:DAYLIGHT
TZOFFSETFROM:-0500
TZOFFSETTO:-0400
TZNAME:EDT
DTSTART:20070311T020000
RRULE:FREQ=YEARLY;BYMONTH=3;BYDAY=2SU
END:DAYLIGHT
BEGIN:STANDARD
TZOFFSETFROM:-0400
TZOFFSETTO:-0500
TZNAME:EST
DTSTART:20071104T020000
RRULE:FREQ=YEARLY;BYMONTH=11;BYDAY=1SU
END:STANDARD
END:VTIMEZONE
BEGIN:VEVENT
DTSTAMP:20240130T121550
DTSTART;TZID=America/Detroit:20241122T100000
DTEND;TZID=America/Detroit:20241122T200000
SUMMARY:Exhibition:A Gathering
DESCRIPTION:Welcome. Make Yourself At Home.\n \nA Gathering brings together the newest works of art to enter UMMA’s collection — many on display here for the first time. \n \nAs a free\, public museum\, UMMA staff takes care of art for the benefit of the community and society at large. The works on view in this exhibition\, all brought into the Museum between 2019 and the present\, shows how institutions like UMMA are becoming more permeable to societal challenges\, and more nimble in responding to them in service to all in their communities. In this exhibition you will find works that reflect on how global migrations\, race\, gender\, and ecological change shape the way we engage with the world and inform our visions for the future.\n \nThis collection of artistic engagements with issues give us tools to envision who we want to be as individuals\, as a museum\, and as a society\, connected to one another across space and experience.\n \nSo gather here to take in these latest works of art brought here for you. Gather here to be engulfed in their forms and meanings\, to discuss their takes\, to learn\, to disagree. Gather to relax\, make a friend\, drink a coffee\, finish the daily Wordle. Gather to feel full\, to be moved and inspired by all the possible imaginations of what is yet to come.\n \nCurated by Félix Zamora Gómez Irving Stenn\, Jr. Fellow in Public Humanities & Museum Pedagogy\n\nLead support for this exhibition is provided by Lizzie and Jonathan Tisch\, the Richard and Rosann Noel Endowment\, and the University of Michigan Office of the Provost.\n 
UID:107870-21817970@events.umich.edu
URL:https://events.umich.edu/event/107870
CLASS:PUBLIC
STATUS:CONFIRMED
CATEGORIES:Art,UMMA,Staff,Museum,Humanities,Exhibition,Free
LOCATION:Museum of Art - Lizzie and Jonathan Tisch Apse
CONTACT:
END:VEVENT
BEGIN:VEVENT
DTSTAMP:20241108T101029
DTSTART;TZID=America/Detroit:20241122T100000
DTEND;TZID=America/Detroit:20241122T120000
SUMMARY:Social / Informal Gathering:Alum in Residence with Steve Sugerman
DESCRIPTION:Calling all students interested in communications and media\, public affairs\, or consulting! Sign up to connect one-on-one with LSA Alum Steve Sugerman\, the president and founder of Sugerman Communications Group. With years of experience navigating the intricate world of public affairs and media\, Steve is a valuable resource for any student aspiring to make their mark in these fields.\n\nMake an appointment or drop by the Opportunity Hub on Friday\, November 22 between 10am and 12pm to ask questions\, get advice\, meet friendly faces and enjoy some FREE FOOD!\n\n\nMore About Steve Sugerman:\nCurrent Role- President and founder of Sugerman Communications Group since 2002.\nExpertise- Provides strategic counsel on Land use\, Labor relations\, Government decisions\, and Public policy\nCrisis Management- Advises CEOs and public figures during high-stakes situations\, including Labor disputes and Media investigations\nEducation- B.A. in Political Science from the University of Michigan.\nCareer Highlights- Served as Deputy Mayor of Los Angeles. Held senior roles at leading global public relations firms.\n\nWhy Sign Up?\n-Gain insights into the communications and public affairs industry.\n-Receive personalized career advice from a seasoned professional.\n-Network with a successful alum who has deep ties to the Southern California civic community.\n\nSign-up for a time slot to RSVP\, and join us on Friday\, 11/22!
UID:128926-21861906@events.umich.edu
URL:https://events.umich.edu/event/128926
CLASS:PUBLIC
STATUS:CONFIRMED
CATEGORIES:All Majors Welcome,Alum Connections,Alumni,Communications,Food,Lsa Opportunity Hub,Media,Networking,Open To All Majors,The College Of Literature\, Science\, And The Arts,Undergraduate Students
LOCATION:LSA Building - LSA Opportunity Hub room 1250
CONTACT:
END:VEVENT
BEGIN:VEVENT
DTSTAMP:20241105T142348
DTSTART;TZID=America/Detroit:20241122T100000
DTEND;TZID=America/Detroit:20241122T112000
SUMMARY:Workshop / Seminar:Cross-Product Compatibility\, Lock-In\, and Market Power: The Case of Smartphones and Laptops
DESCRIPTION:This paper examines the role of compatibility across standalone technology products in anchoring consumers to brands. Through a novel experimental design\, I identify the causal impact of compatibility\, showing that participants’ willingness to pay for smartphones increases by 9% of their retail price when compatible with a laptop. I combine the experimental results with a smartphone demand model that incorporates compatibility with laptops to assess the welfare effects of (i) regulations mandating cross-brand compatibility (“open ecosystems”) and (ii) crossmarket mergers. I find that in 2018-2019\, closed ecosystems benefit Samsung by locking non-Apple laptop owners into lower-quality Samsung smartphones\, while the switch to open ecosystems boosts Apple’s smartphone market share. However\, in 2020-2023\, closed ecosystems benefit Apple\, as Samsung’s top smartphones are superior\, prompting Apple laptop owners to switch to Samsung smartphones in open ecosystems. In both periods\, consumer surplus rises due to lower prices and greater product variety in open ecosystems. A counterfactual merger between Samsung and HP\, Apple’s main smartphone and laptop competitors\, respectively\, results in lower smartphone market concentration but raises Samsung smartphone prices\, disadvantaging consumers who value compatibility less.
UID:128781-21861616@events.umich.edu
URL:https://events.umich.edu/event/128781
CLASS:PUBLIC
STATUS:CONFIRMED
CATEGORIES:seminar,Microeconomics,Industrial Organization,Economics
LOCATION:Lorch Hall - 301
CONTACT:
END:VEVENT
END:VCALENDAR