BEGIN:VCALENDAR
VERSION:2.0
PRODID:-//UM//UM*Events//EN
CALSCALE:GREGORIAN
BEGIN:VTIMEZONE
TZID:America/Detroit
TZURL:http://tzurl.org/zoneinfo/America/Detroit
X-LIC-LOCATION:America/Detroit
BEGIN:DAYLIGHT
TZOFFSETFROM:-0500
TZOFFSETTO:-0400
TZNAME:EDT
DTSTART:20070311T020000
RRULE:FREQ=YEARLY;BYMONTH=3;BYDAY=2SU
END:DAYLIGHT
BEGIN:STANDARD
TZOFFSETFROM:-0400
TZOFFSETTO:-0500
TZNAME:EST
DTSTART:20071104T020000
RRULE:FREQ=YEARLY;BYMONTH=11;BYDAY=1SU
END:STANDARD
END:VTIMEZONE
BEGIN:VEVENT
DTSTAMP:20241022T095723
DTSTART;TZID=America/Detroit:20241122T100000
DTEND;TZID=America/Detroit:20241122T160000
SUMMARY:Exhibition:GalleryDAAS Exhibition: \"Hip Hop @ 50\"
DESCRIPTION:It's back! Brought to you by the Department of Afroamerican and African Studies (DAAS)\, GalleryDAAS celebrates the 50th anniversary of hip hop with “Hip Hop @ 50\,” an exhibition highlighting this constantly evolving phenomenon. Explore various aspects of hip hop culture\, including definitions\, dates\, divas\, the Detroit scene\, and a special tribute to J Dilla (James Dewitt Yancey)\, a prolific producer. Through examining the five pillars of hip hop — rapping\, break dancing\, DJing\, graffiti and historical knowledge — it becomes evident that what began as a musical genre has impacted society\, fashion\, language\, entertainment and even politics. Visitors will also be treated to a GREAT playlist! The gallery is open Monday–Friday from 10 a.m. to 4 p.m.
UID:122094-21860354@events.umich.edu
URL:https://events.umich.edu/event/122094
CLASS:PUBLIC
STATUS:CONFIRMED
CATEGORIES:african and afroamerican studies,african and african american studies,AEM Featured
LOCATION:Haven Hall - G648
CONTACT:
END:VEVENT
BEGIN:VEVENT
DTSTAMP:20240822T143331
DTSTART;TZID=America/Detroit:20241122T100000
DTEND;TZID=America/Detroit:20241122T110000
SUMMARY:Social / Informal Gathering:La Tertulia: Spanish Coffee Hour
DESCRIPTION:*Hola!* *¿Cómo estás?*\nALL LEVELS AND STUDENTS WELCOME!\n\n-Practice your Spanish speaking skills with fellow students & instructors in a welcoming and relaxed environment\n\n-Come & go as you please\; stay for the hour or only part\n\n-Free coffee\, tea\, light snacks & baked goods\n\nFor more information\, please contact Julie Harrell at harrelju@umich.edu
UID:124762-21853756@events.umich.edu
URL:https://events.umich.edu/event/124762
CLASS:PUBLIC
STATUS:CONFIRMED
CATEGORIES:Latin America,Coffee,Networking,Romance Language,Romance Languages And Literatures,Social,Spain,Spanish,study abroad,Undergraduate,Undergraduate Students,Language,Central America,Community,Community Engagement,cultural,Culture,department of romance languages,Engaged Learning,European,Food,Free,Games,intercultural,International,Languages,Europe
LOCATION:Modern Languages Building - RLL Commons (MLB 4314)
CONTACT:
END:VEVENT
BEGIN:VEVENT
DTSTAMP:20241118T130932
DTSTART;TZID=America/Detroit:20241122T100000
DTEND;TZID=America/Detroit:20241122T112000
SUMMARY:Workshop / Seminar:Stable matching as transportation
DESCRIPTION:We study matching markets with aligned preferences and establish a connection between common design objectives -- stability\, efficiency\, and fairness -- and the theory of optimal transport. Optimal transport gives new insights into the structural properties of matchings obtained from pursuing these objectives\, and into the trade-offs between different objectives. Matching markets with aligned preferences provide a tractable stylized model capturing supply-demand imbalances in a range of settings such as partnership formation\, school choice\, organ donor exchange\, and markets with transferable utility where bargaining over transfers happens after a match is formed.
UID:129230-21862354@events.umich.edu
URL:https://events.umich.edu/event/129230
CLASS:PUBLIC
STATUS:CONFIRMED
CATEGORIES:Theory,seminar,Microeconomics,Economics
LOCATION:Lorch Hall - 275D (in the MITRE Suite)
CONTACT:
END:VEVENT
END:VCALENDAR