BEGIN:VCALENDAR
VERSION:2.0
PRODID:-//UM//UM*Events//EN
CALSCALE:GREGORIAN
BEGIN:VTIMEZONE
TZID:America/Detroit
TZURL:http://tzurl.org/zoneinfo/America/Detroit
X-LIC-LOCATION:America/Detroit
BEGIN:DAYLIGHT
TZOFFSETFROM:-0500
TZOFFSETTO:-0400
TZNAME:EDT
DTSTART:20070311T020000
RRULE:FREQ=YEARLY;BYMONTH=3;BYDAY=2SU
END:DAYLIGHT
BEGIN:STANDARD
TZOFFSETFROM:-0400
TZOFFSETTO:-0500
TZNAME:EST
DTSTART:20071104T020000
RRULE:FREQ=YEARLY;BYMONTH=11;BYDAY=1SU
END:STANDARD
END:VTIMEZONE
BEGIN:VEVENT
DTSTAMP:20240322T160710
DTSTART;TZID=America/Detroit:20240415T110000
DTEND;TZID=America/Detroit:20240415T120000
SUMMARY:Meeting:Drop In Advising with a Newnan Transfer Academic Advisor
DESCRIPTION:Kayla Harteg and Joel Beebe\, transfer advisors in the Newnan Academic Advising Center\, will be offering drop-in academic advising all semester long in the small conference room next to the Transfer Student Center. Check in at the Transfer Student Center when you arrive.\n\nSo\, stop in the TSC for your free coffee and tea and then pop in to get all of your advising questions answered.
UID:120626-21845055@events.umich.edu
URL:https://events.umich.edu/event/120626
CLASS:PUBLIC
STATUS:CONFIRMED
CATEGORIES:Transfer Students
LOCATION:LSA Building - 1180
CONTACT:
END:VEVENT
BEGIN:VEVENT
DTSTAMP:20240327T142932
DTSTART;TZID=America/Detroit:20240415T110000
DTEND;TZID=America/Detroit:20240415T120000
SUMMARY:Workshop / Seminar:Human Genetics Seminar Series Winter 2024 - Mashaal Sohail\, Ph.D. (National Autonomous University of Mexico)
DESCRIPTION:DEPARTMENT OF HUMAN GENETICS 2023 - 2024 SEMINAR SERIES   \n \n“Dynamic Genetic Structure & Complex Trait Variation: Case of Mexico and the World.”\n \nPresented by: \nMashaal Sohail\, Ph.D.\nAssociate Professor in Computational Genomics\nCenter for Genomic Sciences\nNational Autonomous University of Mexico\n\nMonday\, April 15\, 2024\n11:00 AM – 12:00 PM EST\nKahn Auditorium\, BSRB\n \nHosted by: \nXinjun Zhang\, Ph.D.\nAssistant Professor of Human Genetics
UID:120814-21845348@events.umich.edu
URL:https://events.umich.edu/event/120814
CLASS:PUBLIC
STATUS:CONFIRMED
CATEGORIES:genome,sodium channel,genomics,human genetics,Human Genetics\, Genetics\, Epidemiology,Human Genetics\, Genetics\, Neurogenetic Diseases,lecture,Life Science,Medicine,Natural Sciences,neurological disease,Postdoctoral Research Fellows,Public Health,research,Science,seminar,genetics,Free,Faculty,epilepsy,Discussion,Chemistry,cancer,Bsbsigns,Biosciences,Biology,biological science,biological chemistry,biolgical chemistry,basic sciences,Basic Science
LOCATION:Taubman Biomedical Science Research Building - Kahn Auditorium, BSRB
CONTACT:
END:VEVENT
BEGIN:VEVENT
DTSTAMP:20240430T063123
DTSTART;TZID=America/Detroit:20240415T110000
DTEND;TZID=America/Detroit:20240415T120000
SUMMARY:Careers / Jobs:Internship Lab
DESCRIPTION:*RSVP required to attend. Click \"Join Event\" here: https://app.joinhandshake.com/events/1520759/share_preview\nAre you ready to start searching for a great internship? Do you have a few ideas\, but you’re notsure where to get started? Let's talk about search strategy!!\n\nGet real-time\, personalized support by checking out the in person Internship Lab.You’ll be guided by one of our Career Coaches who has designed this experience to provide you strategies\, tools\, and motivation to get on the right track with searching for internships.\n\nChat with folks from the University Career Center to explore Handshake\, the University Career Alumni Network (UCAN) and to learn about other tools you can use to build a greatjob/internship search strategy.\n\n**If you're not sure what you're interested in\, consider making an \"Exploring Major/Career Option\" appointment to get started clarifying your interests with a career coach in a 1-on-1 setting.\n\nRecent Grads: If you are an alumni\, you will not be able to access the link due the University’s policy of discontinuing alumni Zoom accounts 30 days after graduation. Please contact careercenter@umich.edu with the subject line “Recent Grad Help” to receive either a recording of the session or to be set up with a 1:1. Include the name of the workshop/event in your email.
UID:120607-21845030@events.umich.edu
URL:https://events.umich.edu/event/120607
CLASS:PUBLIC
STATUS:CONFIRMED
CATEGORIES:
LOCATION:University Career Center, 3200 Student Activities Building, Program Room (3003), 515 E Jefferson St, Ann Arbor, MI, United States
CONTACT:
END:VEVENT
END:VCALENDAR