BEGIN:VCALENDAR
VERSION:2.0
PRODID:-//UM//UM*Events//EN
CALSCALE:GREGORIAN
BEGIN:VTIMEZONE
TZID:America/Detroit
TZURL:http://tzurl.org/zoneinfo/America/Detroit
X-LIC-LOCATION:America/Detroit
BEGIN:DAYLIGHT
TZOFFSETFROM:-0500
TZOFFSETTO:-0400
TZNAME:EDT
DTSTART:20070311T020000
RRULE:FREQ=YEARLY;BYMONTH=3;BYDAY=2SU
END:DAYLIGHT
BEGIN:STANDARD
TZOFFSETFROM:-0400
TZOFFSETTO:-0500
TZNAME:EST
DTSTART:20071104T020000
RRULE:FREQ=YEARLY;BYMONTH=11;BYDAY=1SU
END:STANDARD
END:VTIMEZONE
BEGIN:VEVENT
DTSTAMP:20241031T133030
DTSTART;TZID=America/Detroit:20241113T173000
DTEND;TZID=America/Detroit:20241113T193000
SUMMARY:Lecture / Discussion:Science Café: A problem so small you can see it from space
DESCRIPTION:Do we really consume a credit card’s worth of microplastics in a week? If microplastics are so small\, how can they have such a big impact on our waterways? What are microplastics\, anyway?\n\nExplore these questions and more at November's Science Café! Please join Chris Ruf\, Principal Investigator of the Remote Sensing Group (RSG) in the Climate and Space Sciences and Engineering Department (CLaSP) and graduate student Gopal Sundaram of the College of Engineering\; Melissa Duhaime\, Associate Professor in the Department of Ecology and Evolutionary Biology\; and members of the Duhaime Lab (Rachel Cable\, Lizy Michaelson\, Skyler Har)\, for a discussion about one of our planet’s biggest tiny problems.
UID:128572-21861186@events.umich.edu
URL:https://events.umich.edu/event/128572
CLASS:PUBLIC
STATUS:CONFIRMED
CATEGORIES:Climate and Space Sciences and Engineering,Ecology And Evolutionary Biology,Engineering
LOCATION:Off Campus Location
CONTACT:
END:VEVENT
BEGIN:VEVENT
DTSTAMP:20241107T175053
DTSTART;TZID=America/Detroit:20241113T173000
DTEND;TZID=America/Detroit:20241113T183000
SUMMARY:Other:Wonder Walks
DESCRIPTION:Matthaei Botanical Gardens is hosting free guided nature walks on select Wednesdays and Sundays.  These walks are FREE\, no registration is required. Wonder Walks are designed for all ages to inspire curiosity and learning from each other through activities that model curiosity and honor nature. If we have a sizeable mixed-age group\, we may separate into two sets to offer the same content at different levels of engagement.\n\nWednesday walks begin at 5:30 pm.  Sunday walks begin at 1:00 pm. We recommend gathering inside the lobby of Matthaei Botanical Gardens about 10 minutes before the start.\n\nSunday\, November 10: Warm Winter Spices Why do we crave pumpkin spice\, spiced cider\, and cinnamon in the winter months? Learn about the use of spices from around the world and taste flavor-filled spiced teas.\n\nWednesday\, November 13: Warm Winter Spices Why do we crave pumpkin spice\, spiced cider\, and cinnamon in the winter months? Learn about the use of spices from around the world and taste flavor-filled spiced teas.\n\nWednesday\, November 20: Branching Out Leaves have fallen\, and branches are mostly bare\, but trees provide us with so much beauty and inspiration. Explore the patterns found in trees\, the beauty of unique tree features and the ways trees and humans are so deeply connected.\n\nSunday\, November 24: Branching Out Leaves have fallen\, and branches are mostly bare\, but trees provide us with so much beauty and inspiration. Explore the patterns found in trees\, the beauty of unique tree features and the ways trees and humans are so deeply connected.
UID:128887-21861861@events.umich.edu
URL:https://events.umich.edu/event/128887
CLASS:PUBLIC
STATUS:CONFIRMED
CATEGORIES:botanical gardens,Education,Environment,environmental education,Free,In Person,Nature,Outdoors,Well-being
LOCATION:Matthaei Botanical Gardens
CONTACT:
END:VEVENT
BEGIN:VEVENT
DTSTAMP:20240910T104200
DTSTART;TZID=America/Detroit:20241113T180000
DTEND;TZID=America/Detroit:20241113T190000
SUMMARY:Social / Informal Gathering:Deutschtisch im Max Kade Haus
DESCRIPTION:Deutschtisch is a weekly event in the North Quad dining hall for Max Kade residents and visitors from outside of Max Kade Haus to speak German during a meal.
UID:126107-21856533@events.umich.edu
URL:https://events.umich.edu/event/126107
CLASS:PUBLIC
STATUS:CONFIRMED
CATEGORIES:Germanic Languages And Literatures,Max Kade
LOCATION:North Quad - Dining Hall
CONTACT:
END:VEVENT
END:VCALENDAR