BEGIN:VCALENDAR
VERSION:2.0
PRODID:-//UM//UM*Events//EN
CALSCALE:GREGORIAN
BEGIN:VTIMEZONE
TZID:America/Detroit
TZURL:http://tzurl.org/zoneinfo/America/Detroit
X-LIC-LOCATION:America/Detroit
BEGIN:DAYLIGHT
TZOFFSETFROM:-0500
TZOFFSETTO:-0400
TZNAME:EDT
DTSTART:20070311T020000
RRULE:FREQ=YEARLY;BYMONTH=3;BYDAY=2SU
END:DAYLIGHT
BEGIN:STANDARD
TZOFFSETFROM:-0400
TZOFFSETTO:-0500
TZNAME:EST
DTSTART:20071104T020000
RRULE:FREQ=YEARLY;BYMONTH=11;BYDAY=1SU
END:STANDARD
END:VTIMEZONE
BEGIN:VEVENT
DTSTAMP:20240925T144736
DTSTART;TZID=America/Detroit:20241101T120000
DTEND;TZID=America/Detroit:20241101T200000
SUMMARY:Exhibition:“Identity Potpourri” Photography Exhibition Opening Reception
DESCRIPTION:2Fik is a multidisciplinary artist known for embodying multiple\, unique characters. Through his social and political works\, 2Fik creates lives for characters who almost seem real\, whose stories\, personalities\, and interests are rooted in our world. Each of his creations are conceived in a voyeuristic way that pushes the spectator to wonder what exists beyond the scope of the work. Each character in this humorous and interpretative world becomes a reflection of our society.\n\n\"Identity Potpourri\" by 2Fik is a mixture of different artworks from various series by the artist between 2006 and 2016. The exhibition will open at 6 PM on October 30 and be on display until November 8.
UID:125116-21854431@events.umich.edu
URL:https://events.umich.edu/event/125116
CLASS:PUBLIC
STATUS:CONFIRMED
CATEGORIES:Jewish Studies,Visual Arts,Storytelling,Reception,middle east,LGBT,Art
LOCATION:Off Campus Location - Now Studios Gallery Space
CONTACT:
END:VEVENT
BEGIN:VEVENT
DTSTAMP:20241101T112040
DTSTART;TZID=America/Detroit:20241101T120000
DTEND;TZID=America/Detroit:20241101T130000
SUMMARY:Workshop / Seminar:AAAS Fellows Networking Event
DESCRIPTION:WISE is hosting some of the new UM fellowship recipients from the American Association for the Advancement of Science. This prestigious award honors scientists who have distinguished themselves in their field. Join WISE on Friday\, 11/1 at 12pm in the Michigan League for lunch and round table networking with the awardees as they discuss their path to greatness in their fields. Register today\, space is limited!The faculty fellows attending are Aimée ClassenKristen VerheyNisha D'SilvaMargherita FontanaLaura Ruetsche
UID:127538-21859289@events.umich.edu
URL:https://events.umich.edu/event/127538
CLASS:PUBLIC
STATUS:CONFIRMED
CATEGORIES:Sessions
LOCATION:Michigan League, Hussey Room (2nd Floor)
CONTACT:
END:VEVENT
BEGIN:VEVENT
DTSTAMP:20241017T091711
DTSTART;TZID=America/Detroit:20241101T120000
DTEND;TZID=America/Detroit:20241101T130000
SUMMARY:Workshop / Seminar:Communication and Media Major Info Session
DESCRIPTION:Thinking about majoring in Communication and Media? Or have you already declared and want advice on where this major can take you?\n\nJoin our peer advisors to go over any questions you may have about the major\, internships\, department resources\, and more!\n\nRegistration is required. Register using the link to the right.
UID:127960-21859976@events.umich.edu
URL:https://events.umich.edu/event/127960
CLASS:PUBLIC
STATUS:CONFIRMED
CATEGORIES:Prospective Undergraduate Students,Undergraduate Students,Virtual
LOCATION:Off Campus Location
CONTACT:
END:VEVENT
END:VCALENDAR