BEGIN:VCALENDAR
VERSION:2.0
PRODID:-//UM//UM*Events//EN
CALSCALE:GREGORIAN
BEGIN:VTIMEZONE
TZID:America/Detroit
TZURL:http://tzurl.org/zoneinfo/America/Detroit
X-LIC-LOCATION:America/Detroit
BEGIN:DAYLIGHT
TZOFFSETFROM:-0500
TZOFFSETTO:-0400
TZNAME:EDT
DTSTART:20070311T020000
RRULE:FREQ=YEARLY;BYMONTH=3;BYDAY=2SU
END:DAYLIGHT
BEGIN:STANDARD
TZOFFSETFROM:-0400
TZOFFSETTO:-0500
TZNAME:EST
DTSTART:20071104T020000
RRULE:FREQ=YEARLY;BYMONTH=11;BYDAY=1SU
END:STANDARD
END:VTIMEZONE
BEGIN:VEVENT
DTSTAMP:20240620T181506
DTSTART;TZID=America/Detroit:20241122T110200
DTEND;TZID=America/Detroit:20241122T170000
SUMMARY:Exhibition:Michelle Hinojosa: Logcabins
DESCRIPTION:Stamps Gallery commissioned Michelle Hinojosa (MFA\, 2023) to reimagine the pillars on Division Street that flank the Gallery. Hinojosa has created log cabin quilts to adorn the columns in front of Stamps Gallery. The log cabin quilts traditionally represent the warm hearth at the center of a home. This installation reflects on the interplay between home\, placemaking\, labor\, and intergenerational memories of migration. Rather than quilting cotton designed to softly embrace the body\, these quilts are sewn from outdoor grade\, UV-resistant polyester. The quilt is an ode to Hinojosa’s grandmother who illegally crossed the US/Mexico border holding her babies and her quilts. As she and her family drove across the United States to work in the fields of the Salinas Valley\, the quilts offered a safe space for her and her family. Hinojosa celebrates their resilience to her grandmother and elders while also drawing attention to precarity and violence experienced by refugees and migrants crossing the US-Mexico border in our present today.\nArtist’s bio:\nMichelle Inez Hinojosa is an artist\, educator\, and researcher whose work is informed by Indigenous and Latine/x/a/o studies. Born and raised in Texas\, she earned her Bachelor of Fine Arts degree in both drawing and painting and art education with a minor in art history at the University of North Texas. She holds a Master of Fine Arts from the University of Michigan. She works with quilting\, bead weaving\, embroidery\, jewelry\, transparent film installations\, painting\, ceramics\, and sculpture to honor and explore the history of migration in her family and humanize the current discourse around migration still occurring at the southern border. Alongside her artwork she maintains a writing practice to re-story\, re-make\, and re-claim the often subordinated narratives of Latinx\, Chicanx\, Mexican\, and Texican peoples. \n\nRecently\, Hinojosa was named an inaugural Creative Careers Artist in Residence at the University of Michigan\, she has also attended residencies at Mildred's Lane (Pennsylvania)\, Anderson Ranch Art Center (Aspen\, CO) and The Cedars Union (Dallas\, TX). 
UID:122384-21848792@events.umich.edu
URL:https://events.umich.edu/event/122384
CLASS:PUBLIC
STATUS:CONFIRMED
CATEGORIES:Art
LOCATION:Off Campus Location
CONTACT:
END:VEVENT
BEGIN:VEVENT
DTSTAMP:20241114T172002
DTSTART;TZID=America/Detroit:20241122T120000
DTEND;TZID=America/Detroit:20241122T140000
SUMMARY:Lecture / Discussion:\"Caring for Astronauts\, One Mission at a Time\"
DESCRIPTION:The University of Michigan Space Institute is hosting an Alumni Career Chat & Luncheon with Dr. Natacha Chough on Friday\, November 22\, 2024 from 12-2 PM in Room 2525 in the Climate and Space Research Building on North Campus. Dr. Chough is a NASA Flight Surgeon\, Assistant Professor at University of Texas Medical Branch\, and an alumna of the U-M Medical School. She will be presenting on \"Caring for Astronauts\, One Mission at a Time.\"\n\n“Space Medicine” sounds cool\, but what is it? This presentation will introduce attendees to the specialty of Aerospace Medicine\, including what medical education and training is required to be a physician for astronauts\, pilots\, and spaceflight participants\; potential career paths\; and a glimpse of what it is like to practice clinical and operational Aerospace Medicine at NASA.\n\nYou're welcome to join us in the Climate and Space Research Building\, Room 2525. Viewing will also be available via Zoom. Please click the link below to join the webinar:\nhttps://umich.zoom.us/j/92769876158?pwd=moWFBaf6R1J5WfTMhkYehhHm0ngLF4.1\n\nInterested in Attending in Person?\nPlease RSVP to Jodi Holbrook (hjodi@umich.edu) by Wednesday\, November 20th. \n\nFor more information\, visit the U-M Space Institute website: space.umich.edu.
UID:129124-21862169@events.umich.edu
URL:https://events.umich.edu/event/129124
CLASS:PUBLIC
STATUS:CONFIRMED
CATEGORIES:Aerospace,Space,Michigan Engineering,Medicine,Lecture,Climate and Space Sciences and Engineering,aerospace engineering,Alumni,Biomedical Engineering
LOCATION:Climate and Space Research Building - 2525
CONTACT:
END:VEVENT
BEGIN:VEVENT
DTSTAMP:20241119T123541
DTSTART;TZID=America/Detroit:20241122T120000
DTEND;TZID=America/Detroit:20241122T130000
SUMMARY:Lecture / Discussion:Creating Figures for Scientific Publications\, From A to Z
DESCRIPTION:Creating a figure for your latest groundbreaking scientific publication requires you to take every step from A to Z. You can't skip a single one. But you can bring in someone to help! \n\nEven if that someone isn't me\, you will likely work with an illustrator or designer at some point to help communicate your research to a wider audience. This talk will address the main steps you can expect to encounter on your figure-creation journey\, and how to stay on track along the way. \n\nThere are numerous paths that will take you from ideation to a completed figure – but not all paths are created equal. How do you decide which way to go? How can you most effectively and efficiently work with an artist who is charging you by the hour? This talk is your roadmap.
UID:129282-21862426@events.umich.edu
URL:https://events.umich.edu/event/129282
CLASS:PUBLIC
STATUS:CONFIRMED
CATEGORIES:Anthropology,Archaeology
LOCATION:School of Education - 1322
CONTACT:
END:VEVENT
END:VCALENDAR