BEGIN:VCALENDAR
VERSION:2.0
PRODID:-//UM//UM*Events//EN
CALSCALE:GREGORIAN
BEGIN:VTIMEZONE
TZID:America/Detroit
TZURL:http://tzurl.org/zoneinfo/America/Detroit
X-LIC-LOCATION:America/Detroit
BEGIN:DAYLIGHT
TZOFFSETFROM:-0500
TZOFFSETTO:-0400
TZNAME:EDT
DTSTART:20070311T020000
RRULE:FREQ=YEARLY;BYMONTH=3;BYDAY=2SU
END:DAYLIGHT
BEGIN:STANDARD
TZOFFSETFROM:-0400
TZOFFSETTO:-0500
TZNAME:EST
DTSTART:20071104T020000
RRULE:FREQ=YEARLY;BYMONTH=11;BYDAY=1SU
END:STANDARD
END:VTIMEZONE
BEGIN:VEVENT
DTSTAMP:20241101T133217
DTSTART;TZID=America/Detroit:20241101T120000
DTEND;TZID=America/Detroit:20241101T130000
SUMMARY:Lecture / Discussion:FSML Lecture Series: Discovery of cellular reprogramming methodology through single-cell foundation models
DESCRIPTION:Venue: 2052 Walter E. Lay Auto Lab and\n\nZoom: https://umich.zoom.us/j/97823527756?pwd=H01BbvtuG5q02Wzb8LJvhUnvijlAIe.1\n\nAbstract: Cell reprogramming\, the transformation of a cell from one cell type to another through the introduction of exogenous transcription factors (TFs)\, is a rapidly developing research area that could lead to groundbreaking therapeutic technologies in areas such as tissue regeneration\, disease modeling\, and personalized medicine. However\, there still exist many challenges obstructing its practical viability. Discovering which TFs induce reprogramming requires a combinatorial search\, and testing a single\ncandidate set of TFs experimentally can cost tens of thousands of dollars and take multiple months. Moreover\, even when an effective set of TFs is known\, cell conversion efficiency lies only around 5%.\n\nFaced with these challenges\, researchers have developed computational surrogate models to rapidly explore the TF search space at a fraction of the cost of wet lab experimentation. Unfortunately\, these models have seen limited success in practice due to the difficulty of capturing the complex gene-gene\ninteractions within the cell\, most of which are still not well-understood. With the recent high-profile rise of transformer-based foundation models for natural language\, researchers are now turning to the transformer to push past current performance limitations in a wide range of digital biology tasks\, including cell reprogramming. Of particular interest in these models is the attention mechanism\, which is potentially well-suited for capturing long-range gene-gene interactions at a higher fidelity than previously possible. In this talk\, I will describe how the transformer architecture has been adapted for cellular biology and analyze the utility of one such model\, Geneformer\, in identifying TFs for cell reprogramming. Specifically\, I will present the results of an in silico perturbation experiment for reprogramming fibroblast cells to hematopoietic stem cells and compare the outcomes to experimental results found in the literature. I will conclude the talk with a discussion of the drawbacks and limitations of the Geneformer model and provide an assessment of what will be needed in the future for digital biology to fully reap the benefits of large-scale foundation models.\n\nBio:\nNick Galioto is a second-year postdoctoral research fellow in the Department of Computational Medicine and Bioinformatics at the University of Michigan (UM). He received his PhD at UM in aerospace engineering in 2023 under the advising of Alex Gorodetsky and remained in the lab for an additional year as a postdoc. In the Gorodetsky lab\, Nick researched how to use stochastic models of dynamical systems to improve system identification. Now\, Nick works in the Rajapakse lab researching how to create data-driven models of the dynamics of cell reprogramming.
UID:127729-21859591@events.umich.edu
URL:https://events.umich.edu/event/127729
CLASS:PUBLIC
STATUS:CONFIRMED
CATEGORIES:Generative Ai,Michigan Engineering,Phd Seminar,Rackham,Research,Science,big data,Biology,Computational Science,Engineering,Micde,Graduate School,Graduate Students
LOCATION:Walter E Lay Auto Lab - 2052A
CONTACT:
END:VEVENT
BEGIN:VEVENT
DTSTAMP:20260112T144046
DTSTART;TZID=America/Detroit:20241101T120000
DTEND;TZID=America/Detroit:20241101T123000
SUMMARY:Well-being:Heartfulness Guided Meditation
DESCRIPTION:Heartfulness Guided Meditation is a weekly\, drop-in program designed to help you Mental well-being. \n\nAll U-M students\, faculty\, and staff are welcome to participate in guided meditation practice with a trainer every Friday at noon over Zoom (details to join are provided below). No prior experience with meditation is required. \n\n*What will you learn?*\n\nThe guided meditation practice involves three simple steps: relaxation\, rejuvenation\, and meditation.\n\nRelaxation brings your body to a calm\, steady posture creating a stillness at the physical level\, and prepares the mind for meditation. We follow this with a rejuvenation method to detox the mind to let go of stress and complex emotions\, and will leave you feeling light and refreshed. Lastly\, learning to meditate by being mindful of your heart will connect you with yourself by listening to your heart’s voice. \n\n*Why Meditate?*\n\nWhile physical fitness keeps our bodies in shape\, meditation is an exercise for the mind and mental wellness. In addition to the measurable benefits mentally and physically\, many people benefit from an unquantifiable inner poise and harmony. \n\n*Please take Learn to Meditate session if you are new to the practice. These sessions are offered Monthly.* https://events.umich.edu/event/128708\n\n*Event Details*\n\nHeartfulness Guided Meditation \nFridays from 12-12:30 p.m. ET (except during university season days / holidays)\nJoin Via Zoom Meeting\nRegister to receive Passcode (see “Related links”\n\n\nThis wellness program is coordinated by ITS Teaching & Learning and provided at no cost by heartfulness.org.
UID:88544-21836956@events.umich.edu
URL:https://events.umich.edu/event/88544
CLASS:PUBLIC
STATUS:CONFIRMED
CATEGORIES:Free,Health & Wellness,Well-being
LOCATION:
CONTACT:
END:VEVENT
BEGIN:VEVENT
DTSTAMP:20240913T171737
DTSTART;TZID=America/Detroit:20241101T120000
DTEND;TZID=America/Detroit:20241101T130000
SUMMARY:Lecture / Discussion:Identity and Socialization of Mixed Race Children
DESCRIPTION:Victoria Vezaldenos\, from the U-M School of Education\, discusses her multiple research projects about factors that impact mixed race children’s identity development\, and the socialization of mixed race children by their interracially partnered parents.\n\nSee the full list of events offered as part of the series Exploring Mixed Race and Interracial Family Experiences (https://myumi.ch/qV2xE).
UID:126411-21857102@events.umich.edu
URL:https://events.umich.edu/event/126411
CLASS:PUBLIC
STATUS:CONFIRMED
CATEGORIES:Free,Library,Multicultural
LOCATION:Hatcher Graduate Library - Clark Library, 2nd Floor
CONTACT:
END:VEVENT
END:VCALENDAR