BEGIN:VCALENDAR
VERSION:2.0
PRODID:-//UM//UM*Events//EN
CALSCALE:GREGORIAN
BEGIN:VTIMEZONE
TZID:America/Detroit
TZURL:http://tzurl.org/zoneinfo/America/Detroit
X-LIC-LOCATION:America/Detroit
BEGIN:DAYLIGHT
TZOFFSETFROM:-0500
TZOFFSETTO:-0400
TZNAME:EDT
DTSTART:20070311T020000
RRULE:FREQ=YEARLY;BYMONTH=3;BYDAY=2SU
END:DAYLIGHT
BEGIN:STANDARD
TZOFFSETFROM:-0400
TZOFFSETTO:-0500
TZNAME:EST
DTSTART:20071104T020000
RRULE:FREQ=YEARLY;BYMONTH=11;BYDAY=1SU
END:STANDARD
END:VTIMEZONE
BEGIN:VEVENT
DTSTAMP:20250516T153130
DTSTART;TZID=America/Detroit:20241122T120000
DTEND;TZID=America/Detroit:20241122T133000
SUMMARY:Workshop / Seminar:Foundations of Community Engagement
DESCRIPTION:Foundations of Community Engagement is an interactive workshop that introduces principles and practices of equitable\, ethical community engagement. Participants will develop a deeper understanding of what the term “community engagement” means\, as well as the many forms it might take - from research and course-based projects to philanthropy\, activism\, policy\, and direct service. Across all these forms of engagement\, participants will learn concepts and actions that promote equitable partnerships\, center community-defined priorities\, and disrupt entrenched power dynamics between universities and community members. Participants will also discuss real-world community engagement scenarios that ask them to apply what they’ve learned in the workshop to various situations.\n\n**This workshop is an updated version of Ginsberg’s long-standing Entering\, Engaging\, and Exiting (E3) session. If you’ve attended that session in the past\, you’ll gain additional knowledge from this session.**\n\nRegister for a Session Here: https://sessions.studentlife.umich.edu/track/event/16509
UID:123162-21850383@events.umich.edu
URL:https://events.umich.edu/event/123162
CLASS:PUBLIC
STATUS:CONFIRMED
CATEGORIES:Graduate Students,Undergraduate Students,Workshop,Activism,Free,Ginsberg Center,Student Org,Leadership
LOCATION:Off Campus Location
CONTACT:
END:VEVENT
BEGIN:VEVENT
DTSTAMP:20241008T164728
DTSTART;TZID=America/Detroit:20241122T120000
DTEND;TZID=America/Detroit:20241122T133000
SUMMARY:Livestream / Virtual:Global Health Career Panel
DESCRIPTION:Global health offers a range of career possibilities\, from academia\, to the non-profit\, governmental\, and for-profit sectors. Come hear about some career opportunities and learn how to better prepare for the global health careers of the future.\n\nThis event is co-hosted by the School of Nursing\, School of Public Health and Center for Global Health Equity as part of the International Careers Pathways series of events.\n\nPanelists:\n\nSuzanne Gosling\, RGN\, MPH\nGlobal Humanitarian Professionals\n\nDavid Duong\, MD\, MPH\nProgram in Global Primary Care and Social Change\, Harvard Medical School\n\nAvery Avrakotos\nUS President's Malaria Initiative\, USAID\n\nChristabel Sefa\nThe World Bank\n\nRegistration Required: https://myumi.ch/3Q156
UID:126529-21857259@events.umich.edu
URL:https://events.umich.edu/event/126529
CLASS:PUBLIC
STATUS:CONFIRMED
CATEGORIES:Professional Development,Career,Health Equity
LOCATION:Off Campus Location - https://myumi.ch/3Q156
CONTACT:
END:VEVENT
BEGIN:VEVENT
DTSTAMP:20260112T144046
DTSTART;TZID=America/Detroit:20241122T120000
DTEND;TZID=America/Detroit:20241122T123000
SUMMARY:Well-being:Heartfulness Guided Meditation
DESCRIPTION:Heartfulness Guided Meditation is a weekly\, drop-in program designed to help you Mental well-being. \n\nAll U-M students\, faculty\, and staff are welcome to participate in guided meditation practice with a trainer every Friday at noon over Zoom (details to join are provided below). No prior experience with meditation is required. \n\n*What will you learn?*\n\nThe guided meditation practice involves three simple steps: relaxation\, rejuvenation\, and meditation.\n\nRelaxation brings your body to a calm\, steady posture creating a stillness at the physical level\, and prepares the mind for meditation. We follow this with a rejuvenation method to detox the mind to let go of stress and complex emotions\, and will leave you feeling light and refreshed. Lastly\, learning to meditate by being mindful of your heart will connect you with yourself by listening to your heart’s voice. \n\n*Why Meditate?*\n\nWhile physical fitness keeps our bodies in shape\, meditation is an exercise for the mind and mental wellness. In addition to the measurable benefits mentally and physically\, many people benefit from an unquantifiable inner poise and harmony. \n\n*Please take Learn to Meditate session if you are new to the practice. These sessions are offered Monthly.* https://events.umich.edu/event/128708\n\n*Event Details*\n\nHeartfulness Guided Meditation \nFridays from 12-12:30 p.m. ET (except during university season days / holidays)\nJoin Via Zoom Meeting\nRegister to receive Passcode (see “Related links”\n\n\nThis wellness program is coordinated by ITS Teaching & Learning and provided at no cost by heartfulness.org.
UID:88544-21836960@events.umich.edu
URL:https://events.umich.edu/event/88544
CLASS:PUBLIC
STATUS:CONFIRMED
CATEGORIES:Well-being,Health & Wellness,Free
LOCATION:Off Campus Location
CONTACT:
END:VEVENT
END:VCALENDAR