BEGIN:VCALENDAR
VERSION:2.0
PRODID:-//UM//UM*Events//EN
CALSCALE:GREGORIAN
BEGIN:VTIMEZONE
TZID:America/Detroit
TZURL:http://tzurl.org/zoneinfo/America/Detroit
X-LIC-LOCATION:America/Detroit
BEGIN:DAYLIGHT
TZOFFSETFROM:-0500
TZOFFSETTO:-0400
TZNAME:EDT
DTSTART:20070311T020000
RRULE:FREQ=YEARLY;BYMONTH=3;BYDAY=2SU
END:DAYLIGHT
BEGIN:STANDARD
TZOFFSETFROM:-0400
TZOFFSETTO:-0500
TZNAME:EST
DTSTART:20071104T020000
RRULE:FREQ=YEARLY;BYMONTH=11;BYDAY=1SU
END:STANDARD
END:VTIMEZONE
BEGIN:VEVENT
DTSTAMP:20241030T152727
DTSTART;TZID=America/Detroit:20241101T120000
DTEND;TZID=America/Detroit:20241101T133000
SUMMARY:Workshop / Seminar:IOE 101: “Connecting to dots - from IOE 101 to driving Operations impact at global companies (and what’s fun)”
DESCRIPTION:About the speaker: Andy is a core member of the IG and Operations practice of BCG. He is an expert in building \ndigital solutions for industrial companies. He has extensive experience leading digital\ntransformation in the manufacturing environment. He leads BCG's MFG AI Program globally\, as\nwell as the digital business build capability in the Industrial Goods sector.\n\nLed Factory of the Future program for a US food and ingredients company. Oversaw a cross disciplinary team to build and deploy >20 digital and analytics solutions which resulted in >$100M annual benefits across >15 facilities. Designed and built client's organization to drive sustained digital and analytics innovation in operations.\nLed building and commercialization of a critical asset management platform for a global Food processing equipment OEM. Integrated machine monitoring\, predictive maintenance and service excellence to improve asset performance. Solutions deployed in >50 plants and on average improved asset OEE by 5-10%.\nDeveloped and launched a global analytics platform to optimize agricultural chemical usage for growers – integrating in field sensors\, pest detection technology and machine learning to improve the efficiency of chemical usage. Scaled to three continents and is helping growers manage chemical usage on >10M acres of lands.\nDeveloped and launched a crowd-sourcing grain transportation platform. Scaled to >20 states in the US and is helping growers move >50M BU of grain per year more efficiently.\nLed a broad set of projects on network optimization\, supply chain integration and procurement to unlock cost savings.\n\nPrior to BCG\, Andy worked as a process engineer to modernize the manufacturing lines for ConAgra Foods and Reebok. Andy holds MS and BA degrees in Industrial and Operations Engineering from the University of Michigan. He also holds a BA in Electrical and Computer Engineering from Shanghai Jiaotong University.\n\nAbstract: \nConnect the dots between what you will learn at UM and some of the cutting-edge operations problems at the world's biggest companies.\nReal-world examples of where IOE and advanced course mapping to problems in manufacturing\, service\, and supply chain.\nLatest trends/developments in how companies approach Operations problems.
UID:128370-21860739@events.umich.edu
URL:https://events.umich.edu/event/128370
CLASS:PUBLIC
STATUS:CONFIRMED
CATEGORIES:Industrial And Operations Engineering,Michigan Engineering,seminar
LOCATION:Industrial and Operations Engineering Building - 1610
CONTACT:
END:VEVENT
BEGIN:VEVENT
DTSTAMP:20241021T121650
DTSTART;TZID=America/Detroit:20241101T120000
DTEND;TZID=America/Detroit:20241101T123000
SUMMARY:Performance:Jenna Moon\, carillon
DESCRIPTION:SMTD doctoral alumna Jenna Moon will play the Charles Baird Carillon\, an instrument of 53 bronze bells located inside the Burton Memorial Tower. The largest bell\, which strikes the hour\, weighs 12 tons\, while the smallest bell\, 4½ octaves above\, weighs just 15 pounds. The will program include music that honors the start of Native American Heritage Month.\n\nThirty-minute recitals are performed on the Charles Baird Carillon at noon every weekday that classes are in session\, followed by visitor Q&A with the carillonist. The bell chamber may be accessed via a combination of elevator and stairs. Take the elevator to the highest floor possible (floor 8)\, and then climb two flights of stairs (39 steps) to the bell chamber (floor 10). Earplugs are available from the carillonist upon request. Be prepared to walk on ice and snow in the bell chamber during winter. Built in 1936\, the Charles Baird Carillon is not ADA accessible. Visitors with mobility concerns are invited to visit the Lurie Carillon: https://smtd.umich.edu/facilities/ann-and-robert-h-lurie-carillon/
UID:127177-21858622@events.umich.edu
URL:https://events.umich.edu/event/127177
CLASS:PUBLIC
STATUS:CONFIRMED
CATEGORIES:Alumni,Free,Music
LOCATION:Burton Memorial Tower
CONTACT:
END:VEVENT
BEGIN:VEVENT
DTSTAMP:20241021T100554
DTSTART;TZID=America/Detroit:20241101T120000
DTEND;TZID=America/Detroit:20241101T130000
SUMMARY:Workshop / Seminar:LAGS Seminar | Careers in Quantum Physics Research at UARCs
DESCRIPTION:University Affiliated Research Centers (UARCs) are federally-funded\, non-profit research centers affiliated with a university. These centers feel like a blend between academia and industry\, and they offer rewarding research careers for newly minted PhD recipients. In this talk\, I will discuss the quantum research being done at Georgia Tech Research Institute (GTRI)\, a UARC affiliated with the Georgia Institute of Technology in Atlanta. I will go in depth in my own research in Rydberg atom-based electric field sensing. I will also discuss my path from UMich physics to GTRI.\n\nMichael Viray is a Research Scientist at GTRI. He works in the Quantum Systems Division of the Cybersecurity\, Information Protection\, and Hardware Evaluation Research (CIPHER) Laboratory of GTRI. Before GTRI\, he was a PhD student at the University of Michigan from 2015 to 2021\, working in Professor Georg Raithel's group. His thesis work focused on photoionization and plasma dynamics in cold atom systems.
UID:128108-21860191@events.umich.edu
URL:https://events.umich.edu/event/128108
CLASS:PUBLIC
STATUS:CONFIRMED
CATEGORIES:Science
LOCATION:West Hall - 340
CONTACT:
END:VEVENT
END:VCALENDAR