BEGIN:VCALENDAR
VERSION:2.0
PRODID:-//UM//UM*Events//EN
CALSCALE:GREGORIAN
BEGIN:VTIMEZONE
TZID:America/Detroit
TZURL:http://tzurl.org/zoneinfo/America/Detroit
X-LIC-LOCATION:America/Detroit
BEGIN:DAYLIGHT
TZOFFSETFROM:-0500
TZOFFSETTO:-0400
TZNAME:EDT
DTSTART:20070311T020000
RRULE:FREQ=YEARLY;BYMONTH=3;BYDAY=2SU
END:DAYLIGHT
BEGIN:STANDARD
TZOFFSETFROM:-0400
TZOFFSETTO:-0500
TZNAME:EST
DTSTART:20071104T020000
RRULE:FREQ=YEARLY;BYMONTH=11;BYDAY=1SU
END:STANDARD
END:VTIMEZONE
BEGIN:VEVENT
DTSTAMP:20241018T120936
DTSTART;TZID=America/Detroit:20241101T120000
DTEND;TZID=America/Detroit:20241101T133000
SUMMARY:Lecture / Discussion:Orientalist Fantasies and Women Priests: Studying Gender in Ancient Iraq
DESCRIPTION:Imperialism and Orientalism continue to color studies of gender in ancient Iraq. This talk outlines the challenges and opportunities that a rich corpus of religious and ritual texts\, primarily from the late second and early first millennia BCE\, presents for addressing this legacy. Contemporary understandings of gendered religious titles in Mesopotamia rely on Orientalist tropes that guided the decipherment of the Akkadian language itself\, distorting our understanding of the social landscape of gender. Through a case study\, I will show how a reevaluation of the textual record can furnish a more accurate understanding of the intersection of gender and religious authority in Mesopotamia.\n\nJessie DeGrado is an assistant professor of Middle East Studies at the University of Michigan. His interests include the intersection of empire\, gender\, and religion in the early first millennium BCE. His current book project explores the entanglement of modern imperialism with the historiography of ancient empire. He is also in the early stages of a project that treats religious texts and ritual sites as loci of gender consolidation and contestation in ancient Mesopotamia.
UID:128020-21860059@events.umich.edu
URL:https://events.umich.edu/event/128020
CLASS:PUBLIC
STATUS:CONFIRMED
CATEGORIES:religious,institute for research on women and gender,intercultural,irwg,Language,LGBT,literature,Middle East Studies,race,Arabic,research,sex,Social,Social Impact,social justice,Talk,women's studies,World Literature,In Person,Author,Books,Communication,Culture,Discussion,Diversity,Diversity Equity and Inclusion,Faculty,gender,Gender Equality,gender studies,global,history,humanities,Inclusion,free
LOCATION:Off Campus Location
CONTACT:
END:VEVENT
BEGIN:VEVENT
DTSTAMP:20241029T093858
DTSTART;TZID=America/Detroit:20241101T120000
DTEND;TZID=America/Detroit:20241101T130000
SUMMARY:Lecture / Discussion:Ostrich eggshell bead-making in East Africa: a study of  crafting in the El Molo community\, Kenya
DESCRIPTION:African societies have produced ostrich eggshell beads for over 50\,000 years. These beads are still used in East Africa and other regions. However\, the only well-documented ethnographic records of their manufacture come from the San and Bakgalagadi communities in the Kalahari region of southern Africa. Despite this\, some aspects of their social significance remain largely unexplored.\n\nHistorically\, research on ostrich eggshell beads in southern Africa has focused mainly on their use in exchange contexts\, with less emphasis on their role in bodily adornment or the social contexts of their manufacture and consumption. This talk reports on the production process of ostrich eggshell beads and their cultural significance among the El Molo community of Marsabit County\, Kenya.\n\nUndertaken as part of the British Museum’s Endangered Materials Knowledge Program (EMKP)\, this project utilized unstructured interviews\, participatory videos\, photography\, and note-taking to document the entire process of ostrich eggshell bead manufacture. It also examined the social significance of the different types of necklaces made from these beads within the community.
UID:128461-21860855@events.umich.edu
URL:https://events.umich.edu/event/128461
CLASS:PUBLIC
STATUS:CONFIRMED
CATEGORIES:Archaeology,Anthropology,Africa
LOCATION:School of Education - 1322
CONTACT:
END:VEVENT
BEGIN:VEVENT
DTSTAMP:20241018T103235
DTSTART;TZID=America/Detroit:20241101T120000
DTEND;TZID=America/Detroit:20241101T130000
SUMMARY:Workshop / Seminar:When biomolecules come together in clusters and condensates
DESCRIPTION:Cellular environments are dense with proteins and nucleic acids at high concentrations. Results from computer simulations and experiments are presented that explore dynamic associations ranging from clusters to condensates. From atomistic simulations and extensive comparisons with experimental data\, cluster formation involving proteins is identified as a major determinant of slowed-down diffusion at high concentration depending on protein interaction strength but also contact life times. Results from coarse-grained simulations with the recently developed COCOMO model explore charge-driven condensation involving different systems ranging from globular proteins and RNA to short peptides and RNA fragment and condensates composed of intrinsically disordered peptides. Finally\, recent results form atomistic simulations of condensates are presented to discuss molecular densities and dynamics inside biomolecular condensates.
UID:125330-21854750@events.umich.edu
URL:https://events.umich.edu/event/125330
CLASS:PUBLIC
STATUS:CONFIRMED
CATEGORIES:Biophysics
LOCATION:Chemistry Dow Lab - 1400
CONTACT:
END:VEVENT
END:VCALENDAR