BEGIN:VCALENDAR
VERSION:2.0
PRODID:-//UM//UM*Events//EN
CALSCALE:GREGORIAN
BEGIN:VTIMEZONE
TZID:America/Detroit
TZURL:http://tzurl.org/zoneinfo/America/Detroit
X-LIC-LOCATION:America/Detroit
BEGIN:DAYLIGHT
TZOFFSETFROM:-0500
TZOFFSETTO:-0400
TZNAME:EDT
DTSTART:20070311T020000
RRULE:FREQ=YEARLY;BYMONTH=3;BYDAY=2SU
END:DAYLIGHT
BEGIN:STANDARD
TZOFFSETFROM:-0400
TZOFFSETTO:-0500
TZNAME:EST
DTSTART:20071104T020000
RRULE:FREQ=YEARLY;BYMONTH=11;BYDAY=1SU
END:STANDARD
END:VTIMEZONE
BEGIN:VEVENT
DTSTAMP:20241116T063226
DTSTART;TZID=America/Detroit:20241101T123000
DTEND;TZID=America/Detroit:20241101T133000
SUMMARY:Careers / Jobs:UCC @ The Library: Activate Your Handshake Profile!
DESCRIPTION:Looking for a job and internship and not sure where to look? Drop by the UCC table at the Shapiro Library lobby to learn about Handshake and activate your profile. Handshake is the #1 college students find their opportunities.
UID:128618-21861370@events.umich.edu
URL:https://events.umich.edu/event/128618
CLASS:PUBLIC
STATUS:CONFIRMED
CATEGORIES:
LOCATION:Shapiro Undergraduate Library, First Floor, 919 S University Ave, Ann Arbor, MI 48109, USA
CONTACT:
END:VEVENT
BEGIN:VEVENT
DTSTAMP:20241116T063158
DTSTART;TZID=America/Detroit:20241101T130000
DTEND;TZID=America/Detroit:20241101T160000
SUMMARY:Careers / Jobs:Mathematics Career Fair
DESCRIPTION:Tabling for the Mathematics Career Fair
UID:128208-21860436@events.umich.edu
URL:https://events.umich.edu/event/128208
CLASS:PUBLIC
STATUS:CONFIRMED
CATEGORIES:
LOCATION:East Hall, Room 4096, East Hall, 530 Church St, Ann Arbor, MI 48109, USA
CONTACT:
END:VEVENT
BEGIN:VEVENT
DTSTAMP:20240913T133940
DTSTART;TZID=America/Detroit:20241101T130000
DTEND;TZID=America/Detroit:20241101T135000
SUMMARY:Meeting:PhonDi
DESCRIPTION:Phondi is a discussion and research group for students and faculty at U-M and nearby universities who have interests in phonetics and phonology. We meet roughly biweekly during the academic year to present our research\, discuss \"hot\" topics in the field\, and practice upcoming conference or other presentations. We welcome anyone with interests in phonetics and phonology to join us.
UID:126356-21856985@events.umich.edu
URL:https://events.umich.edu/event/126356
CLASS:PUBLIC
STATUS:CONFIRMED
CATEGORIES:Phonetics,Phonology
LOCATION:Off Campus Location
CONTACT:
END:VEVENT
END:VCALENDAR