BEGIN:VCALENDAR
VERSION:2.0
PRODID:-//UM//UM*Events//EN
CALSCALE:GREGORIAN
BEGIN:VTIMEZONE
TZID:America/Detroit
TZURL:http://tzurl.org/zoneinfo/America/Detroit
X-LIC-LOCATION:America/Detroit
BEGIN:DAYLIGHT
TZOFFSETFROM:-0500
TZOFFSETTO:-0400
TZNAME:EDT
DTSTART:20070311T020000
RRULE:FREQ=YEARLY;BYMONTH=3;BYDAY=2SU
END:DAYLIGHT
BEGIN:STANDARD
TZOFFSETFROM:-0400
TZOFFSETTO:-0500
TZNAME:EST
DTSTART:20071104T020000
RRULE:FREQ=YEARLY;BYMONTH=11;BYDAY=1SU
END:STANDARD
END:VTIMEZONE
BEGIN:VEVENT
DTSTAMP:20241022T162507
DTSTART;TZID=America/Detroit:20241122T133000
DTEND;TZID=America/Detroit:20241122T150000
SUMMARY:Social / Informal Gathering:November International Coffee Hour
DESCRIPTION:International Coffee Hour is a great opportunity to meet new people from around the world! The event is open to all members of the U-M community\, including international and U.S. students\, scholars\, faculty\, staff\, and their partners.\n\nOur November event will be held at the office of our co-sponsor\, the Spectrum Center! \n\nSpectrum Center is a campus resource center dedicated to serving and supporting members of the University of Michigan's LGBTQIA2S+ communities. Come meet\, and hang out\, and enjoy refreshments with us!
UID:128189-21860411@events.umich.edu
URL:https://events.umich.edu/event/128189
CLASS:PUBLIC
STATUS:CONFIRMED
CATEGORIES:LGBT,Multicultural
LOCATION:Michigan Union - Spectrum Center (Room 3020)
CONTACT:
END:VEVENT
BEGIN:VEVENT
DTSTAMP:20241115T153029
DTSTART;TZID=America/Detroit:20241122T140000
DTEND;TZID=America/Detroit:20241122T145000
SUMMARY:Meeting:HistLing
DESCRIPTION:HistLing is devoted to discussions of language change. Group members include interested faculty\, graduate students\, and undergraduates from a wide variety of U-M departments -- Linguistics\, Anthropology\, Asian Languages and Cultures\, Classics\, Germanic Languages\, Near Eastern Studies\, Romance Languages\, Slavic Languages - and from two nearby universities\, Eastern Michigan (Ypsilanti) and Wayne State (Detroit).  \n\nSome meetings feature faculty or student presentations\; other meetings have an announced topic for discussion and a volunteer moderator\, but no formal presentation.
UID:126393-21857076@events.umich.edu
URL:https://events.umich.edu/event/126393
CLASS:PUBLIC
STATUS:CONFIRMED
CATEGORIES:Language Change
LOCATION:Off Campus Location
CONTACT:
END:VEVENT
BEGIN:VEVENT
DTSTAMP:20241207T123108
DTSTART;TZID=America/Detroit:20241122T140000
DTEND;TZID=America/Detroit:20241122T150000
SUMMARY:Careers / Jobs:Resume Lab
DESCRIPTION:*RSVP required to attend. Click \"Join Event\" here: https://umich.joinhandshake.com/edu/events/1636015Just getting started building a resume? Have a draft but not sure how to make it better? Want to learn about resources available to revise your resume? Wherever you’re at Resume Lab is a great next step for you. Get real-time\, personalized support in a small group setting by checking out the Resume Lab. We will discuss and educate you on…- Design and format- Writing a great bullet point- Targeting your resume for specific internships/jobs If you're a Graduate Student or Recent Grad\, please make a 1:1 appointment instead of attending the Lab because this event is designed for undergraduates. Note: This event's information is shown in Handshake as well as on theHappening @ Michigan calendar so that it will be seen by a larger number of U-M Students.
UID:128026-21860069@events.umich.edu
URL:https://events.umich.edu/event/128026
CLASS:PUBLIC
STATUS:CONFIRMED
CATEGORIES:
LOCATION:University Career Center, 3200 Student Activities Building, Program Room (3003), 515 E Jefferson St, Ann Arbor, MI, United States
CONTACT:
END:VEVENT
END:VCALENDAR