BEGIN:VCALENDAR
VERSION:2.0
PRODID:-//UM//UM*Events//EN
CALSCALE:GREGORIAN
BEGIN:VTIMEZONE
TZID:America/Detroit
TZURL:http://tzurl.org/zoneinfo/America/Detroit
X-LIC-LOCATION:America/Detroit
BEGIN:DAYLIGHT
TZOFFSETFROM:-0500
TZOFFSETTO:-0400
TZNAME:EDT
DTSTART:20070311T020000
RRULE:FREQ=YEARLY;BYMONTH=3;BYDAY=2SU
END:DAYLIGHT
BEGIN:STANDARD
TZOFFSETFROM:-0400
TZOFFSETTO:-0500
TZNAME:EST
DTSTART:20071104T020000
RRULE:FREQ=YEARLY;BYMONTH=11;BYDAY=1SU
END:STANDARD
END:VTIMEZONE
BEGIN:VEVENT
DTSTAMP:20240913T140344
DTSTART;TZID=America/Detroit:20241122T150000
DTEND;TZID=America/Detroit:20241122T160000
SUMMARY:Meeting:DocDi
DESCRIPTION:The DocDi Group is a collaborative forum\, open to both students and faculty\, who share an interest in the areas of Field Linguistics\, Fieldwork Methods\, Language Documentation\, and Language Description. Serving as an invaluable platform for friendly intellectual exchange\, DocDi promotes an interactive environment where members have the opportunity to present their respective research\, share their experiences\, and discuss innovative ideas and tools aimed at augmenting the effectiveness of fieldwork and documentary/descriptive projects.
UID:126392-21857068@events.umich.edu
URL:https://events.umich.edu/event/126392
CLASS:PUBLIC
STATUS:CONFIRMED
CATEGORIES:Language Documentation,Linguistic Fieldwork Methodologies
LOCATION:Off Campus Location
CONTACT:
END:VEVENT
BEGIN:VEVENT
DTSTAMP:20241030T134950
DTSTART;TZID=America/Detroit:20241122T150000
DTEND;TZID=America/Detroit:20241122T170000
SUMMARY:Workshop / Seminar:Fall 2024 ChE Undergraduate Open House
DESCRIPTION:Talk with the Chemical Engineering faculty\, peer mentors\, student advisor\, and staff!  \nWe will provide information packs\, small giveaways\, and light refreshments. \nCheck out student project posters for ChE 230 (Sophomore class)\, ChE 342 (Junior Class)\, and ChE 487 (Senior Design) at the Open House!\nThis is a great opportunity to learn more about what Chemical Engineering really is and what our graduates actually do.\nPlease RSVP so we can be better prepared for you!
UID:124647-21853487@events.umich.edu
URL:https://events.umich.edu/event/124647
CLASS:PUBLIC
STATUS:CONFIRMED
CATEGORIES:Sessions
LOCATION:Chrysler Center
CONTACT:
END:VEVENT
BEGIN:VEVENT
DTSTAMP:20241105T161552
DTSTART;TZID=America/Detroit:20241122T150000
DTEND;TZID=America/Detroit:20241122T160000
SUMMARY:Other:Graduate Programs in International Studies
DESCRIPTION:This fall Columbia University School of International and Public Affairs\, Georgetown University Walsh School of Foreign Service\, Johns Hopkins University School of Advanced International Studies\, and Tufts University Fletcher School of Law and Diplomacy will be visiting the Opportunity Hub to talk to LSA prospective students who may be interested in pursuing their graduate studies in international affairs. The presentation will include general topics such as academic offerings\, admissions requirements\, financial support\, and preparation for career opportunities in the international affairs field. Come learn more about our programs and schools and have all your questions answered! \n\nRSVP today to reserve your spot for this upcoming event. Once your RSVP is complete\, you’ll receive a confirmation email with the event details. \n\nThe Opportunity Hub aims to deliver inclusive and accessible experiences and welcomes all LSA students to participate. This event is on the first floor of a wheelchair accessible building which includes wheelchair-accessible restrooms on the first floor\, a gender-inclusive and accessible restroom on the first floor as well\, and places to sit or stand during the event. To request other accommodations please contact LSA Hub Events at lsa.hubevents@umich.edu  or 734-763-4674 so we can make arrangements.
UID:128787-21861629@events.umich.edu
URL:https://events.umich.edu/event/128787
CLASS:PUBLIC
STATUS:CONFIRMED
CATEGORIES:
LOCATION:LSA Building - 1280
CONTACT:
END:VEVENT
END:VCALENDAR