BEGIN:VCALENDAR
VERSION:2.0
PRODID:-//UM//UM*Events//EN
CALSCALE:GREGORIAN
BEGIN:VTIMEZONE
TZID:America/Detroit
TZURL:http://tzurl.org/zoneinfo/America/Detroit
X-LIC-LOCATION:America/Detroit
BEGIN:DAYLIGHT
TZOFFSETFROM:-0500
TZOFFSETTO:-0400
TZNAME:EDT
DTSTART:20070311T020000
RRULE:FREQ=YEARLY;BYMONTH=3;BYDAY=2SU
END:DAYLIGHT
BEGIN:STANDARD
TZOFFSETFROM:-0400
TZOFFSETTO:-0500
TZNAME:EST
DTSTART:20071104T020000
RRULE:FREQ=YEARLY;BYMONTH=11;BYDAY=1SU
END:STANDARD
END:VTIMEZONE
BEGIN:VEVENT
DTSTAMP:20240913T120243
DTSTART;TZID=America/Detroit:20241101T140000
DTEND;TZID=America/Detroit:20241101T145000
SUMMARY:Meeting:Prosody
DESCRIPTION:The Prosody Group consists of researchers interested in any aspect of prosody. We meet biweekly throughout the year to present our work in progress\, read papers\, and practice for upcoming presentations. Please join us if this sounds interesting to you!
UID:126357-21857000@events.umich.edu
URL:https://events.umich.edu/event/126357
CLASS:PUBLIC
STATUS:CONFIRMED
CATEGORIES:
LOCATION:Off Campus Location - Lorch 471
CONTACT:
END:VEVENT
BEGIN:VEVENT
DTSTAMP:20241116T123152
DTSTART;TZID=America/Detroit:20241101T140000
DTEND;TZID=America/Detroit:20241101T150000
SUMMARY:Careers / Jobs:Resume Lab
DESCRIPTION:*RSVP required to attend. Click \"Join Event\" here: https://umich.joinhandshake.com/edu/events/1636009Just getting started building a resume? Have a draft but not sure how to make it better? Want to learn about resources available to revise your resume? Wherever you’re at Resume Lab is a great next step for you. Get real-time\, personalized support in a small group setting by checking out the Resume Lab. We will discuss and educate you on…- Design and format- Writing a great bullet point- Targeting your resume for specific internships/jobs If you're a Graduate Student or Recent Grad\, please make a 1:1 appointment instead of attending the Lab because this event is designed for undergraduates. Note: This event's information is shown in Handshake as well as on theHappening @ Michigan calendar so that it will be seen by a larger number of U-M Students.
UID:128024-21860067@events.umich.edu
URL:https://events.umich.edu/event/128024
CLASS:PUBLIC
STATUS:CONFIRMED
CATEGORIES:
LOCATION:University Career Center, 3200 Student Activities Building, Program Room (3003), 515 E Jefferson St, Ann Arbor, MI, United States
CONTACT:
END:VEVENT
BEGIN:VEVENT
DTSTAMP:20241006T141632
DTSTART;TZID=America/Detroit:20241101T140000
DTEND;TZID=America/Detroit:20241101T143000
SUMMARY:Exhibition:Tales of the Maya Skies
DESCRIPTION:Tales of the Maya Skies immerses viewers in the wonders of Maya science\, cosmology and myth. This beautifully illustrated story takes us back in time to the jungles of Mexico to discover how Maya scholars developed a sophisticated understanding of astronomy\, architecture\, and mathematics that enabled them to predict solstices\, solar eclipses\, weather patterns and planetary movements.
UID:124089-21861272@events.umich.edu
URL:https://events.umich.edu/event/124089
CLASS:PUBLIC
STATUS:CONFIRMED
CATEGORIES:Museum,natural history museum,Science,Space
LOCATION:Museum of Natural History
CONTACT:
END:VEVENT
END:VCALENDAR