BEGIN:VCALENDAR
VERSION:2.0
PRODID:-//UM//UM*Events//EN
CALSCALE:GREGORIAN
BEGIN:VTIMEZONE
TZID:America/Detroit
TZURL:http://tzurl.org/zoneinfo/America/Detroit
X-LIC-LOCATION:America/Detroit
BEGIN:DAYLIGHT
TZOFFSETFROM:-0500
TZOFFSETTO:-0400
TZNAME:EDT
DTSTART:20070311T020000
RRULE:FREQ=YEARLY;BYMONTH=3;BYDAY=2SU
END:DAYLIGHT
BEGIN:STANDARD
TZOFFSETFROM:-0400
TZOFFSETTO:-0500
TZNAME:EST
DTSTART:20071104T020000
RRULE:FREQ=YEARLY;BYMONTH=11;BYDAY=1SU
END:STANDARD
END:VTIMEZONE
BEGIN:VEVENT
DTSTAMP:20240329T114027
DTSTART;TZID=America/Detroit:20240415T113000
DTEND;TZID=America/Detroit:20240415T130000
SUMMARY:Lecture / Discussion:The Reception of Roman Satire
DESCRIPTION:Please join us on Monday\, April 15th from 11:30-1:00 in the Comparative Literature Library (Tisch 2021C)\, for a talk by Professor Ian Fielding on \"The reception of Roman satire as a provocation to reception theory.\"\n\nIn this workshop\, Ian Fielding will present material from the introduction to his monograph in progress\, currently titled Roman satire\, and the fall of Rome.\n\nThis book examines the intersecting receptions of the Roman satirist Juvenal in Edward Gibbon’s History of the Decline and Fall of the Roman Empire (1776-88) and in Gibbon’s late Roman source texts.\n\nThe introduction addresses some methodological issues raised by this complex case of classical receptions\, which spans different periods and genres.\n\nIt takes the interpretive direction Juvenal gives his audience at the end of his first satire—to read the past into the present\, and the present into the past—as a provocation to think critically about how reception works\, while attempting to find a suitably anachronic approach to the reception of this untimely satirist.\n\nPlease also RSVP if you plan to attend the event\, and indicate if you would like to receive a pre-circulated paper in advance. \n\nThis event is part of the Contexts for Classics Works in Progress Series\, and is co-sponsored by Contexts for Classics and the Departments of Classical Studies and Comparative Literature.
UID:120749-21845213@events.umich.edu
URL:https://events.umich.edu/event/120749
CLASS:PUBLIC
STATUS:CONFIRMED
CATEGORIES:Classical Studies,Lecture,Free,Comparative Literature,classics
LOCATION:Tisch Hall - 2021C, Comparative Literature Library
CONTACT:
END:VEVENT
BEGIN:VEVENT
DTSTAMP:20240314T121507
DTSTART;TZID=America/Detroit:20240415T120000
DTEND;TZID=America/Detroit:20240415T170000
SUMMARY:Exhibition:Anedged: 2024 MFA First Year Exhibition
DESCRIPTION:This annual celebration of the work of Stamps MFA in Art candidates features work by first-year students:\nHannah BuchananSam GriffithLaura MackieAndy MaticorenaCharlie ReynoldsDarren SpirkCress Thibodeaux\nThe 2024 MFA First Year Exhibition takes place March 22 - April 29\, 2024 at the Stamps Graduate/Faculty Studios\, 1919 Green Rd\, Ann Arbor\, MI 48109. \nJoin us at the public exhibition reception on Friday\, March 22 from 6-8pm (no RSVP required). Viewings March 23-April 29 are available by appointment only\; please contact Hannah Buchanan to arrange a visit.
UID:119889-21843761@events.umich.edu
URL:https://events.umich.edu/event/119889
CLASS:PUBLIC
STATUS:CONFIRMED
CATEGORIES:Art
LOCATION:Off Campus Location
CONTACT:
END:VEVENT
BEGIN:VEVENT
DTSTAMP:20240206T181717
DTSTART;TZID=America/Detroit:20240415T120000
DTEND;TZID=America/Detroit:20240415T123000
SUMMARY:Performance:Christine El-Hage\, carillon
DESCRIPTION:Christine El-Hage performs on the Charles Baird Carillon\, an instrument of 53 bronze bells located inside the Burton Memorial Tower. The largest bell\, which strikes the hour\, weighs 12 tons\, while the smallest bell\, 4½ octaves above\, weighs just 15 pounds.\n\nThirty-minute recitals are performed on the Charles Baird Carillon at noon every weekday that classes are in session\, followed by visitor Q&A with the carillonist. The bell chamber may be accessed via a combination of elevator and stairs. Take the elevator to the highest floor possible (floor 8)\, and then climb two flights of stairs (39 steps) to the bell chamber (floor 10). Earplugs are available from the carillonist upon request. Be prepared to walk on ice and snow in the bell chamber during winter. Built in 1936\, the Charles Baird Carillon is not ADA accessible. Visitors with mobility concerns are invited to visit the Lurie Carillon: https://smtd.umich.edu/facilities/ann-and-robert-h-lurie-carillon/
UID:118519-21841171@events.umich.edu
URL:https://events.umich.edu/event/118519
CLASS:PUBLIC
STATUS:CONFIRMED
CATEGORIES:Free,Talk,Music,In Person
LOCATION:Burton Memorial Tower
CONTACT:
END:VEVENT
END:VCALENDAR