BEGIN:VCALENDAR
VERSION:2.0
PRODID:-//UM//UM*Events//EN
CALSCALE:GREGORIAN
BEGIN:VTIMEZONE
TZID:America/Detroit
TZURL:http://tzurl.org/zoneinfo/America/Detroit
X-LIC-LOCATION:America/Detroit
BEGIN:DAYLIGHT
TZOFFSETFROM:-0500
TZOFFSETTO:-0400
TZNAME:EDT
DTSTART:20070311T020000
RRULE:FREQ=YEARLY;BYMONTH=3;BYDAY=2SU
END:DAYLIGHT
BEGIN:STANDARD
TZOFFSETFROM:-0400
TZOFFSETTO:-0500
TZNAME:EST
DTSTART:20071104T020000
RRULE:FREQ=YEARLY;BYMONTH=11;BYDAY=1SU
END:STANDARD
END:VTIMEZONE
BEGIN:VEVENT
DTSTAMP:20240916T125830
DTSTART;TZID=America/Detroit:20241022T163000
DTEND;TZID=America/Detroit:20241022T180000
SUMMARY:Lecture / Discussion:Jewish Law and Gentile Hearers: The Goals of the Apostle Paul
DESCRIPTION:Paul\, the \"apostle to the gentiles\,\" urges his ex-pagan auditors to observe some Jewish law\, but he is not (perhaps especially given his audience) a halakhic thinker: he’s improvising.\n\nPaul is attempting to come up with a program of mitigated Jewish law-observance for non-Jews. He defends this proposition not through legal reasoning\, but via his apocalyptic commitments. He’s teaching a kind of Judaism 2.0 for gentiles. This presentation will explore\, then\, what Paul says and why about Jewish law in the face of his commitment to an imminent end of time.\n\n\n\nPaula Fredriksen\, a fellow of the American Academy of Arts and Sciences\, is Aurelio Professor of Scripture emerita at Boston University. In 2009\, she became a member of the Department of Comparative Religions at the Hebrew University of Jerusalem\, which awarded her an honorary doctorate in 2018. An historian of ancient Christianity\, she also writes on pagan-Jewish-Christian relations in the Roman Empire. Among her publications are Augustine and the Jews (Yale 2010) and Paul. The Pagans’ Apostle (Yale 2017). When Christians Were Jews (Yale 2018) appeared as Hebrew Edition: כשהנוצרים היו יהודים (Jerusalem: Magnes Press\, 2021). Her most recent study\, Ancient Christianities: The First Five Hundred Years\, has just been published by Princeton University Press (2024).
UID:123365-21850826@events.umich.edu
URL:https://events.umich.edu/event/123365
CLASS:PUBLIC
STATUS:CONFIRMED
CATEGORIES:Interfaith,Religion,judaic studies,Judaic,jewish studies,Frankel Center For Judaic Studies
LOCATION:202 S. Thayer - 2022
CONTACT:
END:VEVENT
BEGIN:VEVENT
DTSTAMP:20241022T162046
DTSTART;TZID=America/Detroit:20241022T163000
DTEND;TZID=America/Detroit:20241022T180000
SUMMARY:Workshop / Seminar:MHESA + HPSA Internship Bootcamp Session #5: Cover Letters & Odyssey
DESCRIPTION:
UID:126042-21856450@events.umich.edu
URL:https://events.umich.edu/event/126042
CLASS:PUBLIC
STATUS:CONFIRMED
CATEGORIES:Sessions
LOCATION:SPH1 1680
CONTACT:
END:VEVENT
BEGIN:VEVENT
DTSTAMP:20240808T104455
DTSTART;TZID=America/Detroit:20241022T170000
DTEND;TZID=America/Detroit:20241022T180000
SUMMARY:Lecture / Discussion:Regent Candidate Forum
DESCRIPTION:5:00-6:00 PM\n\nTUESDAY OCTOBER 22\, 2024\n\nTHE MICHIGAN THEATER\, SCREENING ROOM\n\n603 E. LIBERTY\n\n\nThe Faculty Senate Office invites you to meet the 2024 candidates for the U-M Board of Regents. Candidates will present their qualifications\, articulate their vision for the University\, and respond to questions. The election of members to the Board of Regents significantly impacts the governance of the University. The Regent Candidate Forum promotes civic engagement\, informed decision-making\, and transparency\, and encourages elected Regents to be representative of and responsive to the needs of the community they serve. Political Science Professor Pauline Jones will moderate the panel event.\n\nRegistration for this event will open on September 1\, 2024. Registration is free and open to the public.
UID:124005-21852276@events.umich.edu
URL:https://events.umich.edu/event/124005
CLASS:PUBLIC
STATUS:CONFIRMED
CATEGORIES:Discussion,Faculty Governance,In Person,Politics,Public Policy
LOCATION:Off Campus Location - Michigan Theater, Screening Room
CONTACT:
END:VEVENT
END:VCALENDAR