BEGIN:VCALENDAR
VERSION:2.0
PRODID:-//UM//UM*Events//EN
CALSCALE:GREGORIAN
BEGIN:VTIMEZONE
TZID:America/Detroit
TZURL:http://tzurl.org/zoneinfo/America/Detroit
X-LIC-LOCATION:America/Detroit
BEGIN:DAYLIGHT
TZOFFSETFROM:-0500
TZOFFSETTO:-0400
TZNAME:EDT
DTSTART:20070311T020000
RRULE:FREQ=YEARLY;BYMONTH=3;BYDAY=2SU
END:DAYLIGHT
BEGIN:STANDARD
TZOFFSETFROM:-0400
TZOFFSETTO:-0500
TZNAME:EST
DTSTART:20071104T020000
RRULE:FREQ=YEARLY;BYMONTH=11;BYDAY=1SU
END:STANDARD
END:VTIMEZONE
BEGIN:VEVENT
DTSTAMP:20241107T164318
DTSTART;TZID=America/Detroit:20241113T180000
DTEND;TZID=America/Detroit:20241113T200000
SUMMARY:Social / Informal Gathering:Fall into Wellness
DESCRIPTION:De-stress at this fun come and go event presented by Trotter Multicultural Center & Wolverine Wellness! We will have food\, music\, and a therapy dog for students to pet!
UID:128381-21860762@events.umich.edu
URL:https://events.umich.edu/event/128381
CLASS:PUBLIC
STATUS:CONFIRMED
CATEGORIES:Wellness,Trotter Multicultural Center,Sessions,Community,Central Campus
LOCATION:Trotter Multicultural Center
CONTACT:
END:VEVENT
BEGIN:VEVENT
DTSTAMP:20241128T123208
DTSTART;TZID=America/Detroit:20241113T180000
DTEND;TZID=America/Detroit:20241113T190000
SUMMARY:Careers / Jobs:Get to Know Jane Street's Trading Desk Operations Engineer (TDOE) Internship
DESCRIPTION:Get to Know Trading Desk Operations Engineer (TDOE)at Jane Street! Date: Wednesday\, November 13thLocation: ZoomTime: 6:00pm - 7:00pm ETJoin us for a virtual information session aboutJane Street's TDOE Internship! As a Trading Desk Operations Engineer (TDOE) intern\, you’ll be integral to the firm’s success\, helping to build and maintain desk infrastructure that supports the trading of thousands of financial products across 200 venues in over 45 countries. TDOEInterns wear many hats\, helping to manage the operational side of the trading desk’s activities and interfacing with various groups within the firm to ensure our work is accurate and efficient. Join us to learn more!Sign up here by 12PM on Tuesday\, November 12th. We will confirm attendees by EOD on November 12th. _______________Jane Street is a quantitative trading firm with offices worldwide. We hire smart\, humble people who love to solve problems\, build systems\, and test theories.You’ll learn something new every day in our office—whether it’s connecting with a colleague to share perspectives\, or participating in a talk\, class\, or game night. Our success is driven by our people and we never stop improving.Want to learn more? Check out the latest happenings at Jane Street.
UID:128614-21861366@events.umich.edu
URL:https://events.umich.edu/event/128614
CLASS:PUBLIC
STATUS:CONFIRMED
CATEGORIES:
LOCATION:
CONTACT:
END:VEVENT
BEGIN:VEVENT
DTSTAMP:20240903T093206
DTSTART;TZID=America/Detroit:20241113T180000
DTEND;TZID=America/Detroit:20241113T190000
SUMMARY:Workshop / Seminar:Michigan Computer Graphics - General Meeting
DESCRIPTION:At Michigan Computer Graphics (MCG)\, our goal is to offer all interested campus members a unique platform to explore\, learn\, discuss\, and engage with the various disciplines of computer graphics (CG). You'll have the opportunity to collaborate on exciting projects\, develop creative skills\, and expand your network within the industry and beyond.\n\nThis is MCG's weekly general meeting. Join us for a variety of content and events\, including introductory presentations\, hands-on projects\, and guest speakers!\n\nhttps://michigancg.org/
UID:125520-21855259@events.umich.edu
URL:https://events.umich.edu/event/125520
CLASS:PUBLIC
STATUS:CONFIRMED
CATEGORIES:Visual Arts,Engineering,Electrical Engineering and Computer Science,Art
LOCATION:Electrical Engineering and Computer Science Building - 1005
CONTACT:
END:VEVENT
END:VCALENDAR