BEGIN:VCALENDAR
VERSION:2.0
PRODID:-//UM//UM*Events//EN
CALSCALE:GREGORIAN
BEGIN:VTIMEZONE
TZID:America/Detroit
TZURL:http://tzurl.org/zoneinfo/America/Detroit
X-LIC-LOCATION:America/Detroit
BEGIN:DAYLIGHT
TZOFFSETFROM:-0500
TZOFFSETTO:-0400
TZNAME:EDT
DTSTART:20070311T020000
RRULE:FREQ=YEARLY;BYMONTH=3;BYDAY=2SU
END:DAYLIGHT
BEGIN:STANDARD
TZOFFSETFROM:-0400
TZOFFSETTO:-0500
TZNAME:EST
DTSTART:20071104T020000
RRULE:FREQ=YEARLY;BYMONTH=11;BYDAY=1SU
END:STANDARD
END:VTIMEZONE
BEGIN:VEVENT
DTSTAMP:20241122T130435
DTSTART;TZID=America/Detroit:20241122T150000
DTEND;TZID=America/Detroit:20241122T160000
SUMMARY:Workshop / Seminar:Student Algebraic Geometry: From rigid analytic spaces to adic spaces
DESCRIPTION:In Math 731\, we studied Berkovich analytic spaces\, which are analogues of complex analytic spaces over non-archimedean fields. In this talk\, we will explore other approaches to non-archimedean geometry. Tate was the first to successfully develop a form of non-archimedean geometry. Here\, the basic objects of study are rigid analytic spaces. These are obtained by gluing maximal spectra of affinoid algebras endowed with Grothendieck topologies. However\, rigid spaces are deficient in points\, so several refinements have evolved. Raynaud treats rigid spaces as generic fibers of formal models over the valuation ring. Huber develops a new framework called adic spaces\, which are generalizations of rigid spaces. If time permits\, we will also discuss cohomology of these spaces.
UID:129204-21862327@events.umich.edu
URL:https://events.umich.edu/event/129204
CLASS:PUBLIC
STATUS:CONFIRMED
CATEGORIES:Mathematics
LOCATION:East Hall - 2866
CONTACT:
END:VEVENT
BEGIN:VEVENT
DTSTAMP:20240913T121253
DTSTART;TZID=America/Detroit:20241122T150000
DTEND;TZID=America/Detroit:20241122T160000
SUMMARY:Meeting:SynSem
DESCRIPTION:The syntax-semantics group provides a forum within which Linguistics students and faculty at UM\, and from neighboring universities (thus far including EMU\, MSU\, Oakland University\, Wayne State and UM-Flint) can informally present or just discuss and share their ongoing research in these domains. The group is frequently used by students to practice conference presentations and receive constructive feedback from familiar faces.
UID:126362-21857023@events.umich.edu
URL:https://events.umich.edu/event/126362
CLASS:PUBLIC
STATUS:CONFIRMED
CATEGORIES:Semantics,Syntax
LOCATION:Off Campus Location - Lorch 473
CONTACT:
END:VEVENT
BEGIN:VEVENT
DTSTAMP:20250117T103736
DTSTART;TZID=America/Detroit:20241122T153000
DTEND;TZID=America/Detroit:20241122T170000
SUMMARY:Workshop / Seminar:Interdisciplinary Workshop in Race\, Ethnicity and Politics
DESCRIPTION:Racial and ethnic identities play a key role in shaping behaviors\, attitudes\, institutions and social structures. As such\, scholars across disciplines have been devoted to investigating how race and ethnicity feature in every aspect of social and political life. The purpose of I-REP (Interdisciplinary Workshop in Race\, Ethnicity and Politics) is to provide a space for scholars whose research centers race\, ethnicity and politics across a number of fields to receive critical feedback on the early stages of their work (especially graduate students)\, build community with other researchers who share similar interests and offer an opportunity for participants to collaborate on a joint research project within the working group.
UID:112497-21857420@events.umich.edu
URL:https://events.umich.edu/event/112497
CLASS:PUBLIC
STATUS:CONFIRMED
CATEGORIES:Department Of Political Science,Political Science
LOCATION:Haven Hall - 5769 Pre-Function
CONTACT:
END:VEVENT
END:VCALENDAR