BEGIN:VCALENDAR
VERSION:2.0
PRODID:-//UM//UM*Events//EN
CALSCALE:GREGORIAN
BEGIN:VTIMEZONE
TZID:America/Detroit
TZURL:http://tzurl.org/zoneinfo/America/Detroit
X-LIC-LOCATION:America/Detroit
BEGIN:DAYLIGHT
TZOFFSETFROM:-0500
TZOFFSETTO:-0400
TZNAME:EDT
DTSTART:20070311T020000
RRULE:FREQ=YEARLY;BYMONTH=3;BYDAY=2SU
END:DAYLIGHT
BEGIN:STANDARD
TZOFFSETFROM:-0400
TZOFFSETTO:-0500
TZNAME:EST
DTSTART:20071104T020000
RRULE:FREQ=YEARLY;BYMONTH=11;BYDAY=1SU
END:STANDARD
END:VTIMEZONE
BEGIN:VEVENT
DTSTAMP:20240325T101202
DTSTART;TZID=America/Detroit:20240415T120000
DTEND;TZID=America/Detroit:20240415T140000
SUMMARY:Workshop / Seminar:DEI Impact Awards
DESCRIPTION:Greetings\,\n\nYou are invited to attend the DEI Impact Awards Celebrating Achievements that advance Diversity\, Equity\, and Inclusion in Social Work. This event will be held on Monday April 15\, 2024 12p- 2p in the Educational Conference Center room 1840 at the School of Social Work. To submit a nomination and to register to attend scan the QR codes that are attached in the flyer. \n\nHope to see you there!
UID:120682-21845125@events.umich.edu
URL:https://events.umich.edu/event/120682
CLASS:PUBLIC
STATUS:CONFIRMED
CATEGORIES:Diversity Equity and Inclusion
LOCATION:School of Social Work Building - Educational Conference Center 1840
CONTACT:
END:VEVENT
BEGIN:VEVENT
DTSTAMP:20240904T141855
DTSTART;TZID=America/Detroit:20240415T120000
DTEND;TZID=America/Detroit:20240415T130000
SUMMARY:Workshop / Seminar:Interdisciplinary Workshop on Gender and Politics
DESCRIPTION:The Interdisciplinary Workshop on Gender and Politics (IGAP) is a Rackham Interdisciplinary Workshop for scholars interested in studying the relationships between gender\, sexuality\, and politics. We invite scholars across disciplines and methodologies to attend and present their work.
UID:113294-21839342@events.umich.edu
URL:https://events.umich.edu/event/113294
CLASS:PUBLIC
STATUS:CONFIRMED
CATEGORIES:Department Of Political Science,Political Science
LOCATION:Institute For Social Research - 1440
CONTACT:
END:VEVENT
BEGIN:VEVENT
DTSTAMP:20240430T063124
DTSTART;TZID=America/Detroit:20240415T120000
DTEND;TZID=America/Detroit:20240415T130000
SUMMARY:Careers / Jobs:NNSA Graduate Fellowship Program Info Session - University of Michigan
DESCRIPTION:Register in advance for this info session: Register in advancefor this info session: https://pnnl.zoomgov.com/webinar/register/WN_2YaflQoeTiqD7cDzPeofmg#/registration \n\nAre you a curious person looking for afulfilling and impactful career? Do you seek to address challenges at theforefront of our national security landscape? Whether you are majoring inbusiness\, the sciences\, policy\, or engineering\, or any graduate degree\, the NNSA Graduate Fellowship Program may have an opportunity for you! Join us to learn more! Please join our University Relationship Manager to learn more about this outstanding opportunity!
UID:120782-21845295@events.umich.edu
URL:https://events.umich.edu/event/120782
CLASS:PUBLIC
STATUS:CONFIRMED
CATEGORIES:
LOCATION:
CONTACT:
END:VEVENT
END:VCALENDAR