BEGIN:VCALENDAR
VERSION:2.0
PRODID:-//UM//UM*Events//EN
CALSCALE:GREGORIAN
BEGIN:VTIMEZONE
TZID:America/Detroit
TZURL:http://tzurl.org/zoneinfo/America/Detroit
X-LIC-LOCATION:America/Detroit
BEGIN:DAYLIGHT
TZOFFSETFROM:-0500
TZOFFSETTO:-0400
TZNAME:EDT
DTSTART:20070311T020000
RRULE:FREQ=YEARLY;BYMONTH=3;BYDAY=2SU
END:DAYLIGHT
BEGIN:STANDARD
TZOFFSETFROM:-0400
TZOFFSETTO:-0500
TZNAME:EST
DTSTART:20071104T020000
RRULE:FREQ=YEARLY;BYMONTH=11;BYDAY=1SU
END:STANDARD
END:VTIMEZONE
BEGIN:VEVENT
DTSTAMP:20241128T183134
DTSTART;TZID=America/Detroit:20241113T180000
DTEND;TZID=America/Detroit:20241113T190000
SUMMARY:Careers / Jobs:PGY1 Community-based Pharmacy Residency Open House
DESCRIPTION:Join us to learn more about our PGY1 Community-based Pharmacy Residency Program at St. Luke's\, and hear from our Community pharmacy leadership\, residency leaders and current residents in this hour-long informational and Q&amp\;A session!At St. Luke’s Health System\, ourvibrant team is the heartbeat of our organization! As the state's largestemployer\, we proudly boast over 13\,500 staff members and more than 1\,800 dedicated medical professionals\, all passionate about transforming lives in our community.Our pharmacy team plays a pivotal role\, offering evidence-based pharmaceutical care while fostering collaboration in a supportive environment. Through our dynamic 12-month PGY1 Community-based Pharmacy Residency Program\, residents gain invaluable experience working alongside seasoned pharmacists\, honing their skills to become confident clinical leaders. Our residents make a real impact on patient care and outcomes at St. Luke’s! 
UID:128497-21861019@events.umich.edu
URL:https://events.umich.edu/event/128497
CLASS:PUBLIC
STATUS:CONFIRMED
CATEGORIES:
LOCATION:
CONTACT:
END:VEVENT
BEGIN:VEVENT
DTSTAMP:20241115T112033
DTSTART;TZID=America/Detroit:20241113T180000
DTEND;TZID=America/Detroit:20241113T193000
SUMMARY:Workshop / Seminar:Round Table Insight Sessions: A series of open discussions with ME students
DESCRIPTION:We invite you to participate in a series of student roundtable discussions\, centering and exploring the experiences of ME students. Students at all levels are welcome to join\, from undergraduate to Masters to PhD. These sessions are meant to bridge gaps in our community and show commitment of mutual support. \nShare Your TruthThis is your platform to express your experiences\, aspirations\, and concerns within our department. Your stories matter\, and we are here to actively listen and learn from each other.\nForge ConnectionsConnect with fellow students who understand your journey. Build supportive networks\, exchange ideas\, and foster a sense of belonging within our community.\nInclusivity in ActionWhile our focus is on amplifying the voices of marginalized students\, we embrace and celebrate the diversity within our community. Allies and friends committed to creating an inclusive environment are warmly encouraged to join us.\nEach session will provide a meal and a ME swag item to all participants. To help us plan times for sessions please fill out the interest form by clicking on the button below. We look forward to connecting with you.
UID:128784-21861622@events.umich.edu
URL:https://events.umich.edu/event/128784
CLASS:PUBLIC
STATUS:CONFIRMED
CATEGORIES:
LOCATION:
CONTACT:
END:VEVENT
BEGIN:VEVENT
DTSTAMP:20241128T123228
DTSTART;TZID=America/Detroit:20241113T180000
DTEND;TZID=America/Detroit:20241113T190000
SUMMARY:Careers / Jobs:Teach For America Ignite Fellowship Info Session
DESCRIPTION:Interested in jumpstarting a purpose-driven career and making an impact with elementary\, middle school\, or high school students this coming spring? Join Teach For America to learn about a paid\, part-time\, virtual tutoring opportunity as a TFA Ignite Fellow.As a TFA Ignite Fellow\, you become a catalyst for change\, driving educational success for the students you work with. Our program is designed to break down barriers for students in low income communities\, creating limitless learning opportunities. Your efforts will help students achieve their full potential\, making education accessible and impactful.Looking for opportunities to gain real world experience and grow as a professional? Join our info session to learn details about the fellowship experience and application process.*Open to all undergraduate and graduate students and accepting applications for Spring 2025**All majors welcome*
UID:128967-21861959@events.umich.edu
URL:https://events.umich.edu/event/128967
CLASS:PUBLIC
STATUS:CONFIRMED
CATEGORIES:
LOCATION:
CONTACT:
END:VEVENT
END:VCALENDAR