BEGIN:VCALENDAR
VERSION:2.0
PRODID:-//UM//UM*Events//EN
CALSCALE:GREGORIAN
BEGIN:VTIMEZONE
TZID:America/Detroit
TZURL:http://tzurl.org/zoneinfo/America/Detroit
X-LIC-LOCATION:America/Detroit
BEGIN:DAYLIGHT
TZOFFSETFROM:-0500
TZOFFSETTO:-0400
TZNAME:EDT
DTSTART:20070311T020000
RRULE:FREQ=YEARLY;BYMONTH=3;BYDAY=2SU
END:DAYLIGHT
BEGIN:STANDARD
TZOFFSETFROM:-0400
TZOFFSETTO:-0500
TZNAME:EST
DTSTART:20071104T020000
RRULE:FREQ=YEARLY;BYMONTH=11;BYDAY=1SU
END:STANDARD
END:VTIMEZONE
BEGIN:VEVENT
DTSTAMP:20240228T190424
DTSTART;TZID=America/Detroit:20240415T120000
DTEND;TZID=America/Detroit:20240415T130000
SUMMARY:Workshop / Seminar:PSC Brownbag Series: Effects of Expanding Contraceptive Choice: New Evidence from Virginia’s Contraceptive Access Initiative
DESCRIPTION:In 2018\, the Virginia Department of Health implemented the Contraceptive Access Initiative (CAI) to increase access to hormonal contraceptives and Long-Acting Reversible Contraceptives (LARC) for low-income women. In this paper\, we use encounter-level data on contraceptive choice in participating CAI clinics and county-level natality data from 2014–2021 to estimate relative changes in childbearing before and after the CAI. When comparing counties with CAI clinics in Virginia to counties in bordering states with publicly funded clinics\, difference-in-differences estimates indicate that the CAI reduced birth rates in participating counties by 1.8–3.5 percent. Despite the success of the program in reducing unintended births\, we note that this magnitude is less than half of the effect size of other similar\, state-level programs. We present new evidence that this smaller effect is due to the existing high LARC take-up in Virginia as well as the substitution effects from other contraceptive devices\, suggesting that policy environment and demand are important determinants for effectiveness\n\nThe PSC Brown Bag Series runs live and on Zoom this year\, Mondays from noon to 1.\n\nJoin us in person at ISR (Thompson Street) Room 1430.\n\nOr online: Join Zoom Meeting\nhttps://umich.zoom.us/j/95418610585?pwd=Z0cvdkF1T0R2cG1lRDEvVmlnbVdlZz09\n\nMeeting ID: 954 1861 0585\nPasscode: 818420\nOne tap mobile\n+13017158592\,\,95418610585# US (Washington DC)\n+13092053325\,\,95418610585# US\n\nDial by your location\n+1 301 715 8592 US (Washington DC)\n+1 309 205 3325 US\n+1 312 626 6799 US (Chicago)\n+1 646 876 9923 US (New York)\n+1 646 931 3860 US\n+1 564 217 2000 US\n+1 669 444 9171 US\n+1 669 900 6833 US (San Jose)\n+1 719 359 4580 US\n+1 253 215 8782 US (Tacoma)\n+1 346 248 7799 US (Houston)\n+1 386 347 5053 US\n+1 647 374 4685 Canada\n+1 647 558 0588 Canada\n+1 778 907 2071 Canada\n+1 780 666 0144 Canada\n+1 204 272 7920 Canada\n+1 438 809 7799 Canada\n+1 587 328 1099 Canada\nMeeting ID: 954 1861 0585\nFind your local number: https://umich.zoom.us/u/aCRAyuQaT\n\nJoin by SIP\n95418610585@zoomcrc.com\n\nJoin by H.323\n162.255.37.11 (US West)\n162.255.36.11 (US East)\n115.114.131.7 (India Mumbai)\n115.114.115.7 (India Hyderabad)\n213.19.144.110 (Amsterdam Netherlands)\n213.244.140.110 (Germany)\n103.122.166.55 (Australia Sydney)\n103.122.167.55 (Australia Melbourne)\n149.137.40.110 (Singapore)\n64.211.144.160 (Brazil)\n149.137.68.253 (Mexico)\n69.174.57.160 (Canada Toronto)\n65.39.152.160 (Canada Vancouver)\n207.226.132.110 (Japan Tokyo)\n149.137.24.110 (Japan Osaka)\nMeeting ID: 954 1861 0585\nPasscode: 818420
UID:119166-21842289@events.umich.edu
URL:https://events.umich.edu/event/119166
CLASS:PUBLIC
STATUS:CONFIRMED
CATEGORIES:Public Policy,Poverty,Public Health,Social Sciences,Sociology,economics,Gender Studies,Inequality
LOCATION:Institute For Social Research - 1430
CONTACT:
END:VEVENT
BEGIN:VEVENT
DTSTAMP:20231214T123048
DTSTART;TZID=America/Detroit:20240415T120000
DTEND;TZID=America/Detroit:20240415T160000
SUMMARY:Exhibition:The Art of Resistance in Early America
DESCRIPTION:The exhibition addresses the theme of the LSA Fall 2023 semester at the University of Michigan: \"Arts & Resistance.\" This exhibit asks us to think about resistance in different settings\, and in different forms. What \"arts\" did Americans in the eighteenth and nineteenth centuries use to resist various forms of power? The exhibit aims to show how the people of our nation's past tried to answer those questions\n\nExhibit Hours: Monday - Friday - Noon - 4 pm\n\nLink to online exhibit:https://clements.umich.edu/exhibit/the-art-of-resistance/
UID:115674-21835363@events.umich.edu
URL:https://events.umich.edu/event/115674
CLASS:PUBLIC
STATUS:CONFIRMED
CATEGORIES:american culture,Undergraduate Students,Undergraduate,Tour,Library,libraries,In Person,history,Free,american history
LOCATION:William Clements Library
CONTACT:
END:VEVENT
BEGIN:VEVENT
DTSTAMP:20240111T144905
DTSTART;TZID=America/Detroit:20240415T123000
DTEND;TZID=America/Detroit:20240415T140000
SUMMARY:Workshop / Seminar:Economic Sociology and Organizations (ESO) Workshop
DESCRIPTION:Join us for this ESO workshop with Mira Vale.
UID:117006-21838446@events.umich.edu
URL:https://events.umich.edu/event/117006
CLASS:PUBLIC
STATUS:CONFIRMED
CATEGORIES:Graduate Students
LOCATION:LSA Building - 4147
CONTACT:
END:VEVENT
END:VCALENDAR