BEGIN:VCALENDAR
VERSION:2.0
PRODID:-//UM//UM*Events//EN
CALSCALE:GREGORIAN
BEGIN:VTIMEZONE
TZID:America/Detroit
TZURL:http://tzurl.org/zoneinfo/America/Detroit
X-LIC-LOCATION:America/Detroit
BEGIN:DAYLIGHT
TZOFFSETFROM:-0500
TZOFFSETTO:-0400
TZNAME:EDT
DTSTART:20070311T020000
RRULE:FREQ=YEARLY;BYMONTH=3;BYDAY=2SU
END:DAYLIGHT
BEGIN:STANDARD
TZOFFSETFROM:-0400
TZOFFSETTO:-0500
TZNAME:EST
DTSTART:20071104T020000
RRULE:FREQ=YEARLY;BYMONTH=11;BYDAY=1SU
END:STANDARD
END:VTIMEZONE
BEGIN:VEVENT
DTSTAMP:20241022T180013
DTSTART;TZID=America/Detroit:20241022T173000
DTEND;TZID=America/Detroit:20241022T183000
SUMMARY:Other:Flag Football practice!
DESCRIPTION:Flag Football practice!
UID:126061-21856469@events.umich.edu
URL:https://events.umich.edu/event/126061
CLASS:PUBLIC
STATUS:CONFIRMED
CATEGORIES:
LOCATION:Pattengill Elementary
CONTACT:
END:VEVENT
BEGIN:VEVENT
DTSTAMP:20241017T095133
DTSTART;TZID=America/Detroit:20241022T173000
DTEND;TZID=America/Detroit:20241022T200000
SUMMARY:Workshop / Seminar:The LoG (M) Projects' Talk Presentation
DESCRIPTION:Our LoGM students have made visualizations and formed\, proved\, and disproved conjectures in many fields of mathematics\, including: complex analysis\, complex dynamics\, combinatorics\, topology\, homology groups\, projective geometry\, moduli spaces\, mathematical games\, algebraic geometry\, billiard dynamics\, origami\, mathematical physics\, commutative algebra\, and more.\n\nJoin us as we shape and explore the mathematics of tomorrow!
UID:127964-21859979@events.umich.edu
URL:https://events.umich.edu/event/127964
CLASS:PUBLIC
STATUS:CONFIRMED
CATEGORIES:Mathematics
LOCATION:East Hall - B743
CONTACT:
END:VEVENT
BEGIN:VEVENT
DTSTAMP:20240924T101707
DTSTART;TZID=America/Detroit:20241022T173000
DTEND;TZID=America/Detroit:20241022T200000
SUMMARY:Film Screening:U-M History Film Series: The Campaign
DESCRIPTION:When incumbent Congressman Cam Brady (Will Ferrell) commits a major gaffe\, two wealthy CEOs decide to try to gain influence in their district by putting up a rival candidate. Their unlikely choice is a naive tourism director named Marty Huggins (Zach Galifianakis). Aided by his family's political connections and a cutthroat campaign manager\, Marty soon becomes locked in a dead heat with Cam. As Election Day approaches\, each man slings mud galore in a last-ditch effort to bury the other.\n\nJoin the U-M History Department for a free screening of The Campaign (2012) on Tuesday\, October 22\, at 5:30 pm in Angell Hall Auditorium B. Enjoy this lighthearted take on American politics just two weeks out from the presidential election. After the film\, professors David Tamayo and Eric Toups will lead a brief discussion on how historians use their skills to follow and interpret a US election cycle.
UID:126875-21858039@events.umich.edu
URL:https://events.umich.edu/event/126875
CLASS:PUBLIC
STATUS:CONFIRMED
CATEGORIES:american culture,Capitalism,Department Of American Culture,Digital Culture,Eisenberg Institute For Historical Studies,Film,film screening,Free,Humanities,In Person,institute for the humanities,political science,Politics
LOCATION:Angell Hall - Auditorium B
CONTACT:
END:VEVENT
END:VCALENDAR