BEGIN:VCALENDAR
VERSION:2.0
PRODID:-//UM//UM*Events//EN
CALSCALE:GREGORIAN
BEGIN:VTIMEZONE
TZID:America/Detroit
TZURL:http://tzurl.org/zoneinfo/America/Detroit
X-LIC-LOCATION:America/Detroit
BEGIN:DAYLIGHT
TZOFFSETFROM:-0500
TZOFFSETTO:-0400
TZNAME:EDT
DTSTART:20070311T020000
RRULE:FREQ=YEARLY;BYMONTH=3;BYDAY=2SU
END:DAYLIGHT
BEGIN:STANDARD
TZOFFSETFROM:-0400
TZOFFSETTO:-0500
TZNAME:EST
DTSTART:20071104T020000
RRULE:FREQ=YEARLY;BYMONTH=11;BYDAY=1SU
END:STANDARD
END:VTIMEZONE
BEGIN:VEVENT
DTSTAMP:20241113T172033
DTSTART;TZID=America/Detroit:20241113T180000
DTEND;TZID=America/Detroit:20241113T190000
SUMMARY:Workshop / Seminar:Teach For America Info Session
DESCRIPTION:
UID:127969-21859986@events.umich.edu
URL:https://events.umich.edu/event/127969
CLASS:PUBLIC
STATUS:CONFIRMED
CATEGORIES:
LOCATION:4448 East Hall
CONTACT:
END:VEVENT
BEGIN:VEVENT
DTSTAMP:20241106T114623
DTSTART;TZID=America/Detroit:20241113T180000
DTEND;TZID=America/Detroit:20241113T200000
SUMMARY:Social / Informal Gathering:UU Weekly: Gadgets Galore
DESCRIPTION:Enjoy crafting your own phone keychains\, and giveaways such as stylus pens\, electronic wipes\, cool stickers\, and other exciting prizes!  Snacking and other delicious treats will be available. Don't miss this opportunity to connect with peers\, and engage in team-building activities in a fun atmosphere. Mark your calendars and celebrate with us in the Michigan Union Courtyard!
UID:128428-21860806@events.umich.edu
URL:https://events.umich.edu/event/128428
CLASS:PUBLIC
STATUS:CONFIRMED
CATEGORIES:native american,heritage month,center for campus involvement,CCI
LOCATION:Michigan Union - Courtyard
CONTACT:
END:VEVENT
BEGIN:VEVENT
DTSTAMP:20240828T101208
DTSTART;TZID=America/Detroit:20241113T180000
DTEND;TZID=America/Detroit:20241113T200000
SUMMARY:Workshop / Seminar:Visioning: Laying the Foundation for the Future
DESCRIPTION:sara faraj will lead this workshop and guide participants in the process of setting intentions for the future through writing\, painting\, and planting. Participants will be given paper and writing utensils for the writing activity. Plants\, pots\, paint for pots\, and soil will be provided for the planting activity.\n\nsara faraj (Master of Urban and Regional Planning (M.U.R.P.) '24) is one of three master’s degree-level residents chosen for the 2024 Creative Careers Residency at the Arts Initiative. She is interested in Photovoice as a participatory action research (PAR) methodology that empowers and activates positive change within us and\, therefore\, positive change in the world around us. \n\nRSVP needed: http://visioning.rsvpify.com \nMaximum number of participants: 15\n\nAre you attending one of these workshops? You can submit your work for our Take Care Student Exhibition.\nMore info and submission form here: https://artsinitiative.slideroom.com/#/login/program/79201\n\n•••\n\nThe Arts Initiative\, in partnership with Wolverine Wellness\, is launching a series of free art-making workshops for the Take Care AY 2024-25 focus. These workshops are an opportunity to create art\, brush up on dance techniques\, and other artistic forms. No prior experience required. Led by local and regional artists\, the workshops are open to the entire U-M and local community. All supplies necessary will be provided at the workshop.\n\nFor questions or to request accessibility accommodations\, please contact Félix Zamora-Gómez at felixzg@umich.edu.
UID:124512-21853124@events.umich.edu
URL:https://events.umich.edu/event/124512
CLASS:PUBLIC
STATUS:CONFIRMED
CATEGORIES:Art,Well-being,Take Care,Free
LOCATION:Matthaei Botanical Gardens - 125
CONTACT:
END:VEVENT
END:VCALENDAR