BEGIN:VCALENDAR
VERSION:2.0
PRODID:-//UM//UM*Events//EN
CALSCALE:GREGORIAN
BEGIN:VTIMEZONE
TZID:America/Detroit
TZURL:http://tzurl.org/zoneinfo/America/Detroit
X-LIC-LOCATION:America/Detroit
BEGIN:DAYLIGHT
TZOFFSETFROM:-0500
TZOFFSETTO:-0400
TZNAME:EDT
DTSTART:20070311T020000
RRULE:FREQ=YEARLY;BYMONTH=3;BYDAY=2SU
END:DAYLIGHT
BEGIN:STANDARD
TZOFFSETFROM:-0400
TZOFFSETTO:-0500
TZNAME:EST
DTSTART:20071104T020000
RRULE:FREQ=YEARLY;BYMONTH=11;BYDAY=1SU
END:STANDARD
END:VTIMEZONE
BEGIN:VEVENT
DTSTAMP:20240318T095957
DTSTART;TZID=America/Detroit:20240415T130000
DTEND;TZID=America/Detroit:20240415T140000
SUMMARY:Workshop / Seminar:Mindful Mondays
DESCRIPTION:As part of the Science Success Series\, WISE Peer Mentors are hosting drop in hours every Monday from 1-2pm in the Science Learning Center Flex Space in 1720 Chemistry.  Each week\, there will be free snacks\, fun and relaxing activities\, space to study alone or in groups\, and our helpful WISE members there to chat\, answer questions\, or ponder the meaning of life. \n\nYou can register to add the event to your calendar\, but registration is not required to attend. Drop on by!\n\nEmail ScienceSuccessSeries@umich.edu with any questions.
UID:116443-21836845@events.umich.edu
URL:https://events.umich.edu/event/116443
CLASS:PUBLIC
STATUS:CONFIRMED
CATEGORIES:All Majors Welcome,Central Campus,Food,Free,Health & Wellness,Inclusion,Mindfulness,Open To All Majors,science learning center,Sessions,slc,Transfer Students,Undergraduate,Undergraduate Students,Well-being,Women In Engineering,Women In Science
LOCATION:Science Learning Center, Multipurpose Room, Chemistry Building 1st floor
CONTACT:
END:VEVENT
BEGIN:VEVENT
DTSTAMP:20240430T123123
DTSTART;TZID=America/Detroit:20240415T130000
DTEND;TZID=America/Detroit:20240415T140000
SUMMARY:Careers / Jobs:Resume Lab
DESCRIPTION:*RSVP required to attend. Click \"Join Event\" here: https://app.joinhandshake.com/events/1520739/share_preview\n\nJust getting started building a resume? Have a draft but not sure how to make it better? Want to learn about resources available to revise your resume? Wherever you’re at Resume Lab is a great next step for you.\n\nGet real-time\, personalizedsupport in a small group setting by checking out the Resume Lab. \n\nWe will discuss and educate you on…\n- Design and format\n- Writing a great bullet point\n- Targeting your resume for specific internships/jobs\n\nIf you're a Graduate Student or Recent Grad\, please make a 1:1 appointment instead of attending the Lab because this event is designed for undergraduates.\n\nNote: This event's information is shown in Handshake as well as onthe Happening @ Michigan calendar so that it will be seen by a larger number of U-M Students. If you'd like to indicate that you'll be attending this event then please go to: https://umich.joinhandshake.com/edu/events/1452770
UID:120602-21845025@events.umich.edu
URL:https://events.umich.edu/event/120602
CLASS:PUBLIC
STATUS:CONFIRMED
CATEGORIES:
LOCATION:
CONTACT:
END:VEVENT
BEGIN:VEVENT
DTSTAMP:20240206T181718
DTSTART;TZID=America/Detroit:20240415T132000
DTEND;TZID=America/Detroit:20240415T135000
SUMMARY:Performance:Tiffany Ng\, carillon
DESCRIPTION:University Carillonist Tiffany Ng performs on the Ann & Robert H. Lurie Carillon\, an instrument of 60 bells with the lowest bell (bourdon) weighing 6 tons.\n\nThirty-minute recitals are performed on the Lurie Carillon every weekday that classes are in session. During these recitals\, visitors may take the elevator to level 2 to view the largest bells\, or to level 3 to see the carillonist performing. (Visitors subject to acrophobia are recommended to visit level 2 only.) An optional spiral stairway between levels 2 and 3 allows for up-close views of some of the largest bells.
UID:118520-21841172@events.umich.edu
URL:https://events.umich.edu/event/118520
CLASS:PUBLIC
STATUS:CONFIRMED
CATEGORIES:Alumni,Free,In Person,Music,North Campus,Talk
LOCATION:Lurie Ann & Robert H. Tower
CONTACT:
END:VEVENT
END:VCALENDAR