BEGIN:VCALENDAR
VERSION:2.0
PRODID:-//UM//UM*Events//EN
CALSCALE:GREGORIAN
BEGIN:VTIMEZONE
TZID:America/Detroit
TZURL:http://tzurl.org/zoneinfo/America/Detroit
X-LIC-LOCATION:America/Detroit
BEGIN:DAYLIGHT
TZOFFSETFROM:-0500
TZOFFSETTO:-0400
TZNAME:EDT
DTSTART:20070311T020000
RRULE:FREQ=YEARLY;BYMONTH=3;BYDAY=2SU
END:DAYLIGHT
BEGIN:STANDARD
TZOFFSETFROM:-0400
TZOFFSETTO:-0500
TZNAME:EST
DTSTART:20071104T020000
RRULE:FREQ=YEARLY;BYMONTH=11;BYDAY=1SU
END:STANDARD
END:VTIMEZONE
BEGIN:VEVENT
DTSTAMP:20241022T172046
DTSTART;TZID=America/Detroit:20241022T174500
DTEND;TZID=America/Detroit:20241022T191500
SUMMARY:Workshop / Seminar:South Quad (Michigan Housing)
DESCRIPTION:
UID:127905-21859912@events.umich.edu
URL:https://events.umich.edu/event/127905
CLASS:PUBLIC
STATUS:CONFIRMED
CATEGORIES:Sessions
LOCATION:Yuri Kochiyama lounge, 1st floor, South Quad
CONTACT:
END:VEVENT
BEGIN:VEVENT
DTSTAMP:20241021T094820
DTSTART;TZID=America/Detroit:20241022T180000
DTEND;TZID=America/Detroit:20241022T190000
SUMMARY:Presentation:Dinner for Democracy: The Judiciary
DESCRIPTION:Note: this is an in-person event on the Ann Arbor Campus\n\nThe judicial branch of the government is just as important as the executive and legislative branches. Judges rule on criminal and civil cases and interpret the laws. Federal judges are nominated by the President and approved by the Senate. In the states\, judges may be appointed or elected. In Michigan\, we get to vote for State Supreme Court justices\, and this year there are two seats open on the court. \n\nJoin Turn Up Turnout for a nonpartisan\, educational presentation on the Judiciary. FREE FOOD provided. \n\n Register here: https://sessions.studentlife.umich.edu/track/event/session/81552
UID:128103-21860185@events.umich.edu
URL:https://events.umich.edu/event/128103
CLASS:PUBLIC
STATUS:CONFIRMED
CATEGORIES:In Person,Food,Free,Government,Discussion,Politics,Voting,Dinner,Democratic Engagement,Democracy,Civic Engagement
LOCATION:Weill Hall (Ford School) - 1110
CONTACT:
END:VEVENT
BEGIN:VEVENT
DTSTAMP:20241007T163618
DTSTART;TZID=America/Detroit:20241022T180000
DTEND;TZID=America/Detroit:20241022T193000
SUMMARY:Social / Informal Gathering:ELI Student to Student Event: Halloween Celebration!
DESCRIPTION:Celebrate Halloween with other U-M international students and get into the Halloween spirit!\n\nLearn about the history of this popular holiday rooted in ancient Celtic traditions that marks the end of the harvest season and the beginning of the dark\, cold winter.\n\nCome warm up and make new friends over pizza and Halloween candy. Make your own Jack-o'-Lantern\, one of the most iconic symbols of Halloween to decorate your home or office. There will be prizes for the most creative lanterns!
UID:127497-21859227@events.umich.edu
URL:https://events.umich.edu/event/127497
CLASS:PUBLIC
STATUS:CONFIRMED
CATEGORIES:Graduate And Professional Students,International,Language,Undergraduate Students,English
LOCATION:Weiser Hall - 1010
CONTACT:
END:VEVENT
END:VCALENDAR