BEGIN:VCALENDAR
VERSION:2.0
PRODID:-//UM//UM*Events//EN
CALSCALE:GREGORIAN
BEGIN:VTIMEZONE
TZID:America/Detroit
TZURL:http://tzurl.org/zoneinfo/America/Detroit
X-LIC-LOCATION:America/Detroit
BEGIN:DAYLIGHT
TZOFFSETFROM:-0500
TZOFFSETTO:-0400
TZNAME:EDT
DTSTART:20070311T020000
RRULE:FREQ=YEARLY;BYMONTH=3;BYDAY=2SU
END:DAYLIGHT
BEGIN:STANDARD
TZOFFSETFROM:-0400
TZOFFSETTO:-0500
TZNAME:EST
DTSTART:20071104T020000
RRULE:FREQ=YEARLY;BYMONTH=11;BYDAY=1SU
END:STANDARD
END:VTIMEZONE
BEGIN:VEVENT
DTSTAMP:20241113T172033
DTSTART;TZID=America/Detroit:20241113T180000
DTEND;TZID=America/Detroit:20241113T200000
SUMMARY:Workshop / Seminar:VIZ'D 2024: A Data Visualization Competition
DESCRIPTION:Join the Quantitative Methods in the Social Sciences (QMSS) program for a night of making data fun and engaging! Sign up to compete on teams of 2-3 in 2 rounds of competition. Students in our audience will have an opportunity to vote on their favorite visuals from each round. We will have QMSS- and University of Michigan-themed prizes for participants and audience members as well as dinner on us!
UID:127702-21859504@events.umich.edu
URL:https://events.umich.edu/event/127702
CLASS:PUBLIC
STATUS:CONFIRMED
CATEGORIES:
LOCATION:CCCB 3420
CONTACT:
END:VEVENT
BEGIN:VEVENT
DTSTAMP:20241106T154431
DTSTART;TZID=America/Detroit:20241113T181500
DTEND;TZID=America/Detroit:20241113T200000
SUMMARY:Lecture / Discussion:Walk to the Trans Awareness Month Keynote
DESCRIPTION:Join the GILE DPE in attending the Spectrum Center's Trans Awareness Month Keynote address. There will be a brief discussion after the event to reflect and share insights. Let’s come together to learn\, support\, and grow!
UID:128713-21861547@events.umich.edu
URL:https://events.umich.edu/event/128713
CLASS:PUBLIC
STATUS:CONFIRMED
CATEGORIES:Community,Dialogue,Discussion,Diversity Peer Educators,Education,Lgbt
LOCATION:East Quadrangle - East Quad Piano Lounge
CONTACT:
END:VEVENT
BEGIN:VEVENT
DTSTAMP:20241101T171524
DTSTART;TZID=America/Detroit:20241113T183000
DTEND;TZID=America/Detroit:20241113T200000
SUMMARY:Presentation:For Us\, By Us: Envisioning a Kiki Methodology in Black Queer Storytelling
DESCRIPTION:Who are you? What is your story? How do you express yourself? The experiences of Black queer life are reflected in the ways we tell our stories. We will explore a kiki methodology grounded in ballroom culture and Black queer storytelling. Drawing from queer of color critique and narrative construction\, kiki methodology engages in three components: Black queer meaning-making\, Black queer storytelling\, and Black queer artistic expression. Kiki methodology connects envisioning and centering words\, feelings\, and voices of the Black queer community in the form of storytelling in higher education. We will engage about what is needed to be in queer community and kinship through storytelling.\n\nABOUT DR. HUTCHINGS\nDr. Quortne R. Hutchings (they\, them) is a first-generation college graduate\, proud Ronald E. McNair scholar alum\, and assistant professor of higher education at Northern Illinois University. Their research primarily focuses on Black gay\, bisexual\, queer\, and non-binary undergraduate and graduate students’ academic and social experiences in higher education\, minoritized student affairs professionals’ experiences in student and academic affairs\, and supporting students\, faculty\, and staff navigating substance use and recovery. Their research has been published in the Journal of College Student Development\, Departures in Critical Qualitative Research\, Journal of Higher Education\, and International Journal of Qualitative Studies in Education. \n\nTRANS AWARENESS MONTH\nTrans Awareness Month is presented by Spectrum Center\, and events are presented by units across campus. Find more Trans Awareness Month events at spectrumcenter.umich.edu/trans-awareness-month
UID:126845-21857990@events.umich.edu
URL:https://events.umich.edu/event/126845
CLASS:PUBLIC
STATUS:CONFIRMED
CATEGORIES:Diversity Equity and Inclusion,Queer Trans Indigenous People of Color-QTIPOC,Trans Awareness Month,Trans Awareness Week-TAW
LOCATION:Museum of Art - Helmut Stern Auditorium
CONTACT:
END:VEVENT
END:VCALENDAR