BEGIN:VCALENDAR
VERSION:2.0
PRODID:-//UM//UM*Events//EN
CALSCALE:GREGORIAN
BEGIN:VTIMEZONE
TZID:America/Detroit
TZURL:http://tzurl.org/zoneinfo/America/Detroit
X-LIC-LOCATION:America/Detroit
BEGIN:DAYLIGHT
TZOFFSETFROM:-0500
TZOFFSETTO:-0400
TZNAME:EDT
DTSTART:20070311T020000
RRULE:FREQ=YEARLY;BYMONTH=3;BYDAY=2SU
END:DAYLIGHT
BEGIN:STANDARD
TZOFFSETFROM:-0400
TZOFFSETTO:-0500
TZNAME:EST
DTSTART:20071104T020000
RRULE:FREQ=YEARLY;BYMONTH=11;BYDAY=1SU
END:STANDARD
END:VTIMEZONE
BEGIN:VEVENT
DTSTAMP:20240314T171918
DTSTART;TZID=America/Detroit:20240415T140000
DTEND;TZID=America/Detroit:20240415T153000
SUMMARY:Workshop / Seminar:Race & Racial Ideologies Workshop
DESCRIPTION:Join us for this Race & Racial Ideologies workshop with Malcolm Thomas.
UID:117300-21839134@events.umich.edu
URL:https://events.umich.edu/event/117300
CLASS:PUBLIC
STATUS:CONFIRMED
CATEGORIES:Graduate Students
LOCATION:LSA Building - 4147
CONTACT:
END:VEVENT
BEGIN:VEVENT
DTSTAMP:20231207T121528
DTSTART;TZID=America/Detroit:20240415T140000
DTEND;TZID=America/Detroit:20240415T150000
SUMMARY:Livestream / Virtual:Rackham Consultation Services: Virtual Office Hours
DESCRIPTION:If you have a quick question or have a time sensitive matter\, attend the Rackham Consultation Services open office hours weekly on Monday and Wednesday from 2:00 to 3:00 p.m. via Zoom. In the interest of providing students as much privacy as possible\, you may spend a brief time in a waiting room if the resolution officer is engaged with another student. They will be with you as quickly as possible.\nJoin Zoom Meeting\nhttps://umich.zoom.us/j/91936509614\nMeeting ID: 919 3650 9614\n—\nOne tap mobile\n+16468769923\,\,91936509614# US (New York)\n+16469313860\,\,91936509614# US\n—\nDial by your location\n\n+1 646 876 9923 US (New York)\n+1 646 931 3860 US\n+1 301 715 8592 US (Washington DC)\n+1 305 224 1968 US\n+1 309 205 3325 US\n+1 312 626 6799 US (Chicago)\n+1 669 444 9171 US\n+1 669 900 6833 US (San Jose)\n+1 689 278 1000 US\n+1 719 359 4580 US\n+1 253 205 0468 US\n+1 253 215 8782 US (Tacoma)\n+1 346 248 7799 US (Houston)\n+1 360 209 5623 US\n+1 386 347 5053 US\n+1 507 473 4847 US\n+1 564 217 2000 US\n+1 587 328 1099 Canada\n+1 647 374 4685 Canada\n+1 647 558 0588 Canada\n+1 778 907 2071 Canada\n+1 780 666 0144 Canada\n+1 204 272 7920 Canada\n+1 438 809 7799 Canada\n\nMeeting ID: 919 3650 9614\nFind your local number: https://umich.zoom.us/u/adnslmLWNf\n—\nJoin by SIP\n\n91936509614@zoomcrc.com\n\n—\nJoin by H.323\n\n162.255.37.11 (US West)\n162.255.36.11 (US East)\n115.114.131.7 (India Mumbai)\n115.114.115.7 (India Hyderabad)\n213.19.144.110 (Amsterdam Netherlands)\n213.244.140.110 (Germany)\n103.122.166.55 (Australia Sydney)\n103.122.167.55 (Australia Melbourne)\n149.137.40.110 (Singapore)\n64.211.144.160 (Brazil)\n149.137.68.253 (Mexico)\n69.174.57.160 (Canada Toronto)\n65.39.152.160 (Canada Vancouver)\n207.226.132.110 (Japan Tokyo)\n149.137.24.110 (Japan Osaka)\n\nMeeting ID: 919 3650 9614
UID:115891-21835785@events.umich.edu
URL:https://events.umich.edu/event/115891
CLASS:PUBLIC
STATUS:CONFIRMED
CATEGORIES:
LOCATION:Off Campus Location
CONTACT:
END:VEVENT
BEGIN:VEVENT
DTSTAMP:20240311T110733
DTSTART;TZID=America/Detroit:20240415T140000
DTEND;TZID=America/Detroit:20240415T153000
SUMMARY:Workshop / Seminar:RCGD/EHAP Winter Seminar Series: Social Behaviors Evolve Faster than Humans Do: The Case of Pacific Populations
DESCRIPTION:Pacific populations have been long observed to suffer a high burden of metabolic disease\, including obesity\, type 2 diabetes and gout. Social and economic changes since the end of WWII have impacted diet\, activity levels\, and behavioral changes faster than human evolution can accommodate the new demands these shifts place on biological systems. In critique of the ‘Thrifty Genotype’ hypothesis\, this presentation by Sela Panapasa of the University of Michigan Research Center for Group Dynamics at the Institute for Social Research systematically examines how the changing demographic\, economic\, food\, political and built-environments in Pacific Island countries drives the high prevalence and risk for noncommunicable diseases\, disability and premature mortality among these populations.\n\nThe Group Dynamics Seminar series is considered one of the longest running seminar series in the social sciences. It has been running uninterruptedly since it was founded by Kurt Lewin in the 1920’s in Berlin. A very important feature of this seminar today is its interdisciplinary nature. Recent seminars have included discussions in “Law and Psychology\,” “Racism and Discrimination\,” “Social Media\,” and “New Directions in Social Psychology.”\n\nThe Winter 2024 Series is co-sponsored by the Evolution and Human Adaptation Program (EHAP) at the University of Michigan.\n\nThis is the final seminar in this Winter series. The fall theme will be structural racism.
UID:119985-21843899@events.umich.edu
URL:https://events.umich.edu/event/119985
CLASS:PUBLIC
STATUS:CONFIRMED
CATEGORIES:Asian Pacific Islander American Heritage Month,Diabetes,Public Health,Social Sciences,Sociology
LOCATION:Institute For Social Research - 1430
CONTACT:
END:VEVENT
END:VCALENDAR