BEGIN:VCALENDAR
VERSION:2.0
PRODID:-//UM//UM*Events//EN
CALSCALE:GREGORIAN
BEGIN:VTIMEZONE
TZID:America/Detroit
TZURL:http://tzurl.org/zoneinfo/America/Detroit
X-LIC-LOCATION:America/Detroit
BEGIN:DAYLIGHT
TZOFFSETFROM:-0500
TZOFFSETTO:-0400
TZNAME:EDT
DTSTART:20070311T020000
RRULE:FREQ=YEARLY;BYMONTH=3;BYDAY=2SU
END:DAYLIGHT
BEGIN:STANDARD
TZOFFSETFROM:-0400
TZOFFSETTO:-0500
TZNAME:EST
DTSTART:20071104T020000
RRULE:FREQ=YEARLY;BYMONTH=11;BYDAY=1SU
END:STANDARD
END:VTIMEZONE
BEGIN:VEVENT
DTSTAMP:20241113T000009
DTSTART;TZID=America/Detroit:20241113T183000
DTEND;TZID=America/Detroit:20241113T201500
SUMMARY:Other:Karate Practice
DESCRIPTION:\"True karate is this: that in daily life one's mind and body be trained and developed in a spirit of humility\, and that in critical times\, one be devoted utterly to the cause of justice.\"\n--Gichin Funakoshi- Founder of Shotokan Karate Fall 2024 Practice Schedule Wednesday 6:30pm - 8:15pm  @  Gretchen's House\, 1580 Dhu Varren Rd Sunday 2:30pm - 4:30pm  @  B225 Medium Multi-purpose Room\, Intramural Sports Building (please complete the liability waiver prior to your first Sunday practice)    Exceptions -- Sunday 9/1 practice 2-4pm\; no practice on 10/13 & 12/1New members are always welcome. No previous experience is necessary. Just come to any practice. You may watch a practice or actually participate when you come. If you want to participate\, wear loose fitting clothes\, trim your nails\, and no jewelry.
UID:125375-21854878@events.umich.edu
URL:https://events.umich.edu/event/125375
CLASS:PUBLIC
STATUS:CONFIRMED
CATEGORIES:
LOCATION:Gretchen&#039;s House
CONTACT:
END:VEVENT
BEGIN:VEVENT
DTSTAMP:20241113T000018
DTSTART;TZID=America/Detroit:20241113T183000
DTEND;TZID=America/Detroit:20241113T193000
SUMMARY:Meeting:Music Meditation Session + Free Dinner!
DESCRIPTION:Join us every Wednesday in East Quad 1511 from 6:30-7:30 for a fun evening of meditation with live musical accompaniment\, breathing exercises\, insightful discussions\, and a free vegetarian dinner! Open to anyone\, regardless of meditation experience! If you're looking for a place to relax and destress in the middle of your busy week\, this club is for you! 
UID:128085-21860159@events.umich.edu
URL:https://events.umich.edu/event/128085
CLASS:PUBLIC
STATUS:CONFIRMED
CATEGORIES:
LOCATION:East Quad 1511
CONTACT:
END:VEVENT
BEGIN:VEVENT
DTSTAMP:20241113T000027
DTSTART;TZID=America/Detroit:20241113T183000
DTEND;TZID=America/Detroit:20241113T193000
SUMMARY:Workshop / Seminar:November Intro to Buddhism Meeting
DESCRIPTION:Discover the connection between inner peace and positive change in the world around us! Join us for a brief presentation\, discussion\, and personal experiences on how transforming ourselves can lead to a harmonious environment.Topic: “Oneness of Life and Its Environment”     - https://www.worldtribune.org/2020/establishing-the-correct-teaching-for-the-peace-of-the-land.      - [Winning Over Ourselves Brings Victory in All Other Realms](https://www.worldtribune.org/2021/winning-over-ourselves-brings-victory-in-all-other-realms/     - [https://www.worldtribune.org/2020/establishing-the-correct-teaching-for-the-peace-of-the-land/](https://www.worldtribune.org/2020/establishing-the-correct-teaching-for-the-peace-of-the-land/)Location: Michigan League - Room 6 (1st Floor)Time: 6:30pm to 7:30pm
UID:129073-21862136@events.umich.edu
URL:https://events.umich.edu/event/129073
CLASS:PUBLIC
STATUS:CONFIRMED
CATEGORIES:
LOCATION:Michigan League
CONTACT:
END:VEVENT
END:VCALENDAR