BEGIN:VCALENDAR
VERSION:2.0
PRODID:-//UM//UM*Events//EN
CALSCALE:GREGORIAN
BEGIN:VTIMEZONE
TZID:America/Detroit
TZURL:http://tzurl.org/zoneinfo/America/Detroit
X-LIC-LOCATION:America/Detroit
BEGIN:DAYLIGHT
TZOFFSETFROM:-0500
TZOFFSETTO:-0400
TZNAME:EDT
DTSTART:20070311T020000
RRULE:FREQ=YEARLY;BYMONTH=3;BYDAY=2SU
END:DAYLIGHT
BEGIN:STANDARD
TZOFFSETFROM:-0400
TZOFFSETTO:-0500
TZNAME:EST
DTSTART:20071104T020000
RRULE:FREQ=YEARLY;BYMONTH=11;BYDAY=1SU
END:STANDARD
END:VTIMEZONE
BEGIN:VEVENT
DTSTAMP:20240912T181728
DTSTART;TZID=America/Detroit:20241104T132000
DTEND;TZID=America/Detroit:20241104T135000
SUMMARY:Performance:Tiffany Ng\, carillon
DESCRIPTION:University Carillonist Tiffany Ng performs on the Ann & Robert H. Lurie Carillon\, an instrument of 60 bells with the lowest bell (bourdon) weighing 6 tons.\n\nThirty-minute recitals are performed on the Lurie Carillon every weekday that classes are in session. During these recitals\, visitors may take the elevator to level 2 to view the largest bells\, or to level 3 to see the carillonist performing. (Visitors subject to acrophobia are recommended to visit level 2 only.) An optional spiral stairway between levels 2 and 3 allows for up-close views of some of the largest bells.
UID:126327-21856896@events.umich.edu
URL:https://events.umich.edu/event/126327
CLASS:PUBLIC
STATUS:CONFIRMED
CATEGORIES:Faculty,Free,Music,North Campus,Talk
LOCATION:Lurie Ann & Robert H. Tower
CONTACT:
END:VEVENT
BEGIN:VEVENT
DTSTAMP:20241119T123153
DTSTART;TZID=America/Detroit:20241104T140000
DTEND;TZID=America/Detroit:20241104T150000
SUMMARY:Careers / Jobs:Internship Lab
DESCRIPTION:*RSVP required to attend. Click \"Join Event\" here:https://umich.joinhandshake.com/edu/events/1636056Are you ready to start searching for a great internship? Do you have a few ideas\, but you’re not sure where to get started? Let's talk about search strategy!! Get real-time\, personalized support by checking out the in person Internship Lab. You’ll be guided by one of our Career Coaches who hasdesigned this experience to provide you strategies\, tools\, and motivation to get on the right track with searching for internships. Chat with folks from the University Career Center to explore Handshake\,the University Career Alumni Network (UCAN) and to learn about other tools you can use to build a great job/internship search strategy. **If you're not sure what you're interested in\, consider making an \"Exploring Major/Career Option\" appointment to get started clarifying your interests with a career coach in a 1-on-1 setting. Recent Grads: If you are an alumni\, you will not be able to access the link due the University’s policy of discontinuing alumni Zoom accounts 30 days after graduation. Please contact careercenter@umich.edu with the subject line“Recent Grad Help” to receive either a recording of the session or tobe set up with a 1:1. Include the name of the workshop/event in your email.
UID:128039-21860082@events.umich.edu
URL:https://events.umich.edu/event/128039
CLASS:PUBLIC
STATUS:CONFIRMED
CATEGORIES:
LOCATION:
CONTACT:
END:VEVENT
BEGIN:VEVENT
DTSTAMP:20241021T112710
DTSTART;TZID=America/Detroit:20241104T140000
DTEND;TZID=America/Detroit:20241104T153000
SUMMARY:Lecture / Discussion:Making the Invisible Visible: Reducing Disparities Via Personally Relevant Interventions
DESCRIPTION:The mental health needs of people of color are largely invisible because they underutilize mental health services and are not the focus of research. These mental health utilization disparities have persisted for at least six decades. Neither evidence-based treatments nor culturally-adapted treatments adequately address the individual needs of people of color. People of color may not use mental health services because services are not: (a) personally relevant\; or (b) accessible. Our neuroscience data suggest that pragmatic\, problem-solving approaches are the most personally relevant for Asian Americans\, the least likely ethnic group to use mental health services. In this talk\, I discuss the development of the Mind Boba app to make psychotherapy more personally relevant and accessible to Asian Americans.\n\nAbout the speaker: Gordon Nagayama Hall is an Emeritus Professor of Psychology at the University of Oregon. Dr. Hall received his Ph.D. in clinical psychology from Fuller Theological Seminary. He started his career as a psychologist at Western State Hospital in Washington state. Dr. Hall later was a Professor of Psychology at Kent State University and Penn State University. He served as President of the American Psychological Association (APA) Society for the Psychological Study of Ethnic Minority Issues (Division 45) and as President of the Asian American Psychological Association. He was Editor of Cultural Diversity and Ethnic Minority Psychology. His textbook Multicultural Psychology is in its 4th Edition. Dr. Hall received the Lifetime Achievement Award from APA Division 45 and an APA Presidential Citation for his extraordinary leadership in advancing multicultural psychology. His research interests are in culture and mental health with a particular interest in Asian Americans. He currently has NIMH funding to develop the Mind Boba problem-solving therapy app for Asian Americans. Dr. Hall serves on the Board of Directors of the DisOrient Asian American Film Festival of Oregon.
UID:128121-21860200@events.umich.edu
URL:https://events.umich.edu/event/128121
CLASS:PUBLIC
STATUS:CONFIRMED
CATEGORIES:
LOCATION:East Hall - 4448
CONTACT:
END:VEVENT
END:VCALENDAR