BEGIN:VCALENDAR
VERSION:2.0
PRODID:-//UM//UM*Events//EN
CALSCALE:GREGORIAN
BEGIN:VTIMEZONE
TZID:America/Detroit
TZURL:http://tzurl.org/zoneinfo/America/Detroit
X-LIC-LOCATION:America/Detroit
BEGIN:DAYLIGHT
TZOFFSETFROM:-0500
TZOFFSETTO:-0400
TZNAME:EDT
DTSTART:20070311T020000
RRULE:FREQ=YEARLY;BYMONTH=3;BYDAY=2SU
END:DAYLIGHT
BEGIN:STANDARD
TZOFFSETFROM:-0400
TZOFFSETTO:-0500
TZNAME:EST
DTSTART:20071104T020000
RRULE:FREQ=YEARLY;BYMONTH=11;BYDAY=1SU
END:STANDARD
END:VTIMEZONE
BEGIN:VEVENT
DTSTAMP:20240825T001538
DTSTART;TZID=America/Detroit:20241104T140000
DTEND;TZID=America/Detroit:20241104T150000
SUMMARY:Livestream / Virtual:Rackham Consultation Services: Virtual Office Hours
DESCRIPTION:If you have a quick question or have a time sensitive matter\, attend the Rackham Consultation Services open office hours weekly on Monday and Wednesday from 2:00 to 3:00 p.m. via Zoom. In the interest of providing students as much privacy as possible\, you may spend a brief time in a waiting room if the resolution officer is engaged with another student. They will be with you as quickly as possible.\nJoin Zoom Meeting\nhttps://umich.zoom.us/j/99196090990\nMeeting ID: 991 9609 0990\nOne tap mobile\n+13092053325\,\,99196090990# US\n+13126266799\,\,99196090990# US (Chicago)\n—\nDial by your location\n\n+1 309 205 3325 US\n+1 312 626 6799 US (Chicago)\n+1 646 876 9923 US (New York)\n+1 646 931 3860 US\n+1 301 715 8592 US (Washington DC)\n+1 305 224 1968 US\n+1 386 347 5053 US\n+1 507 473 4847 US\n+1 564 217 2000 US\n+1 669 444 9171 US\n+1 669 900 6833 US (San Jose)\n+1 689 278 1000 US\n+1 719 359 4580 US\n+1 253 205 0468 US\n+1 253 215 8782 US (Tacoma)\n+1 346 248 7799 US (Houston)\n+1 360 209 5623 US\n+1 647 558 0588 Canada\n+1 778 907 2071 Canada\n+1 780 666 0144 Canada\n+1 204 272 7920 Canada\n+1 438 809 7799 Canada\n+1 587 328 1099 Canada\n+1 647 374 4685 Canada\n\nFind your local number: https://umich.zoom.us/u/aUy8Alk2\n—\nJoin by SIP\n\n99196090990@zoomcrc.com\n\nWe want to ensure full and equitable participation in our events. If an accommodation would promote your full participation in this event\, please follow the registration link to indicate your accommodation requirements. Please let us know as soon as possible in order to have adequate time\, preferably one week\, to arrange for your requested accommodations or an effective alternative.
UID:124852-21853945@events.umich.edu
URL:https://events.umich.edu/event/124852
CLASS:PUBLIC
STATUS:CONFIRMED
CATEGORIES:Graduate Students
LOCATION:Off Campus Location
CONTACT:
END:VEVENT
BEGIN:VEVENT
DTSTAMP:20241119T123210
DTSTART;TZID=America/Detroit:20241104T140000
DTEND;TZID=America/Detroit:20241104T143000
SUMMARY:Careers / Jobs:Stars Wanted! Start your Sales Career at Homes.com! 11/04/24
DESCRIPTION:You're invited to join us on November 4 at 1:00 PM EST to learn about our exciting Sales Associate opportunities with Homes.com in Richmond\, VA. Our team is leading the way in delivering top-tier products to the real estate industry\, allowing our sales reps to offer highly sought-after solutions and build strong client relationships\, revolutionizing the home search experience.Homes.com has quickly become the #2 residential listing site\, and we have our eyes set on #1. We're actively seeking top sales professionals nationwide to join us here in Richmond.Key highlights of the role include:\nCompetitive basesalary with uncapped earning potential\nClear paths for professional growth and advancement\nComprehensive training to support your success\nSupportive leadership and a collaborative work environment\nJob Description: https://costar.wd1.myworkdayjobs.com/Costar_Campus/job/Richmond---Semmes/Sales-Associate-I--Homes-Inside-Sales--December--24-and-May--25-Grads-_R34601\n\n Can't attend but still interested? Reach out to aclement@costar.com to learn more! 
UID:128523-21861108@events.umich.edu
URL:https://events.umich.edu/event/128523
CLASS:PUBLIC
STATUS:CONFIRMED
CATEGORIES:
LOCATION:
CONTACT:
END:VEVENT
BEGIN:VEVENT
DTSTAMP:20241119T123121
DTSTART;TZID=America/Detroit:20241104T140000
DTEND;TZID=America/Detroit:20241104T150000
SUMMARY:Careers / Jobs:Virtual Infosession with Third Bridge! (November 4th)
DESCRIPTION:Are you ready to launch 🚀 your career in the world of #consulting\, #privateequity\, #finance\, #sales\, #research\, #communications\, and beyond? Join me on Monday\, November 4th at 2 pm CT for a VirtualInformational as I introduce you to Third Bridge and our entry-level associate roles in New York 🍎 \, Los Angeles 🎥 \, and Dallas 🤠 
UID:123408-21850871@events.umich.edu
URL:https://events.umich.edu/event/123408
CLASS:PUBLIC
STATUS:CONFIRMED
CATEGORIES:
LOCATION:
CONTACT:
END:VEVENT
END:VCALENDAR