BEGIN:VCALENDAR
VERSION:2.0
PRODID:-//UM//UM*Events//EN
CALSCALE:GREGORIAN
BEGIN:VTIMEZONE
TZID:America/Detroit
TZURL:http://tzurl.org/zoneinfo/America/Detroit
X-LIC-LOCATION:America/Detroit
BEGIN:DAYLIGHT
TZOFFSETFROM:-0500
TZOFFSETTO:-0400
TZNAME:EDT
DTSTART:20070311T020000
RRULE:FREQ=YEARLY;BYMONTH=3;BYDAY=2SU
END:DAYLIGHT
BEGIN:STANDARD
TZOFFSETFROM:-0400
TZOFFSETTO:-0500
TZNAME:EST
DTSTART:20071104T020000
RRULE:FREQ=YEARLY;BYMONTH=11;BYDAY=1SU
END:STANDARD
END:VTIMEZONE
BEGIN:VEVENT
DTSTAMP:20240318T125736
DTSTART;TZID=America/Detroit:20240415T150000
DTEND;TZID=America/Detroit:20240415T160000
SUMMARY:Workshop / Seminar:HEP-Astro Seminar | Astrophysics and Cosmology with LIGO-Virgo-KAGRA’s Black Holes
DESCRIPTION:The LIGO-Virgo-KAGRA Collaboration has observed over 70 gravitational-wave sources to date\, including mergers between black holes\, neutron stars\, and mixed neutron star—black holes. These neutron stars and black holes connect many astrophysical puzzles\, including the lives and deaths of stars\, cosmic chemistry\, and the growth of structure. Furthermore\, gravitational waves from these mergers directly encode their distances\, allowing us to measure the expansion history of the Universe. I will describe some astrophysical and cosmological lessons from the latest gravitational-wave discoveries\, and discuss what we can expect to learn from future multi-messenger observations.
UID:120293-21844516@events.umich.edu
URL:https://events.umich.edu/event/120293
CLASS:PUBLIC
STATUS:CONFIRMED
CATEGORIES:Physics,Science
LOCATION:West Hall - 335
CONTACT:
END:VEVENT
BEGIN:VEVENT
DTSTAMP:20240414T161050
DTSTART;TZID=America/Detroit:20240415T150000
DTEND;TZID=America/Detroit:20240415T160000
SUMMARY:Workshop / Seminar:RTG NT: Motivic actions on the coherent cohomology of Siegel threefolds
DESCRIPTION:I'll give an introduction to the circle of ideas relating motivic cohomology to the cohomology of locally symmetric spaces\, and then discuss some joint work with Alex Horawa on the case of coherent cohomology of Siegel threefolds.
UID:117834-21840086@events.umich.edu
URL:https://events.umich.edu/event/117834
CLASS:PUBLIC
STATUS:CONFIRMED
CATEGORIES:Mathematics
LOCATION:East Hall - 3088
CONTACT:
END:VEVENT
BEGIN:VEVENT
DTSTAMP:20240123T080713
DTSTART;TZID=America/Detroit:20240415T160000
DTEND;TZID=America/Detroit:20240415T200000
SUMMARY:Social / Informal Gathering:Breakfast for Dinner
DESCRIPTION:Come join us for everyone's favorite dinner party! We will be serving your favorite breakfast food during the dinner service!
UID:109951-21839816@events.umich.edu
URL:https://events.umich.edu/event/109951
CLASS:PUBLIC
STATUS:CONFIRMED
CATEGORIES:Food,Meal
LOCATION:
CONTACT:
END:VEVENT
END:VCALENDAR