BEGIN:VCALENDAR
VERSION:2.0
PRODID:-//UM//UM*Events//EN
CALSCALE:GREGORIAN
BEGIN:VTIMEZONE
TZID:America/Detroit
TZURL:http://tzurl.org/zoneinfo/America/Detroit
X-LIC-LOCATION:America/Detroit
BEGIN:DAYLIGHT
TZOFFSETFROM:-0500
TZOFFSETTO:-0400
TZNAME:EDT
DTSTART:20070311T020000
RRULE:FREQ=YEARLY;BYMONTH=3;BYDAY=2SU
END:DAYLIGHT
BEGIN:STANDARD
TZOFFSETFROM:-0400
TZOFFSETTO:-0500
TZNAME:EST
DTSTART:20071104T020000
RRULE:FREQ=YEARLY;BYMONTH=11;BYDAY=1SU
END:STANDARD
END:VTIMEZONE
BEGIN:VEVENT
DTSTAMP:20241106T123217
DTSTART;TZID=America/Detroit:20241022T183000
DTEND;TZID=America/Detroit:20241022T193000
SUMMARY:Careers / Jobs:Championing Equity: Black Educator Initiative Showcase and Q&A
DESCRIPTION:Are you passionate about education and driven tomake a positive impact?&nbsp\;“I tell my students\,‘When you get these jobs that you have been so brilliantly trained for\, just remember that your real job is that if you are free\, you need to free somebody else. If you have some power\, then your job is to empower somebody else.’” - Toni MorrisonJoin City Teaching Alliance\, a national nonprofit preparing effective\, diverse educators for urban schools\, at Championing Equity: BlackEducators Initiative Showcase and Q&amp\;A. We're thrilled to celebrate the Black Educator Initiative (BEI)\, an exceptional program that's transforming the landscape of education by empowering aspiring Black educators and leaders in urban schools.&nbsp\;Register Here while spots are still available!&nbsp\;About BEI:Education is a powerfultool for a just\, equitable society\, yet schooling has often perpetuatedsystems that marginalize Black and Brown children. Educators are key to changing this. A strong Black teacher-force not only benefits Black and Brown students but positively impacts all students. The BEI is committed to creating this change.BEI provides financial and programmatic supportto current and aspiring Black educators\, including up to $5\,000 in grant funds and up to $25\,000 in tuition payments at American University. This initiative offers many great additional supports\, including affinity groups\, career development\, certification prep\, instructional development\, and social-emotional support.&nbsp\;What to Expect:BEI Showcase: Hear inspiring stories from current BEI fellows about their journeys and the impacts they're making.Q&amp\;A Session: Ask BEI experts and CTA residents about the program and application process.Empowering Discussions: Discover how Black educators advance social justice and equity in education.Networking:Connect with advocates for culturally responsive teaching and equity.Who’s Welcome: College seniors\, career changers\,teachers\, and anyone passionate about BEI’s mission and the role of Black teachers in urban education.&nbsp\;Whether you’re an educator\, student\, advocate\, or simply curious about BEI’s transformative work\, Championing Equity: Black Educators Initiative Showcase and Q&amp\;A offers an inspiring look at the essential role of Black educators in shaping the future of our communities and schools.
UID:127615-21859399@events.umich.edu
URL:https://events.umich.edu/event/127615
CLASS:PUBLIC
STATUS:CONFIRMED
CATEGORIES:
LOCATION:
CONTACT:
END:VEVENT
BEGIN:VEVENT
DTSTAMP:20240808T083106
DTSTART;TZID=America/Detroit:20241022T190000
DTEND;TZID=America/Detroit:20241022T210000
SUMMARY:Film Screening:*Miracolo a Milano* Film Screening
DESCRIPTION:An old woman finds a baby among the cauliflowers in her garden. She takes care of the orphan\, and calls him Totò. When she dies\, he is sent to an orphanage\, which he leaves as a teenager. When Totò goes out in the world\, he expects everyone to be open-hearted as himself\, but it isn’t so. Without belongings and a place to live\, he soon turns up among other homeless people\, living scattered in boxes and cement pipes on a vast\, barren field outside Milano. With his energy and enthusiasm Totò quickly engages the outcasts in transforming the place into a small shanty town. The eccentric misfits are turned into a warm-hearted community. But when the wealthy Mr. Mobbi buys the land he will try to get rid of the outcasts. Grand Prize of the Festival\, Cannes Film Festival\, 1951. Best Foreign Language Film\, New York Film Critics Circle Awards\, 1951. Top Foreign Films award\, National Board of Review\, USA\, 1951. Nominated for Best Film from any Source\, BAFTA Awards\, 1953.
UID:123522-21851024@events.umich.edu
URL:https://events.umich.edu/event/123522
CLASS:PUBLIC
STATUS:CONFIRMED
CATEGORIES:All Majors Welcome,arts,Communication And Media,comparative literature,Culture,Engaged Learning,European,film,film screening,Free,Global,History,In Person,intercultural,International,italian,Language,Languages,Media,Romance Languages And Literatures,Slavic,Storytelling,Undergraduate
LOCATION:North Quad - Space 2435
CONTACT:
END:VEVENT
BEGIN:VEVENT
DTSTAMP:20241106T123202
DTSTART;TZID=America/Detroit:20241022T190000
DTEND;TZID=America/Detroit:20241022T200000
SUMMARY:Careers / Jobs:Houlihan Lokey Investment Banking First Look: Diversity Information Session
DESCRIPTION:Houlihan Lokey is committed to cultivating a diverse and inclusive workplace where employees from all backgrounds feel valued and empowered. We celebrate the unique experiences and perspectives that strengthen our workforce and support initiatives that promote career growth and foster a sense of community within our organization.We invite you tojoin us for the Houlihan Lokey First Look: Diversity Information Session to learn how we are shaping the future of the finance industry by embracing diverse perspectives. This virtual event will feature speakers from our Corporate Finance and Financial Restructuring Groups who will provide valuable insights into our firm and the banking industry\, as well as information about internship opportunities. Sophomore students from underrepresented backgrounds who are interested in 2026 internship opportunities with Houlihan Lokey are encouraged to attend. Please confirm your attendance by registering via the link provided. The webinar link will be sent closer to the event.
UID:127030-21858317@events.umich.edu
URL:https://events.umich.edu/event/127030
CLASS:PUBLIC
STATUS:CONFIRMED
CATEGORIES:
LOCATION:
CONTACT:
END:VEVENT
END:VCALENDAR