BEGIN:VCALENDAR
VERSION:2.0
PRODID:-//UM//UM*Events//EN
CALSCALE:GREGORIAN
BEGIN:VTIMEZONE
TZID:America/Detroit
TZURL:http://tzurl.org/zoneinfo/America/Detroit
X-LIC-LOCATION:America/Detroit
BEGIN:DAYLIGHT
TZOFFSETFROM:-0500
TZOFFSETTO:-0400
TZNAME:EDT
DTSTART:20070311T020000
RRULE:FREQ=YEARLY;BYMONTH=3;BYDAY=2SU
END:DAYLIGHT
BEGIN:STANDARD
TZOFFSETFROM:-0400
TZOFFSETTO:-0500
TZNAME:EST
DTSTART:20071104T020000
RRULE:FREQ=YEARLY;BYMONTH=11;BYDAY=1SU
END:STANDARD
END:VTIMEZONE
BEGIN:VEVENT
DTSTAMP:20241113T000015
DTSTART;TZID=America/Detroit:20241113T183000
DTEND;TZID=America/Detroit:20241113T213000
SUMMARY:Exercise / Fitness:Swing Ann Arbor: Weekly Beginner Lesson + Social Dance
DESCRIPTION:Swing Ann Arbor hosts a beginner drop-in lesson and social dance every Wednesday! No partner or experience needed. You do not need to be student of the University of Michigan to attend. Just bring yourself and some comfy shoes! WHEN:\nJoin us Wednesdays from 6:30-7:30pm for a free beginner drop-in lesson\, followed by a social dance from 7:30-9:30pm!  COST:\nAdmission to beginner drop-in lesson: FREE!\nAdmission to social dance: $5 or FREE if you take the beginner drop-in lesson/are an SAA member Photo Credit: Samantha Kunz Photography
UID:126200-21856671@events.umich.edu
URL:https://events.umich.edu/event/126200
CLASS:PUBLIC
STATUS:CONFIRMED
CATEGORIES:
LOCATION:Vandenberg Room (2nd floor)
CONTACT:
END:VEVENT
BEGIN:VEVENT
DTSTAMP:20240911T142859
DTSTART;TZID=America/Detroit:20241113T190000
DTEND;TZID=America/Detroit:20241113T210000
SUMMARY:Film Screening:CSAS South Asian Film Series | Nocturnes
DESCRIPTION:Continuing our Spotlight On Women Directors series\, Nocturnes is a 2024 documentary on how moths convey a mysterious message.\n   \n   In the dense forests of the Eastern Himalayas\, moths are whispering something to us. In the dark of night\, two curious observers shine a light on this secret universe. Together\, they are on an expedition to decode these nocturnal creatures in a remote ecological “hot spot” on the border of India and Bhutan. The result is a deeply immersive film that transports audiences to a rarely-seen place and urges us all to look more closely at the hidden interconnections of the natural world. From directors Anirban Dutta and Anupama Srinivasan.\n   \n   This screening is FREE and open to the public (must reserve free tickets/RSVP in advance)\n   \nTickets: https://marquee-arts.org/event-page/tickets/?showingId=892704\n\nFilm website: https://www.sandboxfilms.org/films/nocturnes/\n   \n   *Made possible with the generous support of the Title VI grant from the U.S. Department of Education.*
UID:126211-21856726@events.umich.edu
URL:https://events.umich.edu/event/126211
CLASS:PUBLIC
STATUS:CONFIRMED
CATEGORIES:Center For South Asian Studies,India,Film,Ecology
LOCATION:Off Campus Location
CONTACT:
END:VEVENT
BEGIN:VEVENT
DTSTAMP:20241022T181706
DTSTART;TZID=America/Detroit:20241113T190000
DTEND;TZID=America/Detroit:20241113T210000
SUMMARY:Lecture / Discussion:Music Education Carrigan Lecture: Dr. Kristen Pellegrino
DESCRIPTION:Kristen Pellegrino\, recipient of the 2024 Christopher Kendall Award from the SMTD Alumni Board\, presents a guest lecture with support from the Department of Music Education.\n\nMany researchers have found connections between (a) developing a strong teacher identity\; (b) building connections among themselves\, their subject\, and their students\; and (c) positively affecting student learning and teacher satisfaction/ resilience. I will briefly share how I became interested in studying music teacher identity and my process of reframing how to study it. Then\, I will spend most of the session sharing what I have learned about college music education majors’ music teacher identity development\, and public-school string teachers’ and music teachers’ experiences\, beliefs\, teaching practices\, and identities. \n\nKRISTEN PELLEGRINO\, Professor of Music Education at the University of Texas at San Antonio and Past-President of American String Teachers Association\, has 40 scholarly publications. In addition to international and national research journal articles and book chapters\, Kristen was co-editor of two Oxford University Press books (2019\, 2023). She is currently co-authoring a third book\, Conway Publications’ *Journeys of Becoming and Being Music Teachers* (forthcoming\, 2025). Pellegrino’s degrees are from the University of Michigan (Ph.D. in music education\; M.M. in violin/chamber music performance) and the Eastman School of Music (B.M. in music education\; B.M. in violin performance).
UID:128130-21860209@events.umich.edu
URL:https://events.umich.edu/event/128130
CLASS:PUBLIC
STATUS:CONFIRMED
CATEGORIES:Alumni,Free,Lecture,Music,North Campus,Research,Scholarship,Talk
LOCATION:Earl V. Moore Building - Watkins Lecture Hall
CONTACT:
END:VEVENT
END:VCALENDAR