BEGIN:VCALENDAR
VERSION:2.0
PRODID:-//UM//UM*Events//EN
CALSCALE:GREGORIAN
BEGIN:VTIMEZONE
TZID:America/Detroit
TZURL:http://tzurl.org/zoneinfo/America/Detroit
X-LIC-LOCATION:America/Detroit
BEGIN:DAYLIGHT
TZOFFSETFROM:-0500
TZOFFSETTO:-0400
TZNAME:EDT
DTSTART:20070311T020000
RRULE:FREQ=YEARLY;BYMONTH=3;BYDAY=2SU
END:DAYLIGHT
BEGIN:STANDARD
TZOFFSETFROM:-0400
TZOFFSETTO:-0500
TZNAME:EST
DTSTART:20071104T020000
RRULE:FREQ=YEARLY;BYMONTH=11;BYDAY=1SU
END:STANDARD
END:VTIMEZONE
BEGIN:VEVENT
DTSTAMP:20240130T121547
DTSTART;TZID=America/Detroit:20240428T110000
DTEND;TZID=America/Detroit:20240428T200000
SUMMARY:Exhibition:Curriculum / Collection
DESCRIPTION:In Curriculum / Collection\, an incredible variety of University of Michigan courses take material form. Collected for each course are objects that address the nature of materiality\, time\, and human interaction in relation to our environments\, our wars\, our relationships\, and our eccentricities. \n \nWorking in collaboration with University faculty\, the works in this exhibition were selected for their capacity to provoke engagement with the guiding questions and themes of their specific courses\, while also offering students inspiration for research and art projects in their areas of study. The exhibition demonstrates some of the diverse and creative ways art plays a central role in learning across the disciplines. It also asks us to consider what we can learn from art objects across an infinite variety of specialties and subject matter.\n \nAs classes begin in Fall of 2021\, you’ll be able to use these pages to explore the collections designed for each course\, dive into the works themselves\, and hear from the professors and students about how they are engaging with art and objects in new ways. Who knows\, maybe you’ll learn something surprising along the way\, too.\n\nLead support for this exhibition is provided by the University of Michigan Office of the Provost\, Erica Gervais Pappendick and Ted Pappendick\, and the Eleanor Noyes Crumpacker Endowment Fund\, and the Oakriver Foundation.\n 
UID:86001-21795874@events.umich.edu
URL:https://events.umich.edu/event/86001
CLASS:PUBLIC
STATUS:CONFIRMED
CATEGORIES:Research,Museum,Nature,Art,UMMA,Exhibition,Faculty
LOCATION:Museum of Art - Eleanor Noyes Crumpacker Gallery
CONTACT:
END:VEVENT
BEGIN:VEVENT
DTSTAMP:20240418T155704
DTSTART;TZID=America/Detroit:20240428T110000
DTEND;TZID=America/Detroit:20240428T112000
SUMMARY:Presentation:Discovery Demo: How to Become a Fossil
DESCRIPTION:Explore how fossils form and what parts of animals can become fossilized. How old are the earliest fossils? How old does something have to be before it is considered a fossil? You’ll touch some real fossils\, learn the different types of fossil evidence\, and discover what is necessary to become a fossil. Finally\, we’ll discuss what kinds of things fossils can tell us\, and how fossil casts are made in the museum.
UID:121582-21846775@events.umich.edu
URL:https://events.umich.edu/event/121582
CLASS:PUBLIC
STATUS:CONFIRMED
CATEGORIES:Science,Natural Sciences,Museum,Free,Family
LOCATION:Museum of Natural History - Science Forum
CONTACT:
END:VEVENT
BEGIN:VEVENT
DTSTAMP:20240415T090503
DTSTART;TZID=America/Detroit:20240428T110000
DTEND;TZID=America/Detroit:20240428T200000
SUMMARY:Social / Informal Gathering:Study Days at Thayer
DESCRIPTION:Need a reliable study space as you finish the school year?! Join the public humanities interns at the Institute for the Humanities for Study Days. The third floor of the Thayer Academic Building will be a cozy\, productive vibe with a conference room and space to relax. Show up with your books\, laptops\, and study buddies! We will provide food\, beverages\, and a decompression room. The *Garden Repairs* exhibition by Susan Goethel Campbell will also be available for viewing in the Institute for the Humanities Gallery. The Thayer Academic Building will be open from 11 am to 8 pm on April 21 and April 28.
UID:121456-21846568@events.umich.edu
URL:https://events.umich.edu/event/121456
CLASS:PUBLIC
STATUS:CONFIRMED
CATEGORIES:Humanities,Undergraduate,Food
LOCATION:Thayer Academic Building - First floor and third floor
CONTACT:
END:VEVENT
END:VCALENDAR