BEGIN:VCALENDAR
VERSION:2.0
PRODID:-//UM//UM*Events//EN
CALSCALE:GREGORIAN
BEGIN:VTIMEZONE
TZID:America/Detroit
TZURL:http://tzurl.org/zoneinfo/America/Detroit
X-LIC-LOCATION:America/Detroit
BEGIN:DAYLIGHT
TZOFFSETFROM:-0500
TZOFFSETTO:-0400
TZNAME:EDT
DTSTART:20070311T020000
RRULE:FREQ=YEARLY;BYMONTH=3;BYDAY=2SU
END:DAYLIGHT
BEGIN:STANDARD
TZOFFSETFROM:-0400
TZOFFSETTO:-0500
TZNAME:EST
DTSTART:20071104T020000
RRULE:FREQ=YEARLY;BYMONTH=11;BYDAY=1SU
END:STANDARD
END:VTIMEZONE
BEGIN:VEVENT
DTSTAMP:20240130T121551
DTSTART;TZID=America/Detroit:20240428T110000
DTEND;TZID=America/Detroit:20240428T200000
SUMMARY:Exhibition:Unsettling Histories: Legacies of Slavery and Colonialism
DESCRIPTION:Organized as a response to the Museum’s recent acquisition of Titus Kaphar’s Flay (James Madison)\, this upcoming reinstallation of one of our most prominent gallery spaces forces us to grapple with our collection of European and American art\, 1650-1850.\n \nIn recent times\, growing public awareness of the continued reverberations of the legacy of slavery and colonization has challenged museums to examine the uncomfortable histories contained in our collections\, and challenged the public to probe the choices we make about those stories. Choices about which artists you see in our galleries\, choices about what relevant facts we share about the works\, and choices about what - out of an infinite number of options - we don’t say about them.\n \nPieces in this exhibition were made at a time when the world came to be shaped by the ideologies of colonial expansion and Western domination. And yet\, that history and the stories of those marginalized do not readily appear in the still lives and portraits on display here. By grappling with what is visible and what remains hidden\, we are forced to examine whose stories and histories are prioritized and why.  \n \nIn this online exhibition\, you can explore our efforts to deeply question the Museum’s collection and our own past complicity in favoring colonial voices. In the Museum gallery\, which will open in early 2021\, you’ll be able to experience the changes we’re making to the physical space to highlight a more honest version of European and American history. \n \nBy challenging our own practice\, and continuing to add to what we know and what we write about the works we display\, UMMA tells a more complex and more complete story of this nation - one that unsettles\, and fails to settle for\, simple narratives. \n \n“Invisible things are not necessarily ‘not there’.... Certain absences are so stressed\, so ornate\, so planned\, they call attention to themselves\; arrest us with intentionality and purpose\, like neighborhoods that are defined by the population held away from them.” \n \n— Toni Morrison\n\nLead support for Unsettling Histories: Legacies of Slavery and Colonialism is provided by the University of Michigan Office of the Provost\, the U-M Arts Initiative\, and the Susan and Richard Gutow Endowed Fund.\n 
UID:84303-21621272@events.umich.edu
URL:https://events.umich.edu/event/84303
CLASS:PUBLIC
STATUS:CONFIRMED
CATEGORIES:Art,UMMA,Museum,History,Exhibition,European
LOCATION:Museum of Art - European and American Decorative Art
CONTACT:
END:VEVENT
BEGIN:VEVENT
DTSTAMP:20240405T194239
DTSTART;TZID=America/Detroit:20240428T113000
DTEND;TZID=America/Detroit:20240428T121500
SUMMARY:Presentation:We Are Stars
DESCRIPTION:What are we made of? Where did it all come from? Explore the secrets of our cosmic chemistry and our explosive origins. Connect life on Earth to the evolution of the Universe by following the formation of hydrogen atoms to the synthesis of carbon\, and the molecules for life.\n\nThe state-of-the-art Planetarium & Dome Theater at the U-M Museum of Natural History transports visitors beyond distant stars and back in time from the comfort of reclining seats. Tickets $8. Tickets are available on the day of the show at the Museum Store.
UID:108577-21843379@events.umich.edu
URL:https://events.umich.edu/event/108577
CLASS:PUBLIC
STATUS:CONFIRMED
CATEGORIES:Astronomy,Museum,Natural Sciences,Science
LOCATION:Museum of Natural History
CONTACT:
END:VEVENT
BEGIN:VEVENT
DTSTAMP:20240314T121507
DTSTART;TZID=America/Detroit:20240428T120000
DTEND;TZID=America/Detroit:20240428T170000
SUMMARY:Exhibition:Anedged: 2024 MFA First Year Exhibition
DESCRIPTION:This annual celebration of the work of Stamps MFA in Art candidates features work by first-year students:\nHannah BuchananSam GriffithLaura MackieAndy MaticorenaCharlie ReynoldsDarren SpirkCress Thibodeaux\nThe 2024 MFA First Year Exhibition takes place March 22 - April 29\, 2024 at the Stamps Graduate/Faculty Studios\, 1919 Green Rd\, Ann Arbor\, MI 48109. \nJoin us at the public exhibition reception on Friday\, March 22 from 6-8pm (no RSVP required). Viewings March 23-April 29 are available by appointment only\; please contact Hannah Buchanan to arrange a visit.
UID:119889-21843774@events.umich.edu
URL:https://events.umich.edu/event/119889
CLASS:PUBLIC
STATUS:CONFIRMED
CATEGORIES:Art
LOCATION:Off Campus Location
CONTACT:
END:VEVENT
END:VCALENDAR