BEGIN:VCALENDAR
VERSION:2.0
PRODID:-//UM//UM*Events//EN
CALSCALE:GREGORIAN
BEGIN:VTIMEZONE
TZID:America/Detroit
TZURL:http://tzurl.org/zoneinfo/America/Detroit
X-LIC-LOCATION:America/Detroit
BEGIN:DAYLIGHT
TZOFFSETFROM:-0500
TZOFFSETTO:-0400
TZNAME:EDT
DTSTART:20070311T020000
RRULE:FREQ=YEARLY;BYMONTH=3;BYDAY=2SU
END:DAYLIGHT
BEGIN:STANDARD
TZOFFSETFROM:-0400
TZOFFSETTO:-0500
TZNAME:EST
DTSTART:20071104T020000
RRULE:FREQ=YEARLY;BYMONTH=11;BYDAY=1SU
END:STANDARD
END:VTIMEZONE
BEGIN:VEVENT
DTSTAMP:20240428T112013
DTSTART;TZID=America/Detroit:20240428T120000
DTEND;TZID=America/Detroit:20240428T140000
SUMMARY:Workshop / Seminar:UMPDA Postdoc Parent & Child event at the Ann Arbor Hands-On Museum (AAHOM)
DESCRIPTION:The UMPDA invites our parent postdoctoral fellows to come to explore the Ann Arbor Hands-On Museum (AAHOM) with your kids! The UMPDA will cover the cost of tickets and provide a light meal. 
UID:120989-21845639@events.umich.edu
URL:https://events.umich.edu/event/120989
CLASS:PUBLIC
STATUS:CONFIRMED
CATEGORIES:Sessions
LOCATION:Ann Arbor Hands on Museum, 220 E Ann St, Ann Arbor, MI 48104
CONTACT:
END:VEVENT
BEGIN:VEVENT
DTSTAMP:20240428T181518
DTSTART;TZID=America/Detroit:20240428T120000
SUMMARY:Sporting Event:Women's Tennis vs Ohio State
DESCRIPTION:Women's Tennis vs Ohio State
UID:121772-21847262@events.umich.edu
URL:https://events.umich.edu/event/121772
CLASS:PUBLIC
STATUS:CONFIRMED
CATEGORIES:Athletics,Athletics - Women's Tennis
LOCATION:Varsity Tennis Bldg
CONTACT:
END:VEVENT
BEGIN:VEVENT
DTSTAMP:20240405T195341
DTSTART;TZID=America/Detroit:20240428T123000
DTEND;TZID=America/Detroit:20240428T131500
SUMMARY:Presentation:Sky Tonight
DESCRIPTION:A live presentation on what to find in the sky tonight and for the coming few weeks. This presentation includes how to find the cardinal directions on your own with the North Star\, current and upcoming constellations\, visible planets\, a few deep sky objects depending on the season\, and other interesting astronomical visualizations. If you want to be able to look up from your own backyard and know what to look for\, this is the show for you. \n\nThe state-of-the-art Planetarium & Dome Theater at the U-M Museum of Natural History transports visitors beyond distant stars and back in time from the comfort of reclining seats. Tickets are $8 for adults\, seniors\, and children ages 3 & up. Babies without tickets may be required to sit on an adult's lap. Tickets are available the day of the show in the Museum Store. Schedule subject to change.
UID:116160-21843343@events.umich.edu
URL:https://events.umich.edu/event/116160
CLASS:PUBLIC
STATUS:CONFIRMED
CATEGORIES:Astronomy,Museum,natural history museum,Natural Sciences,Space
LOCATION:Museum of Natural History
CONTACT:
END:VEVENT
END:VCALENDAR