BEGIN:VCALENDAR
VERSION:2.0
PRODID:-//UM//UM*Events//EN
CALSCALE:GREGORIAN
BEGIN:VTIMEZONE
TZID:America/Detroit
TZURL:http://tzurl.org/zoneinfo/America/Detroit
X-LIC-LOCATION:America/Detroit
BEGIN:DAYLIGHT
TZOFFSETFROM:-0500
TZOFFSETTO:-0400
TZNAME:EDT
DTSTART:20070311T020000
RRULE:FREQ=YEARLY;BYMONTH=3;BYDAY=2SU
END:DAYLIGHT
BEGIN:STANDARD
TZOFFSETFROM:-0400
TZOFFSETTO:-0500
TZNAME:EST
DTSTART:20071104T020000
RRULE:FREQ=YEARLY;BYMONTH=11;BYDAY=1SU
END:STANDARD
END:VTIMEZONE
BEGIN:VEVENT
DTSTAMP:20240428T181518
DTSTART;TZID=America/Detroit:20240428T130000
SUMMARY:Sporting Event:Baseball vs Long Beach State
DESCRIPTION:Baseball vs Long Beach State
UID:121198-21845991@events.umich.edu
URL:https://events.umich.edu/event/121198
CLASS:PUBLIC
STATUS:CONFIRMED
CATEGORIES:Athletics,Athletics - Baseball
LOCATION:Ray Fisher Baseball Stadium
CONTACT:
END:VEVENT
BEGIN:VEVENT
DTSTAMP:20240131T124712
DTSTART;TZID=America/Detroit:20240428T130000
SUMMARY:Performance:Gemily
DESCRIPTION:Gemily (Gemini + Emily) is the folk music trio comprised of Laz and San Slomovits and San's daughter\, Emily. Laz and San\, as the highly popular family music duo\, Gemini\, have been performing throughout Michigan and the United States since 1973. Emily first began joining them on stage when she was just eight years old\, and increasingly since graduating from college in 2016. All three are versatile instrumentalists and excellent singers. Between them they play over a dozen instruments including guitars\, violins\, ukulele\, mandolin\, pennywhistle\, and a variety of folk flutes and hand percussion instruments.\nSan and Laz's recordings have won numerous awards from\, among others\, the American Library Association\, Parents' Choice Magazine\, National Parenting Publications\, the Wolf Trap Institute\, Early Childhood News and ASCAP. Emily\, who studied classical violin for over a decade\, is an excellent violinist in a variety of styles including classical\, jazz and folk. In addition to Gemini\, she has performed and recorded with Billy King\, Annie and Rod Capps\, Judy Banker\, Billy Brandt\, and Jill Jack.\n\nGemily's concerts feature a wide range of traditional and contemporary folk\, jazz and classical music. Their beautifully blended harmony vocals and exciting instrumental work breathe new life into a wide variety of American and international music\, from folk to classical\, klezmer to Broadway show tunes\, traditional to contemporary. Audiences thrill to their musicianship\, warmth\, humor and ease on stage.\n\nPlease visit https://mutotix.umich.edu/4669/4670 for more detail.
UID:118099-21840516@events.umich.edu
URL:https://events.umich.edu/event/118099
CLASS:PUBLIC
STATUS:CONFIRMED
CATEGORIES:Ark,Mutotix
LOCATION:GA - The Ark
CONTACT:
END:VEVENT
BEGIN:VEVENT
DTSTAMP:20240501T124242
DTSTART;TZID=America/Detroit:20240428T130000
DTEND;TZID=America/Detroit:20240428T133000
SUMMARY:Tours:Public Tour: Walking with Whales
DESCRIPTION:These free tours are about 30 minutes long and are limited to 15 people per tour group. Sign up for a tour at the Welcome Desk. Visitors of all ages are welcome. Times subject to change.\n\nDiscover a world where prehistoric whales had four limbs and walked on land! Learn about how whales and dolphins made the transition from land back into the water as you examine specimens that were distant or direct ancestors to modern cetaceans (whales\, dolphins\, and porpoises).
UID:116154-21846753@events.umich.edu
URL:https://events.umich.edu/event/116154
CLASS:PUBLIC
STATUS:CONFIRMED
CATEGORIES:Free,Museum,natural history museum,Natural Sciences,Tour
LOCATION:Museum of Natural History
CONTACT:
END:VEVENT
END:VCALENDAR