BEGIN:VCALENDAR
VERSION:2.0
PRODID:-//UM//UM*Events//EN
CALSCALE:GREGORIAN
BEGIN:VTIMEZONE
TZID:America/Detroit
TZURL:http://tzurl.org/zoneinfo/America/Detroit
X-LIC-LOCATION:America/Detroit
BEGIN:DAYLIGHT
TZOFFSETFROM:-0500
TZOFFSETTO:-0400
TZNAME:EDT
DTSTART:20070311T020000
RRULE:FREQ=YEARLY;BYMONTH=3;BYDAY=2SU
END:DAYLIGHT
BEGIN:STANDARD
TZOFFSETFROM:-0400
TZOFFSETTO:-0500
TZNAME:EST
DTSTART:20071104T020000
RRULE:FREQ=YEARLY;BYMONTH=11;BYDAY=1SU
END:STANDARD
END:VTIMEZONE
BEGIN:VEVENT
DTSTAMP:20240405T192228
DTSTART;TZID=America/Detroit:20240428T133000
DTEND;TZID=America/Detroit:20240428T141500
SUMMARY:Presentation:Sea Monsters
DESCRIPTION:Journey 80 million years back in time to an age when ferocious prehistoric creatures swarm\, hunt\, and fight for survival beneath the vast\, mysterious seas.\n\nStunning\, realistic imagery recreates the perilous underwater realm of two young\, dolphin-sized marine reptiles called Dolichorhynchops\, and their journey among the most awesome predators ever to prowl the oceans. This show interweaves  ground-breaking fossil finds with cutting-edge computer-generated animation. This is a pre-programmed show and does not include a live star talk.\n\nThe new Planetarium & Dome Theater has comfortable seating for 57 visitors and space for up to 9 wheelchairs\, easy-access seats\, and a limited number of hearing assistance devices. Tickets $8. Available one hour prior to show.
UID:69347-21843367@events.umich.edu
URL:https://events.umich.edu/event/69347
CLASS:PUBLIC
STATUS:CONFIRMED
CATEGORIES:Family,Museum,Natural Sciences,Science,Children
LOCATION:Museum of Natural History
CONTACT:
END:VEVENT
BEGIN:VEVENT
DTSTAMP:20240422T103655
DTSTART;TZID=America/Detroit:20240428T140000
DTEND;TZID=America/Detroit:20240428T200000
SUMMARY:Workshop / Seminar:IGR Study Days
DESCRIPTION:The IGR office will be open this weekend for finals! Come to study with us :)\n\nFeat. Poke Poke!
UID:121115-21845842@events.umich.edu
URL:https://events.umich.edu/event/121115
CLASS:PUBLIC
STATUS:CONFIRMED
CATEGORIES:Sessions
LOCATION:IGR Office
CONTACT:
END:VEVENT
BEGIN:VEVENT
DTSTAMP:20240313T064658
DTSTART;TZID=America/Detroit:20240428T140000
DTEND;TZID=America/Detroit:20240428T160000
SUMMARY:Other:Regenerate! Orchestra
DESCRIPTION:Part symphony\, part jam session\, part group meditation\, the Regenerate! Orchestra invites audiences to participate at whatever level is comfortable: performing with the group\, or sitting back and enjoying the results of a bespoke performance from musicians in our community.\n\nWant to to perform with the Regenerate! Orchestra?\n\nSign up to participate in three sound making workshops and two sonic immersion performances. All are invited to participate\, even if you’ve never played with others\, don’t read music\, or only know a few chords on the guitar. The experience is equally rewarding for experts and virtuosos. Regenerate! is about having fun\, connecting with your community\, and enjoying the simple pleasure of making music in a group.\n\nThis is a Pay-What-You-Wish event.
UID:120105-21844060@events.umich.edu
URL:https://events.umich.edu/event/120105
CLASS:PUBLIC
STATUS:CONFIRMED
CATEGORIES:university musical society,Mindfulness,music,orchestra,performance,Social,UMS,Well-being,Workshop,Ypsilanti,Ypsilanti Freighthouse,Art,Education,art and design,artists,artists and curators,arts,concert,Culture,Energy,Family,Free,In Person,Interdisciplinary
LOCATION:Off Campus Location
CONTACT:
END:VEVENT
END:VCALENDAR