BEGIN:VCALENDAR
VERSION:2.0
PRODID:-//UM//UM*Events//EN
CALSCALE:GREGORIAN
BEGIN:VTIMEZONE
TZID:America/Detroit
TZURL:http://tzurl.org/zoneinfo/America/Detroit
X-LIC-LOCATION:America/Detroit
BEGIN:DAYLIGHT
TZOFFSETFROM:-0500
TZOFFSETTO:-0400
TZNAME:EDT
DTSTART:20070311T020000
RRULE:FREQ=YEARLY;BYMONTH=3;BYDAY=2SU
END:DAYLIGHT
BEGIN:STANDARD
TZOFFSETFROM:-0400
TZOFFSETTO:-0500
TZNAME:EST
DTSTART:20071104T020000
RRULE:FREQ=YEARLY;BYMONTH=11;BYDAY=1SU
END:STANDARD
END:VTIMEZONE
BEGIN:VEVENT
DTSTAMP:20240405T195341
DTSTART;TZID=America/Detroit:20240428T143000
DTEND;TZID=America/Detroit:20240428T151500
SUMMARY:Presentation:Sky Tonight
DESCRIPTION:A live presentation on what to find in the sky tonight and for the coming few weeks. This presentation includes how to find the cardinal directions on your own with the North Star\, current and upcoming constellations\, visible planets\, a few deep sky objects depending on the season\, and other interesting astronomical visualizations. If you want to be able to look up from your own backyard and know what to look for\, this is the show for you. \n\nThe state-of-the-art Planetarium & Dome Theater at the U-M Museum of Natural History transports visitors beyond distant stars and back in time from the comfort of reclining seats. Tickets are $8 for adults\, seniors\, and children ages 3 & up. Babies without tickets may be required to sit on an adult's lap. Tickets are available the day of the show in the Museum Store. Schedule subject to change.
UID:116160-21845988@events.umich.edu
URL:https://events.umich.edu/event/116160
CLASS:PUBLIC
STATUS:CONFIRMED
CATEGORIES:Astronomy,Museum,natural history museum,Natural Sciences,Space
LOCATION:Museum of Natural History
CONTACT:
END:VEVENT
BEGIN:VEVENT
DTSTAMP:20240418T160052
DTSTART;TZID=America/Detroit:20240428T150000
DTEND;TZID=America/Detroit:20240428T152000
SUMMARY:Presentation:Discovery Demo: Life: How Do We Find It?
DESCRIPTION:Discover how scientists search for life on other planets. Through experimentation\, you will learn about the field of astrobiology and re-evaluate the definition of 'life'. Help to recreate an experiment from the Mars Viking Landers expedition. Join us for this interactive demonstration!
UID:121583-21846783@events.umich.edu
URL:https://events.umich.edu/event/121583
CLASS:PUBLIC
STATUS:CONFIRMED
CATEGORIES:Astronomy,Biology,Family,Free,Museum,Science
LOCATION:Museum of Natural History - Science Forum
CONTACT:
END:VEVENT
BEGIN:VEVENT
DTSTAMP:20240428T120010
DTSTART;TZID=America/Detroit:20240428T150000
DTEND;TZID=America/Detroit:20240428T170000
SUMMARY:Other:Karate Practice
DESCRIPTION:New members are always welcome. No previous experience is necessary. Just come to any practice. You may watch a practice or actually participate when you come. If you want to participate\, wear loose fitting clothes and no jewelry. In each practice\, after stretching and warm-up\, we work on drills (kihon)\, prearranged forms (kata)\, restricted sparring (kumite)\, and self-defense/throwing techniques.\"True karate is this: that in daily life one's mind and body be trained and developed in a spirit of humility\, and that in critical times\, one be devoted utterly to the cause of justice.\"\n--Gichin Funakoshi- Founder of Shotokan Karate Visit https://michigan.ska.org/ for more information
UID:121771-21847261@events.umich.edu
URL:https://events.umich.edu/event/121771
CLASS:PUBLIC
STATUS:CONFIRMED
CATEGORIES:
LOCATION:Gretchen&#039;s House
CONTACT:
END:VEVENT
END:VCALENDAR