BEGIN:VCALENDAR
VERSION:2.0
PRODID:-//UM//UM*Events//EN
CALSCALE:GREGORIAN
BEGIN:VTIMEZONE
TZID:America/Detroit
TZURL:http://tzurl.org/zoneinfo/America/Detroit
X-LIC-LOCATION:America/Detroit
BEGIN:DAYLIGHT
TZOFFSETFROM:-0500
TZOFFSETTO:-0400
TZNAME:EDT
DTSTART:20070311T020000
RRULE:FREQ=YEARLY;BYMONTH=3;BYDAY=2SU
END:DAYLIGHT
BEGIN:STANDARD
TZOFFSETFROM:-0400
TZOFFSETTO:-0500
TZNAME:EST
DTSTART:20071104T020000
RRULE:FREQ=YEARLY;BYMONTH=11;BYDAY=1SU
END:STANDARD
END:VTIMEZONE
BEGIN:VEVENT
DTSTAMP:20240411T181644
DTSTART;TZID=America/Detroit:20240428T160000
DTEND;TZID=America/Detroit:20240428T180000
SUMMARY:Performance:MYPAP Student Chamber Music Recital
DESCRIPTION:The Michigan Youth Performing Arts Pre-College presents its spring semester student chamber music recital. Ensembles include string trios\, piano trios\, and string quartets. We hope you can join us!\n\nPart of SMTD Engagement & Outreach\, the Michigan Youth Performing Arts Pre-College Program (MYPAP) provides world class instruction for elementary through high school violin\, viola\, cello and bass students. Learn more:\nhttps://smtd.umich.edu/engagement-outreach/youth-programs/pre-college-program/
UID:121381-21846481@events.umich.edu
URL:https://events.umich.edu/event/121381
CLASS:PUBLIC
STATUS:CONFIRMED
CATEGORIES:Free,Music,North Campus
LOCATION:Earl V. Moore Building - McIntosh Theatre
CONTACT:
END:VEVENT
BEGIN:VEVENT
DTSTAMP:20240428T180006
DTSTART;TZID=America/Detroit:20240428T163000
DTEND;TZID=America/Detroit:20240428T203000
SUMMARY:Other:NCBA Game vs. Adrian College (DH)
DESCRIPTION:Double Header vs. Adrian College. ***Game played at Nicolay Field in Adrian\, MI
UID:120641-21845084@events.umich.edu
URL:https://events.umich.edu/event/120641
CLASS:PUBLIC
STATUS:CONFIRMED
CATEGORIES:
LOCATION:Nicolay Field
CONTACT:
END:VEVENT
BEGIN:VEVENT
DTSTAMP:20240427T121518
DTSTART;TZID=America/Detroit:20240428T190000
SUMMARY:Sporting Event:Women's Tennis vs Big Ten Tournament
DESCRIPTION:Women's Tennis vs Big Ten Tournament
UID:121197-21845990@events.umich.edu
URL:https://events.umich.edu/event/121197
CLASS:PUBLIC
STATUS:CONFIRMED
CATEGORIES:Athletics,Athletics - Women's Tennis
LOCATION:Varsity Tennis Bldg
CONTACT:
END:VEVENT
END:VCALENDAR